BEGIN:VCALENDAR
VERSION:2.0
PRODID:-//Visit Puente Genil - ECPv6.15.20//NONSGML v1.0//EN
CALSCALE:GREGORIAN
METHOD:PUBLISH
X-ORIGINAL-URL:https://visitpuentegenil.es
X-WR-CALDESC:Eventos para Visit Puente Genil
REFRESH-INTERVAL;VALUE=DURATION:PT1H
X-Robots-Tag:noindex
X-PUBLISHED-TTL:PT1H
BEGIN:VTIMEZONE
TZID:Europe/Madrid
BEGIN:DAYLIGHT
TZOFFSETFROM:+0100
TZOFFSETTO:+0200
TZNAME:CEST
DTSTART:20190331T010000
END:DAYLIGHT
BEGIN:STANDARD
TZOFFSETFROM:+0200
TZOFFSETTO:+0100
TZNAME:CET
DTSTART:20191027T010000
END:STANDARD
BEGIN:DAYLIGHT
TZOFFSETFROM:+0100
TZOFFSETTO:+0200
TZNAME:CEST
DTSTART:20200329T010000
END:DAYLIGHT
BEGIN:STANDARD
TZOFFSETFROM:+0200
TZOFFSETTO:+0100
TZNAME:CET
DTSTART:20201025T010000
END:STANDARD
BEGIN:DAYLIGHT
TZOFFSETFROM:+0100
TZOFFSETTO:+0200
TZNAME:CEST
DTSTART:20210328T010000
END:DAYLIGHT
BEGIN:STANDARD
TZOFFSETFROM:+0200
TZOFFSETTO:+0100
TZNAME:CET
DTSTART:20211031T010000
END:STANDARD
END:VTIMEZONE
BEGIN:VEVENT
DTSTART;TZID=Europe/Madrid:20200708T080000
DTEND;TZID=Europe/Madrid:20200708T210000
DTSTAMP:20260424T084847
CREATED:20200706T091731Z
LAST-MODIFIED:20200706T092200Z
UID:8047-1594195200-1594242000@visitpuentegenil.es
SUMMARY:Pilates en Fuente Álamo
DESCRIPTION:Ejercita tu cuerpo y tu espíritu a través de esta práctica de ejercicios al aire libre y en un entorno privilegiado. \nMonitora: Sandra Gálvez Cabezas – Diplomada en fisioterapia por la Universidad de Sevilla y amplia experiencia en el ámbito de la salud y recuperación física. \nLas clases se realizarán los miércoles a las 21:00 h en sesión de 1 hora en el yacimiento arqueológico de Fuente Álamo en los días siguientes: \n\n    1º sesión: 8 julio\n    2º sesión: 15 julio\n    3º sesión: 22 julio\n    4º sesión: 29 julio\n\nExperiencia para mayores de 18 años. Aforo limitado: máximo 25 personas por grupo. \nPrecio: 5 € por persona y sesión. \nPrecauciones: Distanciamiento social de 1 metro y medio\, uso obligatorio de mascarillas\, respete los aforos permitidos\, limpieza de manos antes de la visita y no tocar nada en el recorrido. Siga\, en todo momento\, las indicaciones de carteles y del personal de atención al público. \nPara más información: 957 60 50 34 Ext.0380 / puentegenil@tuhistoria.org \nhttp://www.tuhistoria.org/experience/pilates-en-fuente-alamo/2020-07-08/
URL:https://visitpuentegenil.es/evento/pilates-en-fuente-alamo/
LOCATION:Villa Romana de Fuente Álamo\, cv-297 km 3\, Puente Genil\, Córdoba\, 14500\, España
CATEGORIES:Pilates
ATTACH;FMTTYPE=image/jpeg:https://visitpuentegenil.es/wp-content/uploads/2020/07/PILATES-FA-TW.jpg
ORGANIZER;CN="Puente Genil Tu historia":MAILTO:puentegenil@tuhistoria.org
END:VEVENT
END:VCALENDAR