BEGIN:VCALENDAR
VERSION:2.0
PRODID:-//Visit Puente Genil - ECPv6.15.20//NONSGML v1.0//EN
CALSCALE:GREGORIAN
METHOD:PUBLISH
X-ORIGINAL-URL:https://visitpuentegenil.es
X-WR-CALDESC:Eventos para Visit Puente Genil
REFRESH-INTERVAL;VALUE=DURATION:PT1H
X-Robots-Tag:noindex
X-PUBLISHED-TTL:PT1H
BEGIN:VTIMEZONE
TZID:Europe/Madrid
BEGIN:DAYLIGHT
TZOFFSETFROM:+0100
TZOFFSETTO:+0200
TZNAME:CEST
DTSTART:20190331T010000
END:DAYLIGHT
BEGIN:STANDARD
TZOFFSETFROM:+0200
TZOFFSETTO:+0100
TZNAME:CET
DTSTART:20191027T010000
END:STANDARD
BEGIN:DAYLIGHT
TZOFFSETFROM:+0100
TZOFFSETTO:+0200
TZNAME:CEST
DTSTART:20200329T010000
END:DAYLIGHT
BEGIN:STANDARD
TZOFFSETFROM:+0200
TZOFFSETTO:+0100
TZNAME:CET
DTSTART:20201025T010000
END:STANDARD
BEGIN:DAYLIGHT
TZOFFSETFROM:+0100
TZOFFSETTO:+0200
TZNAME:CEST
DTSTART:20210328T010000
END:DAYLIGHT
BEGIN:STANDARD
TZOFFSETFROM:+0200
TZOFFSETTO:+0100
TZNAME:CET
DTSTART:20211031T010000
END:STANDARD
END:VTIMEZONE
BEGIN:VEVENT
DTSTART;TZID=Europe/Madrid:20200709T100000
DTEND;TZID=Europe/Madrid:20200730T140000
DTSTAMP:20260424T084024
CREATED:20200706T095053Z
LAST-MODIFIED:20200706T121454Z
UID:8050-1594288800-1596117600@visitpuentegenil.es
SUMMARY:Talleres Educa Álamo
DESCRIPTION:Si aún no tienes planes para este verano\, Tu historia Puente Genil ofrece actividades matinales y talleres educativos para los más pequeños en los que podrán disfrutar de actividades lúdicas y conocer el yacimiento arqueológico «Villa Romana de Fuente Álamo» de una forma diferente. Diversión y aprendizaje irán de la mano para hacer de este verano una experiencia única. \n¡Qué nada te pare! \nLas actividades se realizarán de 10:00 h a 13:30 h en el yacimiento arqueológico «villa romana de Fuente Álamo» y  tendrán lugar los jueves en los días 9 julio\, 16 julio\, 23 julio y 30 julio \n\nAforo máximo 15 personas.\nPrecio: 10 € por persona y taller.\nDuración: 3 horas y 30 min.\n\nPrecauciones: Distanciamiento social de 1 metro y medio\, uso obligatorio de mascarillas\, respete los aforos permitidos\, limpieza de manos antes de la visita y no tocar nada en el recorrido. Siga\, en todo momento\, las indicaciones de carteles y del personal de atención al público. \nPara más información: 957 605 034 Ext. 0380 / puentegenil@tuhistoria.org
URL:https://visitpuentegenil.es/evento/talleres-educa-alamo/
LOCATION:Villa Romana de Fuente Álamo\, cv-297 km 3\, Puente Genil\, Córdoba\, 14500\, España
CATEGORIES:Actividades infantiles
ATTACH;FMTTYPE=image/jpeg:https://visitpuentegenil.es/wp-content/uploads/2020/07/08_talleres_educa_alamo.jpg
ORGANIZER;CN="Puente Genil Tu historia":MAILTO:puentegenil@tuhistoria.org
END:VEVENT
BEGIN:VEVENT
DTSTART;TZID=Europe/Madrid:20200724T210000
DTEND;TZID=Europe/Madrid:20200724T223000
DTSTAMP:20260424T084024
CREATED:20200721T124125Z
LAST-MODIFIED:20200721T124125Z
UID:8072-1595624400-1595629800@visitpuentegenil.es
SUMMARY:Charla divulgativa. V Centenario de la 1ª Vuelta al Mundo
DESCRIPTION:El Club Historia de Puente Genil organiza\, en conmemoración de los 500 años de la expedición de la primera vuelta al mundo\, gesta de Fernando de Magallanes y Juan Sebastián Elcano\, una charla divulgativa por parte de José Ángel Chacón de la Torre el viernes 24 de julio\, a las nueve de la noche\, en la Biblioteca Ricardo Molina.
URL:https://visitpuentegenil.es/evento/charla-divulgativa-v-centenario-de-la-1a-vuelta-al-mundo/
LOCATION:Biblioteca Pública Municipal Ricardo Molina\, Parque los Pinos\, s/n\, Puente Genil\, Córdoba\, 14500\, España
CATEGORIES:Charla
ATTACH;FMTTYPE=image/jpeg:https://visitpuentegenil.es/wp-content/uploads/2020/07/charla_v_centenario_vuelta_al_mundo.jpg
END:VEVENT
BEGIN:VEVENT
DTSTART;TZID=Europe/Madrid:20200724T213000
DTEND;TZID=Europe/Madrid:20200724T230000
DTSTAMP:20260424T084024
CREATED:20200707T123551Z
LAST-MODIFIED:20200707T123607Z
UID:8059-1595626200-1595631600@visitpuentegenil.es
SUMMARY:Fuente Álamo. Visita con Anfitrión «Dioses y hombres»
DESCRIPTION:Viaja dos mil años al pasado con nuestro guía anfitrión y descubre la villa romana de Fuente Álamo a través de la mitología romana. \nUn recorrido mágico en el que podrás conocer las criaturas de la mitología que habitaron en cada uno de sus rincones. Sus mosaicos son la huella que nos habla de una época y un momento de la historia en la que dioses y personajes mitológicos juegan un destacado papel en la vida diaria y creencias del hombre. \n\nDía: 24 de julio\nHora: 21:30 h / Duración estimada de la visita: 1 h 15 min.\nAforo máximo de 24 personas.\nPrecio: 5 € por persona.\n\nPrecauciones: Distanciamiento social de 1 metro y medio\, uso obligatorio de mascarillas\, respete los aforos permitidos\, limpieza de manos antes de la visita y no tocar nada en el recorrido. Siga\, en todo momento\, las indicaciones de carteles y del personal de atención al público. \nPara más información: 957 605 034 Ext. 0380 / puentegenil@tuhistoria.org
URL:https://visitpuentegenil.es/evento/fuente-alamo-visita-con-anfitrion-dioses-y-hombres/
LOCATION:Villa Romana de Fuente Álamo\, cv-297 km 3\, Puente Genil\, Córdoba\, 14500\, España
CATEGORIES:Visitas guiadas
ATTACH;FMTTYPE=image/jpeg:https://visitpuentegenil.es/wp-content/uploads/2020/07/24_j_dioses_y_hombres-scaled.jpg
ORGANIZER;CN="Puente Genil Tu historia":MAILTO:puentegenil@tuhistoria.org
END:VEVENT
END:VCALENDAR