BEGIN:VCALENDAR
VERSION:2.0
PRODID:-//Visit Puente Genil - ECPv6.15.20//NONSGML v1.0//EN
CALSCALE:GREGORIAN
METHOD:PUBLISH
X-WR-CALNAME:Visit Puente Genil
X-ORIGINAL-URL:https://visitpuentegenil.es
X-WR-CALDESC:Eventos para Visit Puente Genil
REFRESH-INTERVAL;VALUE=DURATION:PT1H
X-Robots-Tag:noindex
X-PUBLISHED-TTL:PT1H
BEGIN:VTIMEZONE
TZID:Europe/Madrid
BEGIN:DAYLIGHT
TZOFFSETFROM:+0100
TZOFFSETTO:+0200
TZNAME:CEST
DTSTART:20190331T010000
END:DAYLIGHT
BEGIN:STANDARD
TZOFFSETFROM:+0200
TZOFFSETTO:+0100
TZNAME:CET
DTSTART:20191027T010000
END:STANDARD
BEGIN:DAYLIGHT
TZOFFSETFROM:+0100
TZOFFSETTO:+0200
TZNAME:CEST
DTSTART:20200329T010000
END:DAYLIGHT
BEGIN:STANDARD
TZOFFSETFROM:+0200
TZOFFSETTO:+0100
TZNAME:CET
DTSTART:20201025T010000
END:STANDARD
BEGIN:DAYLIGHT
TZOFFSETFROM:+0100
TZOFFSETTO:+0200
TZNAME:CEST
DTSTART:20210328T010000
END:DAYLIGHT
BEGIN:STANDARD
TZOFFSETFROM:+0200
TZOFFSETTO:+0100
TZNAME:CET
DTSTART:20211031T010000
END:STANDARD
END:VTIMEZONE
BEGIN:VEVENT
DTSTART;TZID=Europe/Madrid:20200803T180000
DTEND;TZID=Europe/Madrid:20200806T220000
DTSTAMP:20260422T001746
CREATED:20200728T090752Z
LAST-MODIFIED:20200728T090752Z
UID:8079-1596477600-1596751200@visitpuentegenil.es
SUMMARY:Campaña de donación de sangre - agosto 2020.
DESCRIPTION:¡Ven a donar sangre! \nDel 3 al 6 de agosto\, de 18:00 a 22:0 horas\, en el salón de usos múltiples de la Biblioteca Ricardo Molina. \nNo acudas a donar si has tenido fiebre o afecciones respiratorias en los últimos 14 días\, si estás en cuarentena o si has estado con una persona enferma o has viajado a una zona de riesgo en el  último mes o zonas españolas de alta transmisión comunitaria en los últimos 14 días. \n¡Lávate las manos antes y guarda la distancia de seguridad en la sala de espera! ¡Evitad aglomeraciones! \nAvisa también si tienes fiebre o problemas respiratorios en los días posteriores a la donación al 957011100 \n¡Gracias por vuestra colaboración!
URL:https://visitpuentegenil.es/evento/campana-de-donacion-de-sangre-agosto-2020/
LOCATION:Biblioteca Pública Municipal Ricardo Molina\, Parque los Pinos\, s/n\, Puente Genil\, Córdoba\, 14500\, España
CATEGORIES:Donaciones
ATTACH;FMTTYPE=image/jpeg:https://visitpuentegenil.es/wp-content/uploads/2020/07/cartel_donaciones_copiar.jpg
END:VEVENT
END:VCALENDAR