BEGIN:VCALENDAR
VERSION:2.0
PRODID:-//Visit Puente Genil - ECPv6.15.20//NONSGML v1.0//EN
CALSCALE:GREGORIAN
METHOD:PUBLISH
X-WR-CALNAME:Visit Puente Genil
X-ORIGINAL-URL:https://visitpuentegenil.es
X-WR-CALDESC:Eventos para Visit Puente Genil
REFRESH-INTERVAL;VALUE=DURATION:PT1H
X-Robots-Tag:noindex
X-PUBLISHED-TTL:PT1H
BEGIN:VTIMEZONE
TZID:Europe/Madrid
BEGIN:DAYLIGHT
TZOFFSETFROM:+0100
TZOFFSETTO:+0200
TZNAME:CEST
DTSTART:20190331T010000
END:DAYLIGHT
BEGIN:STANDARD
TZOFFSETFROM:+0200
TZOFFSETTO:+0100
TZNAME:CET
DTSTART:20191027T010000
END:STANDARD
BEGIN:DAYLIGHT
TZOFFSETFROM:+0100
TZOFFSETTO:+0200
TZNAME:CEST
DTSTART:20200329T010000
END:DAYLIGHT
BEGIN:STANDARD
TZOFFSETFROM:+0200
TZOFFSETTO:+0100
TZNAME:CET
DTSTART:20201025T010000
END:STANDARD
BEGIN:DAYLIGHT
TZOFFSETFROM:+0100
TZOFFSETTO:+0200
TZNAME:CEST
DTSTART:20210328T010000
END:DAYLIGHT
BEGIN:STANDARD
TZOFFSETFROM:+0200
TZOFFSETTO:+0100
TZNAME:CET
DTSTART:20211031T010000
END:STANDARD
END:VTIMEZONE
BEGIN:VEVENT
DTSTART;TZID=Europe/Madrid:20200925T100000
DTEND;TZID=Europe/Madrid:20201024T140000
DTSTAMP:20260420T145343
CREATED:20200917T090719Z
LAST-MODIFIED:20200917T090834Z
UID:8156-1601028000-1603548000@visitpuentegenil.es
SUMMARY:Exposición "Kinesis Orgánica: Sensaciones Integradas"
DESCRIPTION:El pintor venezolano Víctor Parra presenta en la sala de exposiciones de la Biblioteca Ricardo Molina la exposición pictórica “Kinesis Orgánica: Sensaciones integradas.” \nLa exposición podrá visitarse del 25 de septiembre al 24 de octubre. El horario será de lunes a viernes\, de 10 a 14 horas y de 17 a 20 horas y los sábados de 10 a 14 horas. \nSegún su autor “la obra refleja ese apego a las experiencias y emociones de un mundo pasado que se queda impregnado en los recuerdos.” \nPuedes descargar más información aquí.
URL:https://visitpuentegenil.es/evento/exposicion-kinesis-organica-sensaciones-integradas/
LOCATION:Biblioteca Pública Municipal Ricardo Molina\, Parque los Pinos\, s/n\, Puente Genil\, Córdoba\, 14500\, España
CATEGORIES:Exposiciones,Pintura
ATTACH;FMTTYPE=image/jpeg:https://visitpuentegenil.es/wp-content/uploads/2020/09/25-exposicion_kinesis_organica.jpg
END:VEVENT
BEGIN:VEVENT
DTSTART;TZID=Europe/Madrid:20200930T180000
DTEND;TZID=Europe/Madrid:20201101T120000
DTSTAMP:20260420T145343
CREATED:20200930T110626Z
LAST-MODIFIED:20200930T110626Z
UID:8179-1601488800-1604232000@visitpuentegenil.es
SUMMARY:Un otoño romano.
DESCRIPTION:Se reanudan en octubre las actividades de la villa romana de Fuente Álamo organizadas  por Tu Historia bajo el lema “Un otoño romano”\, repitiendo las sesiones de yoga y la yincana teatralizada “El espíritu del dominus”\, yincana que cuenta con la novedad de la teatralización por todos los rincones a cargo del Aula de Teatro Municipal. \nAforo limitado. Siguiendo las medidas anticovid. Información y reservas: 675939533 / puentegenil@tuhistoria.org. \n\n\n\n\n 
URL:https://visitpuentegenil.es/evento/un-otono-romano/
LOCATION:Villa Romana de Fuente Álamo\, cv-297 km 3\, Puente Genil\, Córdoba\, 14500\, España
CATEGORIES:Actividades infantiles,Fotografía,Yoga
ATTACH;FMTTYPE=image/jpeg:https://visitpuentegenil.es/wp-content/uploads/2020/09/8-31-Un-otono-romano.jpg
ORGANIZER;CN="Puente Genil Tu historia":MAILTO:puentegenil@tuhistoria.org
END:VEVENT
BEGIN:VEVENT
DTSTART;TZID=Europe/Madrid:20201002T200000
DTEND;TZID=Europe/Madrid:20201002T220000
DTSTAMP:20260420T145343
CREATED:20200928T094230Z
LAST-MODIFIED:20200928T094230Z
UID:8170-1601668800-1601676000@visitpuentegenil.es
SUMMARY:Presentación del libro de poesía y fotografía “La belleza en la mujer que envejece.”
DESCRIPTION:Rafael Portal Moreno nos presenta su libro de poesía y fotografía “La belleza en la mujer que envejece.” Evento patrocinado por el programa El autor y su obra\, de la Fundación Juan Rejano. La cita será en la Biblioteca Ricardo Molina el viernes 2 de octubre\, a las 20:00 h. \nEl fotógrafo y escritor cordobés Rafael Portal Moreno\, Doctor en Psicología\, nos ofrece en su última publicación\, La belleza de la mujer que envejece (Ediciones Fedro\, 2019) un conjunto de fotografías\, acompañadas por un texto poético\, de mujeres de diferentes lugares del mundo fruto de su colaboración en proyectos sociales de Intervención Comunitaria en Latinoamérica y África\, donde refleja su vocación viajera que lo traslada allí donde le espera la imagen buscada. \nAlgo de magia hay en la atmósfera de todas estas páginas donde el lector se verá sorprendido por múltiples miradas de mujeres de diferentes culturas (Masái\, Bassa\, Kichwas\, Mandara\, Maká\, Gitana\, Avá guaraní\, Mbyá guaraní\, Magreb\, Europea\, Saharaui\, etc…).
URL:https://visitpuentegenil.es/evento/presentacion-del-libro-de-poesia-y-fotografia-la-belleza-en-la-mujer-que-envejece/
LOCATION:Biblioteca Pública Municipal Ricardo Molina\, Parque los Pinos\, s/n\, Puente Genil\, Córdoba\, 14500\, España
CATEGORIES:Presentaciones libros
ATTACH;FMTTYPE=image/jpeg:https://visitpuentegenil.es/wp-content/uploads/2020/09/2020-10-02_la_belleza_en_la_mujer_que_envejece.jpeg
ORGANIZER;CN="Fundaci%C3%B3n Juan Rejano":MAILTO:administracionfjr@aytopuentegenil.es
END:VEVENT
END:VCALENDAR