BEGIN:VCALENDAR
VERSION:2.0
PRODID:-//Visit Puente Genil - ECPv6.15.20//NONSGML v1.0//EN
CALSCALE:GREGORIAN
METHOD:PUBLISH
X-ORIGINAL-URL:https://visitpuentegenil.es
X-WR-CALDESC:Eventos para Visit Puente Genil
REFRESH-INTERVAL;VALUE=DURATION:PT1H
X-Robots-Tag:noindex
X-PUBLISHED-TTL:PT1H
BEGIN:VTIMEZONE
TZID:Europe/Madrid
BEGIN:DAYLIGHT
TZOFFSETFROM:+0100
TZOFFSETTO:+0200
TZNAME:CEST
DTSTART:20200329T010000
END:DAYLIGHT
BEGIN:STANDARD
TZOFFSETFROM:+0200
TZOFFSETTO:+0100
TZNAME:CET
DTSTART:20201025T010000
END:STANDARD
BEGIN:DAYLIGHT
TZOFFSETFROM:+0100
TZOFFSETTO:+0200
TZNAME:CEST
DTSTART:20210328T010000
END:DAYLIGHT
BEGIN:STANDARD
TZOFFSETFROM:+0200
TZOFFSETTO:+0100
TZNAME:CET
DTSTART:20211031T010000
END:STANDARD
BEGIN:DAYLIGHT
TZOFFSETFROM:+0100
TZOFFSETTO:+0200
TZNAME:CEST
DTSTART:20220327T010000
END:DAYLIGHT
BEGIN:STANDARD
TZOFFSETFROM:+0200
TZOFFSETTO:+0100
TZNAME:CET
DTSTART:20221030T010000
END:STANDARD
END:VTIMEZONE
BEGIN:VEVENT
DTSTART;TZID=Europe/Madrid:20210718T203000
DTEND;TZID=Europe/Madrid:20210718T230000
DTSTAMP:20260424T085412
CREATED:20210711T084041Z
LAST-MODIFIED:20210711T084747Z
UID:9200-1626640200-1626649200@visitpuentegenil.es
SUMMARY:El Alma del Dominus #NochesEnLaVilla2021
DESCRIPTION:El Alma del Dominus.\nUna yincana familiar donde los participantes tendrán que resolver una serie de enigmas\, acertijos y pruebas para encontrar el espíritu del dominus.  \nCon la ayuda de personajes teatralizados que se irán encontrando en esta aventura\, deberán escapar de la Villa en menos de 50 minutos no sin antes encontrar las monedas que le han sido robadas al señor de la villa para poder pagar al barquero y cruzar hacia el mundo de los muertos. \nVilla Romana de Fuente Alamo. Puente Genil \n 18 de julio  1º turno 20:30h / 2º turno 22:00h\n(Duración estimada: 50min)\nPlazas: 2 turnos de 8 personas máximo cada equipo.\nInscripción previa por equipos.
URL:https://visitpuentegenil.es/evento/el-alma-del-dominus-nochesenlavilla2021/
LOCATION:Villa Romana de Fuente Álamo\, cv-297 km 3\, Puente Genil\, Córdoba\, 14500\, España
ATTACH;FMTTYPE=image/jpeg:https://visitpuentegenil.es/wp-content/uploads/2021/07/EL-ALMA-DEL-DOMINUS-18-DE-JULIO-2.jpg
END:VEVENT
END:VCALENDAR