BEGIN:VCALENDAR
VERSION:2.0
PRODID:-//Visit Puente Genil - ECPv6.15.20//NONSGML v1.0//EN
CALSCALE:GREGORIAN
METHOD:PUBLISH
X-WR-CALNAME:Visit Puente Genil
X-ORIGINAL-URL:https://visitpuentegenil.es
X-WR-CALDESC:Eventos para Visit Puente Genil
REFRESH-INTERVAL;VALUE=DURATION:PT1H
X-Robots-Tag:noindex
X-PUBLISHED-TTL:PT1H
BEGIN:VTIMEZONE
TZID:Europe/Madrid
BEGIN:DAYLIGHT
TZOFFSETFROM:+0100
TZOFFSETTO:+0200
TZNAME:CEST
DTSTART:20200329T010000
END:DAYLIGHT
BEGIN:STANDARD
TZOFFSETFROM:+0200
TZOFFSETTO:+0100
TZNAME:CET
DTSTART:20201025T010000
END:STANDARD
BEGIN:DAYLIGHT
TZOFFSETFROM:+0100
TZOFFSETTO:+0200
TZNAME:CEST
DTSTART:20210328T010000
END:DAYLIGHT
BEGIN:STANDARD
TZOFFSETFROM:+0200
TZOFFSETTO:+0100
TZNAME:CET
DTSTART:20211031T010000
END:STANDARD
BEGIN:DAYLIGHT
TZOFFSETFROM:+0100
TZOFFSETTO:+0200
TZNAME:CEST
DTSTART:20220327T010000
END:DAYLIGHT
BEGIN:STANDARD
TZOFFSETFROM:+0200
TZOFFSETTO:+0100
TZNAME:CET
DTSTART:20221030T010000
END:STANDARD
END:VTIMEZONE
BEGIN:VEVENT
DTSTART;TZID=Europe/Madrid:20210719T100000
DTEND;TZID=Europe/Madrid:20210723T140000
DTSTAMP:20260424T085425
CREATED:20210703T095208Z
LAST-MODIFIED:20210703T095208Z
UID:9142-1626688800-1627048800@visitpuentegenil.es
SUMMARY:TALLER DE REALIZACIÓN AUDIOVISUAL PARA JÓVENES.
DESCRIPTION:La Asociación Cortogenial de Puente Genil comunica que tendrá lugar\, entre el 19 y el 23 DE JULIO en horario de 10 a 14h.\, el TALLER DE REALIZACIÓN AUDIOVISUAL PARA JÓVENES.\n\nPlazo de inscripción: del 2 al 15 de julio\, con la publicación el día 16 de la lista de admitidos. \n\n 📩 Lugar de inscripción: Google Forms\, en el siguiente enlace\nTALLER DE REALIZACIÓN AUDIOVISUAL\n CONTENIDOS DEL TALLER \nA. PARTE TEÓRICA\n– Cultura audiovisual y lenguaje audiovisual (tipos de planos y encuadre\, etc.).\n– Procesos de producción del audiovisual (guion\, preproducción\, producción y postproducción).\n– Estructura narrativa de un videoclip\, un corto\, un anuncio de TV\, un programa de TV y una película.\n– Elaboración de un guion (idea – storytelling – argumento – estructura – escaleta – tratamiento – guion final – guion técnico)\n– Técnicas y herramientas para la realización audiovisual a través de un teléfono móvil o una cámara amateur.\nB. PARTE PRÁCTICA\n– Prácticas de fotografía para entender las nociones básicas de composición.\n– Grabación y montaje de vídeos con móviles o cámaras de una duración de 30 segundos (formato de TikTok e Instagram)\n– Grabación\, montaje y visionado de cortometrajes de 1 minuto.\n \nPara DUDAS Y MÁS INFORMACIÓN contactar con nosotros en la dirección info@cortogenial.org
URL:https://visitpuentegenil.es/evento/taller-de-realizacion-audiovisual-para-jovenes/
LOCATION:Córdoba
CATEGORIES:Audiovisual,Talleres
ORGANIZER;CN="Cortogenial":MAILTO:info@cortogenial.org
END:VEVENT
BEGIN:VEVENT
DTSTART;TZID=Europe/Madrid:20210719T210000
DTEND;TZID=Europe/Madrid:20210721T210000
DTSTAMP:20260424T085425
CREATED:20210719T092840Z
LAST-MODIFIED:20210719T092840Z
UID:9208-1626728400-1626901200@visitpuentegenil.es
SUMMARY:Yoga🧘‍♂️ en la #VillaRomanadeFuenteÁlamo
DESCRIPTION:Vuelve el #Yoga 🧘‍♂️ a la Villa Romana de Fuente Alamo. Puente Genil  \n📅 19 y 21 de julio ⏰ 21:00 h \nPrecio: 5 € por sesión. \n¡Reserva tu plaza! 675 93 95 33 / puentegenil@tuhistoria.org \nActividad siguiendo protocolos covid19.
URL:https://visitpuentegenil.es/evento/yoga%f0%9f%a7%98%e2%80%8d%e2%99%82%ef%b8%8f-en-la-villaromanadefuentealamo/
LOCATION:Villa Romana de Fuente Álamo\, cv-297 km 3\, Puente Genil\, Córdoba\, 14500\, España
CATEGORIES:Yoga
ATTACH;FMTTYPE=image/jpeg:https://visitpuentegenil.es/wp-content/uploads/2021/07/yoga-19-y-21.jpg
ORGANIZER;CN="Puente Genil Tu historia":MAILTO:puentegenil@tuhistoria.org
END:VEVENT
END:VCALENDAR