BEGIN:VCALENDAR
VERSION:2.0
PRODID:-//Visit Puente Genil - ECPv6.15.20//NONSGML v1.0//EN
CALSCALE:GREGORIAN
METHOD:PUBLISH
X-WR-CALNAME:Visit Puente Genil
X-ORIGINAL-URL:https://visitpuentegenil.es
X-WR-CALDESC:Eventos para Visit Puente Genil
REFRESH-INTERVAL;VALUE=DURATION:PT1H
X-Robots-Tag:noindex
X-PUBLISHED-TTL:PT1H
BEGIN:VTIMEZONE
TZID:Europe/Madrid
BEGIN:DAYLIGHT
TZOFFSETFROM:+0100
TZOFFSETTO:+0200
TZNAME:CEST
DTSTART:20200329T010000
END:DAYLIGHT
BEGIN:STANDARD
TZOFFSETFROM:+0200
TZOFFSETTO:+0100
TZNAME:CET
DTSTART:20201025T010000
END:STANDARD
BEGIN:DAYLIGHT
TZOFFSETFROM:+0100
TZOFFSETTO:+0200
TZNAME:CEST
DTSTART:20210328T010000
END:DAYLIGHT
BEGIN:STANDARD
TZOFFSETFROM:+0200
TZOFFSETTO:+0100
TZNAME:CET
DTSTART:20211031T010000
END:STANDARD
BEGIN:DAYLIGHT
TZOFFSETFROM:+0100
TZOFFSETTO:+0200
TZNAME:CEST
DTSTART:20220327T010000
END:DAYLIGHT
BEGIN:STANDARD
TZOFFSETFROM:+0200
TZOFFSETTO:+0100
TZNAME:CET
DTSTART:20221030T010000
END:STANDARD
END:VTIMEZONE
BEGIN:VEVENT
DTSTART;TZID=Europe/Madrid:20210719T100000
DTEND;TZID=Europe/Madrid:20210723T140000
DTSTAMP:20260424T085424
CREATED:20210703T095208Z
LAST-MODIFIED:20210703T095208Z
UID:9142-1626688800-1627048800@visitpuentegenil.es
SUMMARY:TALLER DE REALIZACIÓN AUDIOVISUAL PARA JÓVENES.
DESCRIPTION:La Asociación Cortogenial de Puente Genil comunica que tendrá lugar\, entre el 19 y el 23 DE JULIO en horario de 10 a 14h.\, el TALLER DE REALIZACIÓN AUDIOVISUAL PARA JÓVENES.\n\nPlazo de inscripción: del 2 al 15 de julio\, con la publicación el día 16 de la lista de admitidos. \n\n 📩 Lugar de inscripción: Google Forms\, en el siguiente enlace\nTALLER DE REALIZACIÓN AUDIOVISUAL\n CONTENIDOS DEL TALLER \nA. PARTE TEÓRICA\n– Cultura audiovisual y lenguaje audiovisual (tipos de planos y encuadre\, etc.).\n– Procesos de producción del audiovisual (guion\, preproducción\, producción y postproducción).\n– Estructura narrativa de un videoclip\, un corto\, un anuncio de TV\, un programa de TV y una película.\n– Elaboración de un guion (idea – storytelling – argumento – estructura – escaleta – tratamiento – guion final – guion técnico)\n– Técnicas y herramientas para la realización audiovisual a través de un teléfono móvil o una cámara amateur.\nB. PARTE PRÁCTICA\n– Prácticas de fotografía para entender las nociones básicas de composición.\n– Grabación y montaje de vídeos con móviles o cámaras de una duración de 30 segundos (formato de TikTok e Instagram)\n– Grabación\, montaje y visionado de cortometrajes de 1 minuto.\n \nPara DUDAS Y MÁS INFORMACIÓN contactar con nosotros en la dirección info@cortogenial.org
URL:https://visitpuentegenil.es/evento/taller-de-realizacion-audiovisual-para-jovenes/
LOCATION:Córdoba
CATEGORIES:Audiovisual,Talleres
ORGANIZER;CN="Cortogenial":MAILTO:info@cortogenial.org
END:VEVENT
BEGIN:VEVENT
DTSTART;TZID=Europe/Madrid:20210723T213000
DTEND;TZID=Europe/Madrid:20210723T230000
DTSTAMP:20260424T085424
CREATED:20210719T100606Z
LAST-MODIFIED:20210719T100639Z
UID:9215-1627075800-1627081200@visitpuentegenil.es
SUMMARY:La noche de los Investigadores en #NochesEnLaVilla2021.
DESCRIPTION:La noche de los Investigadores \nUna visita guiada con arqueólogos en la que descubriremos cómo la arqueología desentraña los secretos del pasado. En un recorrido especial por el yacimiento\, visitaremos por primera vez sus almacenes donde conoceremos el proceso de investigación. \n📅 Viernes\, 23 de julio ⏰ 21:30h (Duración estimada: 1h 15min) \nInscripción previa 👉 aquí
URL:https://visitpuentegenil.es/evento/la-noche-de-los-investigadores-en-nochesenlavilla2021/
LOCATION:Villa Romana de Fuente Álamo\, cv-297 km 3\, Puente Genil\, Córdoba\, 14500\, España
CATEGORIES:Arqueología,Visitas guiadas
ATTACH;FMTTYPE=image/jpeg:https://visitpuentegenil.es/wp-content/uploads/2021/07/la-noche-de-los-investigadores-viernes-ig.jpg
END:VEVENT
BEGIN:VEVENT
DTSTART;TZID=Europe/Madrid:20210723T220000
DTEND;TZID=Europe/Madrid:20210724T010000
DTSTAMP:20260424T085424
CREATED:20210720T130710Z
LAST-MODIFIED:20210720T130710Z
UID:9239-1627077600-1627088400@visitpuentegenil.es
SUMMARY:¡Vuelve la Zarzuela a #PuenteGenil!
DESCRIPTION:El Ayuntamiento de Puente Genil organiza el XIV Festival Lírico que contará con la representación de la zarzuela “La canción del olvido.” \nLa compañía Teatro Lírico Andaluz la pondrá en escena  el viernes 23 de julio a las 22:00h en  el Auditorio del Parque de los Pinos . \nVenta anticipada de entradas a 10 euros en el teléfono 617 453061 o en la propia taquilla una hora antes del inicio del espectáculo. \nActividad con las medidas preventivas Covid-19
URL:https://visitpuentegenil.es/evento/vuelve-la-zarzuela-a-puentegenil/
LOCATION:Auditorio “Hermanos Cuenca”\, Calle Pinar de San Rafael\, s/n\, Puente Genil\, Córdoba\, 14500\, España
ATTACH;FMTTYPE=image/jpeg:https://visitpuentegenil.es/wp-content/uploads/2021/07/zarzuela_cartel.jpeg
END:VEVENT
END:VCALENDAR