BEGIN:VCALENDAR
VERSION:2.0
PRODID:-//Visit Puente Genil - ECPv6.15.20//NONSGML v1.0//EN
CALSCALE:GREGORIAN
METHOD:PUBLISH
X-WR-CALNAME:Visit Puente Genil
X-ORIGINAL-URL:https://visitpuentegenil.es
X-WR-CALDESC:Eventos para Visit Puente Genil
REFRESH-INTERVAL;VALUE=DURATION:PT1H
X-Robots-Tag:noindex
X-PUBLISHED-TTL:PT1H
BEGIN:VTIMEZONE
TZID:Europe/Madrid
BEGIN:DAYLIGHT
TZOFFSETFROM:+0100
TZOFFSETTO:+0200
TZNAME:CEST
DTSTART:20200329T010000
END:DAYLIGHT
BEGIN:STANDARD
TZOFFSETFROM:+0200
TZOFFSETTO:+0100
TZNAME:CET
DTSTART:20201025T010000
END:STANDARD
BEGIN:DAYLIGHT
TZOFFSETFROM:+0100
TZOFFSETTO:+0200
TZNAME:CEST
DTSTART:20210328T010000
END:DAYLIGHT
BEGIN:STANDARD
TZOFFSETFROM:+0200
TZOFFSETTO:+0100
TZNAME:CET
DTSTART:20211031T010000
END:STANDARD
BEGIN:DAYLIGHT
TZOFFSETFROM:+0100
TZOFFSETTO:+0200
TZNAME:CEST
DTSTART:20220327T010000
END:DAYLIGHT
BEGIN:STANDARD
TZOFFSETFROM:+0200
TZOFFSETTO:+0100
TZNAME:CET
DTSTART:20221030T010000
END:STANDARD
END:VTIMEZONE
BEGIN:VEVENT
DTSTART;TZID=Europe/Madrid:20210807T080000
DTEND;TZID=Europe/Madrid:20210807T150000
DTSTAMP:20260424T073327
CREATED:20210729T094708Z
LAST-MODIFIED:20210729T094708Z
UID:9297-1628323200-1628348400@visitpuentegenil.es
SUMMARY:GAN PLUS- Piragüismo. Senda del Agua
DESCRIPTION:Agosto. GAN PLUS Piragüismo. Senda del Agua (Cuevas de S Marcos. Málaga). \nEl Grupo de Actividades en la Naturaleza (GAN) nos propone un actividad ideal para quienes desean iniciarse en esta modalidad deportiva. Un recorrido de unos 6 kilómetros\, aprovechando el cauce del río Genil a su paso por Cuevas Altas en la Sierra Norte de Málaga. Iniciaremos el descenso en el embarcadero situado en el Puente de la Barca\, junto a Cuevas Altas\, adentrándonos en un magnífico bosque en galería que nos acompañará en gran parte del recorrido\, mientras disfrutamos de algún que otro rápido y las buenas vistas que se nos ofrecen desde el interior del río\, antes de concluir nuestro descenso en las inmediaciones de Cuevas Bajas. \n Sábado\, 7 Agosto.  8:30 h. Salida desde la nave del club\, en el polígono del Huerto del Francés. \nLas inscripciones las podéis realizar a través del responsable de piragüismo del club\, Javi Pérez (691951427; E-mail: jpq16lin@hotmail.com)\, del 19 de julio al 4 de agosto (socios una semana antes)\, con un precio de 10 € para socios y 12 € para no socios (fianza 5 €). Los participantes comparten los gastos de desplazamiento en coche\, siendo imprescindible dominar la natación y haberse iniciado previamente en piragüismo en aguas tranquilas.
URL:https://visitpuentegenil.es/evento/gan-plus-piraguismo-senda-del-agua/
LOCATION:Río Genil\, Puente Genil\, España
CATEGORIES:Naturaleza,Piragüismo
ATTACH;FMTTYPE=image/jpeg:https://visitpuentegenil.es/wp-content/uploads/2021/07/7AGO-GAN-Piraguismo.jpg
ORGANIZER;CN="Grupo Actividades en la Naturaleza":MAILTO:elbuzondelgan@gmail.com
END:VEVENT
BEGIN:VEVENT
DTSTART;TZID=Europe/Madrid:20210807T213000
DTEND;TZID=Europe/Madrid:20210807T230000
DTSTAMP:20260424T073327
CREATED:20210731T100014Z
LAST-MODIFIED:20210731T100014Z
UID:9319-1628371800-1628377200@visitpuentegenil.es
SUMMARY:El divino placer del agua. #NochesEnLaVilla2021
DESCRIPTION:El Divino Placer del Agua en la Villa Romana de Fuente Álamo.\nUna visita guiada temática\, enfocada especialmente en la zona del Balneum\, con sus piscinas escalonadas y estanques. \nSabrás por qué el agua era un elemento sagrado para los romanos y como se reflejó en el yacimiento.\n📅 Sábado\, 7 de agosto. ⏰21:30h (Duración: 1h 30min) \nPlazas limitadas.\nInscripción previa aquí.
URL:https://visitpuentegenil.es/evento/el-divino-placer-del-agua-nochesenlavilla2021/
LOCATION:Villa Romana de Fuente Álamo\, cv-297 km 3\, Puente Genil\, Córdoba\, 14500\, España
CATEGORIES:Arqueología,Visitas guiadas
ATTACH;FMTTYPE=image/jpeg:https://visitpuentegenil.es/wp-content/uploads/2021/07/7-eL-DIVINO-PLACER-DEL-AGUA-FB.jpg
END:VEVENT
BEGIN:VEVENT
DTSTART;TZID=Europe/Madrid:20210807T220000
DTEND;TZID=Europe/Madrid:20210808T003000
DTSTAMP:20260424T073327
CREATED:20210728T090303Z
LAST-MODIFIED:20210728T090303Z
UID:9290-1628373600-1628382600@visitpuentegenil.es
SUMMARY:"Nueva York en un poeta\," Alberto San Juan en el Teatro Circo.
DESCRIPTION:Contracultura trae “Nueva York en un poeta” al #TeatroCirco. \nAlberto San Juan pondrá en escena un espectáculo que aúna poesía\, prosa y jazz en vivo. Una obra que sumerge a la audiencia en el universo lorquiano y recrea la conferencia impartida por el poeta durante la gira de presentación de su libro Poeta en Nueva York. \nEl aforo del recinto está limitado para cumplir con las medidas sanitarias y de distanciamiento. El espectáculo cuenta con el patrocinio del programa Somos Pueblo – Somos Cultura de la Diputación de Córdoba. \n Sábado\, 7 de agosto.  22:00 h. \nEntradas 10 € aquí
URL:https://visitpuentegenil.es/evento/nueva-york-en-un-poeta-alberto-san-juan-en-el-teatro-circo/
LOCATION:Teatro Circo\, C/ Jesús\, s/n\, Puente Genil\, Córdoba\, 14500\, España
CATEGORIES:Música,Poesía,Teatro
ATTACH;FMTTYPE=image/jpeg:https://visitpuentegenil.es/wp-content/uploads/2021/07/7-Alberto-San-Juan.jpeg
ORGANIZER;CN="Contracultura":MAILTO:asociacioncontracultura@gmail.com
END:VEVENT
END:VCALENDAR