BEGIN:VCALENDAR
VERSION:2.0
PRODID:-//Visit Puente Genil - ECPv6.15.20//NONSGML v1.0//EN
CALSCALE:GREGORIAN
METHOD:PUBLISH
X-ORIGINAL-URL:https://visitpuentegenil.es
X-WR-CALDESC:Eventos para Visit Puente Genil
REFRESH-INTERVAL;VALUE=DURATION:PT1H
X-Robots-Tag:noindex
X-PUBLISHED-TTL:PT1H
BEGIN:VTIMEZONE
TZID:Europe/Madrid
BEGIN:DAYLIGHT
TZOFFSETFROM:+0100
TZOFFSETTO:+0200
TZNAME:CEST
DTSTART:20200329T010000
END:DAYLIGHT
BEGIN:STANDARD
TZOFFSETFROM:+0200
TZOFFSETTO:+0100
TZNAME:CET
DTSTART:20201025T010000
END:STANDARD
BEGIN:DAYLIGHT
TZOFFSETFROM:+0100
TZOFFSETTO:+0200
TZNAME:CEST
DTSTART:20210328T010000
END:DAYLIGHT
BEGIN:STANDARD
TZOFFSETFROM:+0200
TZOFFSETTO:+0100
TZNAME:CET
DTSTART:20211031T010000
END:STANDARD
BEGIN:DAYLIGHT
TZOFFSETFROM:+0100
TZOFFSETTO:+0200
TZNAME:CEST
DTSTART:20220327T010000
END:DAYLIGHT
BEGIN:STANDARD
TZOFFSETFROM:+0200
TZOFFSETTO:+0100
TZNAME:CET
DTSTART:20221030T010000
END:STANDARD
END:VTIMEZONE
BEGIN:VEVENT
DTSTART;TZID=Europe/Madrid:20210821T210000
DTEND;TZID=Europe/Madrid:20210821T233000
DTSTAMP:20260424T073315
CREATED:20210727T103952Z
LAST-MODIFIED:20210727T103952Z
UID:9266-1629579600-1629588600@visitpuentegenil.es
SUMMARY:I Ruta Solidaria de Senderismo Nocturno a Castillo Anzur.
DESCRIPTION:¿Te gusta andar? ¿Quieres hacer deporte mientras colaboras con una causa benéfica? \nLas delegaciones de Deportes y Cooperación al Desarrollo del Ayuntamiento de Puente Genil\, colaboran con la Escuela Provincial de Atletismo Miguel Ríos para organizar la I Ruta Solidaria de Senderismo Nocturno a Castillo Anzur\,a  beneficio de Disgenil. \nCon salida desde el P.I. de San Pancracio a las 21:00h\, la ruta será de dificultad media-baja. \nLa inscripción [5€] puede hacerse a través del siguiente enlace: \nhttps://sportmaniacs.com/es/services/inscription/i-ruta-de-senderismo-nocturno-a-anzur. \nTambién está disponible el dorsal 0 para todas aquellas personas que quieran colaborar. Habrá avituallamiento y camiseta conmemorativa para todos los participantes. \n 
URL:https://visitpuentegenil.es/evento/i-ruta-solidaria-de-senderismo-nocturno-a-castillo-anzur/
LOCATION:Córdoba
CATEGORIES:Deportes,Senderismo
ATTACH;FMTTYPE=image/jpeg:https://visitpuentegenil.es/wp-content/uploads/2021/07/21-ruta_solidaria_castillo_anzur-scaled.jpg
END:VEVENT
BEGIN:VEVENT
DTSTART;TZID=Europe/Madrid:20210821T223000
DTEND;TZID=Europe/Madrid:20210821T233000
DTSTAMP:20260424T073315
CREATED:20210815T090746Z
LAST-MODIFIED:20210815T091150Z
UID:9422-1629585000-1629588600@visitpuentegenil.es
SUMMARY:Cuento de Pocas Luces  en #NochesEnLaVilla2021
DESCRIPTION:Cuento de Pocas Luces en la Villa Romana de Fuente Álamo.\n Sábado\, 21 de agosto.  22:30 h.\nViajaremos con el Teatro de Sombras “A la Sombrita” por los orígenes de los cuentos y del teatro de sombras\, desde el descubrimiento del fuego hasta la invención del cine.\nLas sombras de manos\, corporales\, objetos y títeres articulados tomarán vida al caer la noche y todo a vista de público.\nPlazas limitadas.\n Inscripciones aquí 
URL:https://visitpuentegenil.es/evento/cuento-de-pocas-luces-en-nochesenlavilla2021-2/
LOCATION:Villa Romana de Fuente Álamo\, cv-297 km 3\, Puente Genil\, Córdoba\, 14500\, España
CATEGORIES:Teatro
ATTACH;FMTTYPE=image/jpeg:https://visitpuentegenil.es/wp-content/uploads/2021/08/Cuento-pocas-luces-fcb.jpg
END:VEVENT
BEGIN:VEVENT
DTSTART;TZID=Europe/Madrid:20210821T230000
DTEND;TZID=Europe/Madrid:20210822T010000
DTSTAMP:20260424T073315
CREATED:20210804T114640Z
LAST-MODIFIED:20210810T111004Z
UID:9330-1629586800-1629594000@visitpuentegenil.es
SUMMARY:"A toda costa" Comandante Lara & Cía
DESCRIPTION:El show cómico “A toda costa”\, del Comandante Lara & Cía llega a #PuenteGenil. \nLuis Lara es un conocido humorista cuya presencia suele ser habitual en diferentes medios de comunicación\, gozando de un gran cariño por parte del público. \nSe trata de una de las actividades enmarcada en la programación cultural que el Ayuntamiento ha dispuesto para la semana del 14 al 21 de agosto\, coincidiendo con la Feria Real. \nVenta anticipada en comandantelara.com  \nPrecio: 18€ (más gastos de gestión) \n 
URL:https://visitpuentegenil.es/evento/a-toda-costa-comandante-lara-cia/
LOCATION:Caseta Municipal Puente Genil\, Puente Genil\, Córdoba\, 14500
CATEGORIES:Comedia,Feria Real
ATTACH;FMTTYPE=image/jpeg:https://visitpuentegenil.es/wp-content/uploads/2021/08/comandante_lara.jpg
END:VEVENT
END:VCALENDAR