BEGIN:VCALENDAR
VERSION:2.0
PRODID:-//Visit Puente Genil - ECPv6.15.20//NONSGML v1.0//EN
CALSCALE:GREGORIAN
METHOD:PUBLISH
X-ORIGINAL-URL:https://visitpuentegenil.es
X-WR-CALDESC:Eventos para Visit Puente Genil
REFRESH-INTERVAL;VALUE=DURATION:PT1H
X-Robots-Tag:noindex
X-PUBLISHED-TTL:PT1H
BEGIN:VTIMEZONE
TZID:Europe/Madrid
BEGIN:DAYLIGHT
TZOFFSETFROM:+0100
TZOFFSETTO:+0200
TZNAME:CEST
DTSTART:20200329T010000
END:DAYLIGHT
BEGIN:STANDARD
TZOFFSETFROM:+0200
TZOFFSETTO:+0100
TZNAME:CET
DTSTART:20201025T010000
END:STANDARD
BEGIN:DAYLIGHT
TZOFFSETFROM:+0100
TZOFFSETTO:+0200
TZNAME:CEST
DTSTART:20210328T010000
END:DAYLIGHT
BEGIN:STANDARD
TZOFFSETFROM:+0200
TZOFFSETTO:+0100
TZNAME:CET
DTSTART:20211031T010000
END:STANDARD
BEGIN:DAYLIGHT
TZOFFSETFROM:+0100
TZOFFSETTO:+0200
TZNAME:CEST
DTSTART:20220327T010000
END:DAYLIGHT
BEGIN:STANDARD
TZOFFSETFROM:+0200
TZOFFSETTO:+0100
TZNAME:CET
DTSTART:20221030T010000
END:STANDARD
END:VTIMEZONE
BEGIN:VEVENT
DTSTART;TZID=Europe/Madrid:20210826T110000
DTEND;TZID=Europe/Madrid:20210826T130000
DTSTAMP:20260424T073311
CREATED:20210820T095418Z
LAST-MODIFIED:20210820T102655Z
UID:9429-1629975600-1629982800@visitpuentegenil.es
SUMMARY:Taller del Hortus romano. #NochesenlaVilla2021
DESCRIPTION:¡Conviértete en un pequeño agricultor en el hortus de la Villa Romana de Fuente Álamo.! Vas a conocer los diferentes usos de las plantas y construir tu propio herbario. Además tendrás tu propia colección de plantas de la villa y descubrirás la mitología de cada una de ellas. \nNo te lo puedes perder. 😉 \n📅 Jueves\, 26 de agosto ⏰ 11:00h (duración estimada 2h.) \nPlazas limitadas. \n Inscripciones aquí. \n 
URL:https://visitpuentegenil.es/evento/taller-del-hortus-romano-nochesenlavilla2021/
LOCATION:Villa Romana de Fuente Álamo\, cv-297 km 3\, Puente Genil\, Córdoba\, 14500\, España
ATTACH;FMTTYPE=image/jpeg:https://visitpuentegenil.es/wp-content/uploads/2021/08/26-IG-NEV-TALLER-HORTUS.jpg
END:VEVENT
END:VCALENDAR