BEGIN:VCALENDAR
VERSION:2.0
PRODID:-//Visit Puente Genil - ECPv6.15.20//NONSGML v1.0//EN
CALSCALE:GREGORIAN
METHOD:PUBLISH
X-WR-CALNAME:Visit Puente Genil
X-ORIGINAL-URL:https://visitpuentegenil.es
X-WR-CALDESC:Eventos para Visit Puente Genil
REFRESH-INTERVAL;VALUE=DURATION:PT1H
X-Robots-Tag:noindex
X-PUBLISHED-TTL:PT1H
BEGIN:VTIMEZONE
TZID:Europe/Madrid
BEGIN:DAYLIGHT
TZOFFSETFROM:+0100
TZOFFSETTO:+0200
TZNAME:CEST
DTSTART:20210328T010000
END:DAYLIGHT
BEGIN:STANDARD
TZOFFSETFROM:+0200
TZOFFSETTO:+0100
TZNAME:CET
DTSTART:20211031T010000
END:STANDARD
BEGIN:DAYLIGHT
TZOFFSETFROM:+0100
TZOFFSETTO:+0200
TZNAME:CEST
DTSTART:20220327T010000
END:DAYLIGHT
BEGIN:STANDARD
TZOFFSETFROM:+0200
TZOFFSETTO:+0100
TZNAME:CET
DTSTART:20221030T010000
END:STANDARD
BEGIN:DAYLIGHT
TZOFFSETFROM:+0100
TZOFFSETTO:+0200
TZNAME:CEST
DTSTART:20230326T010000
END:DAYLIGHT
BEGIN:STANDARD
TZOFFSETFROM:+0200
TZOFFSETTO:+0100
TZNAME:CET
DTSTART:20231029T010000
END:STANDARD
END:VTIMEZONE
BEGIN:VEVENT
DTSTART;TZID=Europe/Madrid:20220131T170000
DTEND;TZID=Europe/Madrid:20220204T210000
DTSTAMP:20260423T082712
CREATED:20220126T123850Z
LAST-MODIFIED:20220126T123850Z
UID:9992-1643648400-1644008400@visitpuentegenil.es
SUMMARY:🩸 ¡Vuelven las donaciones de sangre a #PuenteGenil! 💉
DESCRIPTION:El Centro Regional de Transfusión\, Tejidos y Células llevará a cabo en Puente Genil una nueva campaña de donación de sangre la próxima semana. \n\n🩸 ¡Vuelven las donaciones de sangre a #PuenteGenil! 💉\n\n\n📍 Biblioteca Ricardo Molina \n\n\n📅 31 de enero\, y 1\,2\,3 y 4 de febrero\n\n\n⏰ de 17:00 a 21:00h.\n\n\n#DonaSangreDejaHuella
URL:https://visitpuentegenil.es/evento/%f0%9f%a9%b8-vuelven-las-donaciones-de-sangre-a-puentegenil-%f0%9f%92%89/
LOCATION:Biblioteca Pública Municipal Ricardo Molina\, Parque los Pinos\, s/n\, Puente Genil\, Córdoba\, 14500\, España
CATEGORIES:Donaciones
ATTACH;FMTTYPE=image/jpeg:https://visitpuentegenil.es/wp-content/uploads/2022/01/dONACIONES-sANGRE.jpeg
END:VEVENT
END:VCALENDAR