BEGIN:VCALENDAR
VERSION:2.0
PRODID:-//Visit Puente Genil - ECPv6.15.20//NONSGML v1.0//EN
CALSCALE:GREGORIAN
METHOD:PUBLISH
X-WR-CALNAME:Visit Puente Genil
X-ORIGINAL-URL:https://visitpuentegenil.es
X-WR-CALDESC:Eventos para Visit Puente Genil
REFRESH-INTERVAL;VALUE=DURATION:PT1H
X-Robots-Tag:noindex
X-PUBLISHED-TTL:PT1H
BEGIN:VTIMEZONE
TZID:Europe/Madrid
BEGIN:DAYLIGHT
TZOFFSETFROM:+0100
TZOFFSETTO:+0200
TZNAME:CEST
DTSTART:20210328T010000
END:DAYLIGHT
BEGIN:STANDARD
TZOFFSETFROM:+0200
TZOFFSETTO:+0100
TZNAME:CET
DTSTART:20211031T010000
END:STANDARD
BEGIN:DAYLIGHT
TZOFFSETFROM:+0100
TZOFFSETTO:+0200
TZNAME:CEST
DTSTART:20220327T010000
END:DAYLIGHT
BEGIN:STANDARD
TZOFFSETFROM:+0200
TZOFFSETTO:+0100
TZNAME:CET
DTSTART:20221030T010000
END:STANDARD
BEGIN:DAYLIGHT
TZOFFSETFROM:+0100
TZOFFSETTO:+0200
TZNAME:CEST
DTSTART:20230326T010000
END:DAYLIGHT
BEGIN:STANDARD
TZOFFSETFROM:+0200
TZOFFSETTO:+0100
TZNAME:CET
DTSTART:20231029T010000
END:STANDARD
END:VTIMEZONE
BEGIN:VEVENT
DTSTART;TZID=Europe/Madrid:20220421T200000
DTEND;TZID=Europe/Madrid:20220513T210000
DTSTAMP:20260423T005700
CREATED:20220419T111109Z
LAST-MODIFIED:20220419T115038Z
UID:10257-1650571200-1652475600@visitpuentegenil.es
SUMMARY:ALÉTHEIA.
DESCRIPTION:Exposición del artista pontanés Chema Rodríguez. cuyo proyecto se fundamenta en la transmisión y proyección de los lenguajes del arte contemporáneo\, desde un prisma pedagógico. \nPor otro lado\, en consonancia con su trasfondo ideológico\, se pretenden utilizar estos lenguajes para concienciar al público en general y al más joven en particular\, sobre las consecuencias del deterioro de nuestro espacio natural por medio de la acción del ser humano \n📌 Casa de la Cultura Alcalde Manuel Baena Jiménez \n🔖Inauguración: 📅Jueves\, 21 de abril\, ⏰20:00h \nAbierta al público: Del 22 de abril al 13 de mayo en horario de 18:00 a 21:00 (días laborables) \nMESA REDONDA “ARTE\, CONCIENCIA Y REFLEXIÓN” \n📅Sábado\, 30 de abril\, ⏰ 19:00h \nEn torno a los lenguajes contemporáneos que contará con la participación de los ponentes Rubén Serrano (historiador del arte)\, Mario Guixeras (comisario independiente) y el propio Chema Rodríguez donde se tratarán temas como el ecosistema del arte contemporáneo\, la figura del artista como testigo de su tiempo y el arte como instrumento de reflexión social. \nEntrada libre hasta completar aforo. Actividad con las medidas preventivas Covid-19 vigentes
URL:https://visitpuentegenil.es/evento/aletheia/
LOCATION:Casa de la Cultura\, Calle Cruz del Estudiante\, 35\, Puente Genil\, Córdoba\, 14500\, España
CATEGORIES:Arte,Audiovisual,Exposiciones,Naturaleza
ATTACH;FMTTYPE=image/jpeg:https://visitpuentegenil.es/wp-content/uploads/2022/04/aletheia22_-_cartel_page-0001.jpg
END:VEVENT
BEGIN:VEVENT
DTSTART;TZID=Europe/Madrid:20220424T093000
DTEND;TZID=Europe/Madrid:20220425T010000
DTSTAMP:20260423T005700
CREATED:20220422T131506Z
LAST-MODIFIED:20220422T131506Z
UID:10299-1650792600-1650848400@visitpuentegenil.es
SUMMARY:V Velá de San Marcos
DESCRIPTION:La Hermandad de San Marcos organiza la V Velá de San Marcos.\nVuelve el Trio Marfil estará amenizando la fiesta en el Parque Príncipe de Asturias – El Garrotalillo.\n\n\n👇🏼👇🏼👇🏼\n\n\n📆 #Domingo 24 de Abril 2022\n\n\n📍Parque del Garrotalillo\n\n\n⏰ A partir de las 21:30 horas\n\n\n \n\n\n🎵🎶 𝒮𝓊𝑒𝓃𝒶𝓃 𝒸𝑜𝒽𝑒𝓉𝑒𝓈 𝒹𝑒 𝒻𝒾𝑒𝓈𝓉𝒶 𝑒𝓁 𝟤𝟧 𝒹𝑒 𝒜𝒷𝓇𝒾𝓁… ¿Te suena? \n\n\n#ganasdebailar
URL:https://visitpuentegenil.es/evento/v-vela-de-san-marcos/
LOCATION:Parque Príncipe de Asturias – El Garrotalillo.\, Puente Genil\, Córdoba\, 14500\, España
CATEGORIES:Cofradías,Música,Romería
ATTACH;FMTTYPE=image/jpeg:https://visitpuentegenil.es/wp-content/uploads/2022/04/24-Vela-de-San-Marcos.jpeg
END:VEVENT
BEGIN:VEVENT
DTSTART;TZID=Europe/Madrid:20220425T123000
DTEND;TZID=Europe/Madrid:20220425T140000
DTSTAMP:20260423T005700
CREATED:20220421T122530Z
LAST-MODIFIED:20220421T122530Z
UID:10285-1650889800-1650895200@visitpuentegenil.es
SUMMARY:Visita con anfitrión en la Villa Romana de Fuente Álamo.
DESCRIPTION:¡Ven a #PuenteGenil y descubre la Villa Romana de Fuente Álamo en una visita con anfitrión! \n¡Haz tu reserva ya y viaja al pasado!  \n+ Info: 957 60 50 34 Ext. 380 / 675 93 95 33.
URL:https://visitpuentegenil.es/evento/visita-con-anfitrion-en-la-villa-romana-de-fuente-alamo-2/
LOCATION:Villa Romana de Fuente Álamo\, cv-297 km 3\, Puente Genil\, Córdoba\, 14500\, España
ATTACH;FMTTYPE=image/png:https://visitpuentegenil.es/wp-content/uploads/2022/04/Visita-Anfitrion-25-Abril-.png
ORGANIZER;CN="Puente Genil Tu historia":MAILTO:puentegenil@tuhistoria.org
END:VEVENT
END:VCALENDAR