BEGIN:VCALENDAR
VERSION:2.0
PRODID:-//Visit Puente Genil - ECPv6.15.20//NONSGML v1.0//EN
CALSCALE:GREGORIAN
METHOD:PUBLISH
X-WR-CALNAME:Visit Puente Genil
X-ORIGINAL-URL:https://visitpuentegenil.es
X-WR-CALDESC:Eventos para Visit Puente Genil
REFRESH-INTERVAL;VALUE=DURATION:PT1H
X-Robots-Tag:noindex
X-PUBLISHED-TTL:PT1H
BEGIN:VTIMEZONE
TZID:Europe/Madrid
BEGIN:DAYLIGHT
TZOFFSETFROM:+0100
TZOFFSETTO:+0200
TZNAME:CEST
DTSTART:20210328T010000
END:DAYLIGHT
BEGIN:STANDARD
TZOFFSETFROM:+0200
TZOFFSETTO:+0100
TZNAME:CET
DTSTART:20211031T010000
END:STANDARD
BEGIN:DAYLIGHT
TZOFFSETFROM:+0100
TZOFFSETTO:+0200
TZNAME:CEST
DTSTART:20220327T010000
END:DAYLIGHT
BEGIN:STANDARD
TZOFFSETFROM:+0200
TZOFFSETTO:+0100
TZNAME:CET
DTSTART:20221030T010000
END:STANDARD
BEGIN:DAYLIGHT
TZOFFSETFROM:+0100
TZOFFSETTO:+0200
TZNAME:CEST
DTSTART:20230326T010000
END:DAYLIGHT
BEGIN:STANDARD
TZOFFSETFROM:+0200
TZOFFSETTO:+0100
TZNAME:CET
DTSTART:20231029T010000
END:STANDARD
END:VTIMEZONE
BEGIN:VEVENT
DTSTART;TZID=Europe/Madrid:20220530T100000
DTEND;TZID=Europe/Madrid:20220615T140000
DTSTAMP:20260423T105043
CREATED:20220601T102011Z
LAST-MODIFIED:20220601T102011Z
UID:10458-1653904800-1655301600@visitpuentegenil.es
SUMMARY:Exposición Huellas de Hispania.
DESCRIPTION:La exposición se compone de 44 fotografías. 34 de ellas pertenecen al I Concurso de Fotografía Arqueológica “Arqueofoto 2021\,” organizado por la Asociación Nacional de Red de Cooperación de Villas Romanas de Hispania y el periódico gijónes El Comercio.  \nPuente Genil\, a través de la Villa Romana de Fuente Álamo\, ostenta la presidencia y secretaría de la asociación. \nLa exposición se completa con 10 imágenes de las villas que forman parte de “Villas Romanas de Hispania.” \n📌 Casa de la Cultura Alcalde Manuel Baena Jiménez \n📅 Del 30 de mayo al 15 de junio\, de lunes a domingo\, en horario de ⏰10:00 a 14:00 h. \n 
URL:https://visitpuentegenil.es/evento/exposicion-huellas-de-hispania/
LOCATION:Casa de la Cultura\, Calle Cruz del Estudiante\, 35\, Puente Genil\, Córdoba\, 14500\, España
CATEGORIES:Arqueología,Exposiciones,Fotografía
ATTACH;FMTTYPE=image/jpeg:https://visitpuentegenil.es/wp-content/uploads/2022/06/30-15-Huellas-de-Hispania.jpg
END:VEVENT
BEGIN:VEVENT
DTSTART;TZID=Europe/Madrid:20220607T080000
DTEND;TZID=Europe/Madrid:20220731T000000
DTSTAMP:20260423T105043
CREATED:20220607T113252Z
LAST-MODIFIED:20220607T130421Z
UID:10480-1654588800-1659225600@visitpuentegenil.es
SUMMARY:I Concurso de Relatos Enroque Corto
DESCRIPTION:El club de ajedrez Enroque Corto Sahaldau de #PuenteGenil convoca el I Concurso de Relatos Enroque Corto.♟ \nEste concurso tiene el objetivo de incentivar la creación literaria en torno al juego del ajedrez\, ayudando a conocer y fomentar la práctica de este apasionante juego milenario.\nLas bases se pueden descargar en el siguiente enlace: \nBases Concurso Literario Enroque Corto \nDa rienda suelta al escritor que llevas dentro y envíales tu relato ajedrecístico. ¡Te están esperando!
URL:https://visitpuentegenil.es/evento/i-concurso-de-relatos-enroque-corto/
CATEGORIES:Concurso,Relato corto
ATTACH;FMTTYPE=image/jpeg:https://visitpuentegenil.es/wp-content/uploads/2022/06/I-Concurso-relato-corto-Enroque-Corto.jpg
END:VEVENT
BEGIN:VEVENT
DTSTART;TZID=Europe/Madrid:20220609T080000
DTEND;TZID=Europe/Madrid:20220609T170000
DTSTAMP:20260423T105043
CREATED:20220608T095804Z
LAST-MODIFIED:20220608T095805Z
UID:10489-1654761600-1654794000@visitpuentegenil.es
SUMMARY:XII FERIA AGROTEC EXPOGENIL
DESCRIPTION:Los últimos avances en automatización y tecnologías adaptadas al sector agrícola estarán en la feria ExpoGenil 2022.\n\nLos sectores que componen la feria son: abonos y fitosanitarios\, maquinaria agrícola\, iluminación\, componentes y accesorios\, riego\, viveros\, semillas\, plantas y flores\, oleícola\, agroalimentario\, servicios e instituciones.\n\nLas firmas presentes en la feria no solo expondrán sus productos\, sino que realizarán distintas presentaciones y exhibiciones durante la misma. Se celebrarán también unas jornadas técnicas con la participación de Ifapa\, Drones Hispania\, la Red Innovagro y Asaja.\n\n📌 Sede de la Fundación Patrimonio Comunal Olivarero (Ctra. Osuna – Lucena\, 20)\n📅 Del 9 al 11 de junio.\n\nPrograma 👇\n\n\n\nMás información en https://www.expogenil.es/\n\nPara cualquier consulta o reserva\, pueden dirigirse a:\n​📍Secretaría Técnica\n📞957 49 76 79\n📧 secretaria@expogenil.es / comercial@expogenil.es\n\nOrganiza: Asociación de Empresarios de Puente Genil (Asojem)\nColaboran: Ayuntamiento de Puente Genil\, Diputación Provincial a través de Iprodeco\, Junta de Andalucía y Fundación Patrimonio Comunal Olivarero
URL:https://visitpuentegenil.es/evento/xii-feria-agrotec-expogenil/
ATTACH;FMTTYPE=image/jpeg:https://visitpuentegenil.es/wp-content/uploads/2022/06/9-11-Expogenil_2022_cartel_a4_page-0001-scaled.jpg
END:VEVENT
END:VCALENDAR