BEGIN:VCALENDAR
VERSION:2.0
PRODID:-//Visit Puente Genil - ECPv6.15.20//NONSGML v1.0//EN
CALSCALE:GREGORIAN
METHOD:PUBLISH
X-ORIGINAL-URL:https://visitpuentegenil.es
X-WR-CALDESC:Eventos para Visit Puente Genil
REFRESH-INTERVAL;VALUE=DURATION:PT1H
X-Robots-Tag:noindex
X-PUBLISHED-TTL:PT1H
BEGIN:VTIMEZONE
TZID:Europe/Madrid
BEGIN:DAYLIGHT
TZOFFSETFROM:+0100
TZOFFSETTO:+0200
TZNAME:CEST
DTSTART:20210328T010000
END:DAYLIGHT
BEGIN:STANDARD
TZOFFSETFROM:+0200
TZOFFSETTO:+0100
TZNAME:CET
DTSTART:20211031T010000
END:STANDARD
BEGIN:DAYLIGHT
TZOFFSETFROM:+0100
TZOFFSETTO:+0200
TZNAME:CEST
DTSTART:20220327T010000
END:DAYLIGHT
BEGIN:STANDARD
TZOFFSETFROM:+0200
TZOFFSETTO:+0100
TZNAME:CET
DTSTART:20221030T010000
END:STANDARD
BEGIN:DAYLIGHT
TZOFFSETFROM:+0100
TZOFFSETTO:+0200
TZNAME:CEST
DTSTART:20230326T010000
END:DAYLIGHT
BEGIN:STANDARD
TZOFFSETFROM:+0200
TZOFFSETTO:+0100
TZNAME:CET
DTSTART:20231029T010000
END:STANDARD
END:VTIMEZONE
BEGIN:VEVENT
DTSTART;TZID=Europe/Madrid:20220530T100000
DTEND;TZID=Europe/Madrid:20220615T140000
DTSTAMP:20260423T181636
CREATED:20220601T102011Z
LAST-MODIFIED:20220601T102011Z
UID:10458-1653904800-1655301600@visitpuentegenil.es
SUMMARY:Exposición Huellas de Hispania.
DESCRIPTION:La exposición se compone de 44 fotografías. 34 de ellas pertenecen al I Concurso de Fotografía Arqueológica “Arqueofoto 2021\,” organizado por la Asociación Nacional de Red de Cooperación de Villas Romanas de Hispania y el periódico gijónes El Comercio.  \nPuente Genil\, a través de la Villa Romana de Fuente Álamo\, ostenta la presidencia y secretaría de la asociación. \nLa exposición se completa con 10 imágenes de las villas que forman parte de “Villas Romanas de Hispania.” \n📌 Casa de la Cultura Alcalde Manuel Baena Jiménez \n📅 Del 30 de mayo al 15 de junio\, de lunes a domingo\, en horario de ⏰10:00 a 14:00 h. \n 
URL:https://visitpuentegenil.es/evento/exposicion-huellas-de-hispania/
LOCATION:Casa de la Cultura\, Calle Cruz del Estudiante\, 35\, Puente Genil\, Córdoba\, 14500\, España
CATEGORIES:Arqueología,Exposiciones,Fotografía
ATTACH;FMTTYPE=image/jpeg:https://visitpuentegenil.es/wp-content/uploads/2022/06/30-15-Huellas-de-Hispania.jpg
END:VEVENT
BEGIN:VEVENT
DTSTART;TZID=Europe/Madrid:20220607T080000
DTEND;TZID=Europe/Madrid:20220731T000000
DTSTAMP:20260423T181636
CREATED:20220607T113252Z
LAST-MODIFIED:20220607T130421Z
UID:10480-1654588800-1659225600@visitpuentegenil.es
SUMMARY:I Concurso de Relatos Enroque Corto
DESCRIPTION:El club de ajedrez Enroque Corto Sahaldau de #PuenteGenil convoca el I Concurso de Relatos Enroque Corto.♟ \nEste concurso tiene el objetivo de incentivar la creación literaria en torno al juego del ajedrez\, ayudando a conocer y fomentar la práctica de este apasionante juego milenario.\nLas bases se pueden descargar en el siguiente enlace: \nBases Concurso Literario Enroque Corto \nDa rienda suelta al escritor que llevas dentro y envíales tu relato ajedrecístico. ¡Te están esperando!
URL:https://visitpuentegenil.es/evento/i-concurso-de-relatos-enroque-corto/
LOCATION:Córdoba
CATEGORIES:Concurso,Relato corto
ATTACH;FMTTYPE=image/jpeg:https://visitpuentegenil.es/wp-content/uploads/2022/06/I-Concurso-relato-corto-Enroque-Corto.jpg
END:VEVENT
BEGIN:VEVENT
DTSTART;TZID=Europe/Madrid:20220610T080000
DTEND;TZID=Europe/Madrid:20220614T000000
DTSTAMP:20260423T181636
CREATED:20220608T111746Z
LAST-MODIFIED:20220608T114004Z
UID:10495-1654848000-1655164800@visitpuentegenil.es
SUMMARY:Shopping Day en #PuenteGenil.
DESCRIPTION:Puente Genil vivirá el Shopping Day este fin de semana con rebajas de hasta el 70% en los comercios. \nEl evento\, organizado por la Asociación de Comercio de Puente Genil \,  se celebrará durante dos días: viernes 10 y sábado 11 de junio en los comercios asociados. \nAdemás de los descuentos habrá también una serie de actividades paralelas para disfrutar de una gran jornada de ocio en Puente Genil. \n📌 Parque del Tropezón:  pintacaras y la actuación del mago Cristian Rivas. \n📌San José habrá un punto de música para animar la zona \n📌Avenida Susana Benítez\, se realizará una tirada de globos en colaboración con la empresa McDonald’sPuenteGenil. \n📌Paseo del Romeral habrá una muestra de baile a cargo de Academia Sens\,  ⏰ 21:30h. \n📌Calle Aguilar: Patrulla Canina y el grupo de música flamenco con el vocalista Álvaro Martín ⏰ 21:00h. \n¡Te esperamos!
URL:https://visitpuentegenil.es/evento/shopping-day-en-puentegenil/
LOCATION:Córdoba
CATEGORIES:Shopping Night
ATTACH;FMTTYPE=image/jpeg:https://visitpuentegenil.es/wp-content/uploads/2022/06/10-11-SHOPPING-NIGHT.jpg
ORGANIZER;CN="Asociaci%C3%B3n de Comercio Puente Genil":MAILTO:administracion@comerciopuentegenil.com
END:VEVENT
BEGIN:VEVENT
DTSTART;TZID=Europe/Madrid:20220610T190000
DTEND;TZID=Europe/Madrid:20220612T190000
DTSTAMP:20260423T181636
CREATED:20220606T092348Z
LAST-MODIFIED:20220606T092348Z
UID:10468-1654887600-1655060400@visitpuentegenil.es
SUMMARY:II ABIERTO DE TENIS A.D CAÑADA DE LA PLATA
DESCRIPTION:Del viernes 10 hasta el domingo 12 se celebrará este abierto de tenis en las pistas de la A.D Cañada de la Plata\, con el objetivo es acercar el tenis a todas las personas que quieran practicarlo y disfrutar de un buen ambiente deportivo.\nInscripciones hasta el miércoles\, 8 de junio a las 20:00h en el 📱 647757086. Posteriormente se celebrará el sorteo para formar el cuadro de juego. \nOrganiza: A.D Cañada de la Plata. \nColabora: Ayuntamiento de Puente Genil. \n 
URL:https://visitpuentegenil.es/evento/ii-abierto-de-tenis-a-d-canada-de-la-plata/
LOCATION:Club Deportivo Cañada de la Plata\, Calle Cañada de la Plata\, Puente Genil\, Córdoba\, 14500\, España
CATEGORIES:Deportes,Tenis
ATTACH;FMTTYPE=image/jpeg:https://visitpuentegenil.es/wp-content/uploads/2022/06/285427060_4991420200985161_5743900081799125828_n.jpg
END:VEVENT
BEGIN:VEVENT
DTSTART;TZID=Europe/Madrid:20220611T090000
DTEND;TZID=Europe/Madrid:20220611T113000
DTSTAMP:20260423T181636
CREATED:20220523T095651Z
LAST-MODIFIED:20220523T114805Z
UID:10438-1654938000-1654947000@visitpuentegenil.es
SUMMARY:GAN PLUS Piragüismo. Descenso del Genil I: Pitilla-La Galana.
DESCRIPTION:GAN PLUS Piragüismo. Descenso del Genil I: Pitilla-La Galana\n\nSi has disfrutado de la piragua en aguas tranquilas y buscas nuevas sensaciones\, con este descenso aprenderás a controlar la piragua\, a merced de la corriente\, y descubrir algunos de los bellos rincones que nos depara el Genil a su paso por nuestro término municipal\, en el tramo comprendido entre la Pitilla y el parque de la Galana.\n\nInscripciones del 23 de mayo al 8 de junio (socios una semana antes) contactando con Javi Pérez (691951427; E-mail: jpq16lin@hotmail.com). 10 € para socios y 13 € para no socios (fianza 5 €)\, compartiendo los participantes los gastos de desplazamiento en coche \nEs imprescindible dominar la natación y haberse iniciado previamente en piragüismo en aguas tranquilas. \n📍 Nave GAN Polígono Huerto del Francés. \n📅 Sábado\, 11 de junio ⏰ 9:00h. \n 
URL:https://visitpuentegenil.es/evento/gan-plus-piraguismo-descenso-del-genil-i-pitilla-la-galana/
LOCATION:Nave GAN Polígono Huerto del Francés\, José Villafranca Melgar\, s/n\, Puente Genil\, Córdoba\, 14500
ATTACH;FMTTYPE=image/jpeg:https://visitpuentegenil.es/wp-content/uploads/2022/05/11-GAN-Piraguismo.jpg
END:VEVENT
BEGIN:VEVENT
DTSTART;TZID=Europe/Madrid:20220611T110000
DTEND;TZID=Europe/Madrid:20220611T123000
DTSTAMP:20260423T181636
CREATED:20220607T110505Z
LAST-MODIFIED:20220607T110543Z
UID:10475-1654945200-1654950600@visitpuentegenil.es
SUMMARY:Visita guiada con anfitrión en #FuenteÁlamoVillaRomana
DESCRIPTION:Si aún no conoces la Villa Romana de Fuente Alamo. Puente Genil\, ven y descubre cada rincón de este fantástico lugar en un visita con anfitrión.🏛  \n📅 Sábado\, 11 de junio – ⏰11:00h. \n¡Haz tu reserva ya!  957 60 50 34 Ext. 380. \n#visitasguiadas #cultura #historia
URL:https://visitpuentegenil.es/evento/visita-guiada-con-anfitrion-en-fuentealamovillaromana/
LOCATION:Villa Romana de Fuente Álamo\, cv-297 km 3\, Puente Genil\, Córdoba\, 14500\, España
CATEGORIES:Arqueología,Patrimonio,Visitas guiadas
ATTACH;FMTTYPE=image/png:https://visitpuentegenil.es/wp-content/uploads/2022/06/Visita-Anfitrion-11-Junio.png
ORGANIZER;CN="Puente Genil Tu historia":MAILTO:puentegenil@tuhistoria.org
END:VEVENT
BEGIN:VEVENT
DTSTART;TZID=Europe/Madrid:20220611T210000
DTEND;TZID=Europe/Madrid:20220611T230000
DTSTAMP:20260423T181636
CREATED:20220520T085253Z
LAST-MODIFIED:20220520T092117Z
UID:10430-1654981200-1654988400@visitpuentegenil.es
SUMMARY:Mujeres\, cristales y laureles
DESCRIPTION:TEATRO “MUJERES\, CRISTALES Y LAURELES” \nTributo a Federico García Lorca y a las mujeres que han protagonizado sus obras\, habitantes de una sociedad patriarcal. La obra resume otras cuatro  de Lorca que son: “Doña Rosita la Soltera”\, “Bodas de sangre”\, “Yerma” y “La Casa de Bernarda Alba”. Será un evento donde se conjuguen la dramaturgia\, música de piano\, de guitarra\, percusión y canto en directo. \nTeatro Circo de Puente Genil \nSábado\, 11 de junio\, 21:00h \nEntradas 5€ en Mapfre (Avenida de la Estación) o contactando con personas de la compañía de Osmara Teatro \nOrganiza: Osmara Teatro \nColaboran: Ayuntamiento de Puente Genil\, La Barraca de Charito\, Cata Teatro y Escena Amateur
URL:https://visitpuentegenil.es/evento/mujeres-cristales-y-laureles/
LOCATION:Teatro Circo\, C/ Jesús\, s/n\, Puente Genil\, Córdoba\, 14500\, España
CATEGORIES:Teatro
ATTACH;FMTTYPE=image/jpeg:https://visitpuentegenil.es/wp-content/uploads/2022/05/11-Mujeres-cristales-y-laureles.jpeg
END:VEVENT
END:VCALENDAR