BEGIN:VCALENDAR
VERSION:2.0
PRODID:-//Visit Puente Genil - ECPv6.15.20//NONSGML v1.0//EN
CALSCALE:GREGORIAN
METHOD:PUBLISH
X-WR-CALNAME:Visit Puente Genil
X-ORIGINAL-URL:https://visitpuentegenil.es
X-WR-CALDESC:Eventos para Visit Puente Genil
REFRESH-INTERVAL;VALUE=DURATION:PT1H
X-Robots-Tag:noindex
X-PUBLISHED-TTL:PT1H
BEGIN:VTIMEZONE
TZID:Europe/Madrid
BEGIN:DAYLIGHT
TZOFFSETFROM:+0100
TZOFFSETTO:+0200
TZNAME:CEST
DTSTART:20210328T010000
END:DAYLIGHT
BEGIN:STANDARD
TZOFFSETFROM:+0200
TZOFFSETTO:+0100
TZNAME:CET
DTSTART:20211031T010000
END:STANDARD
BEGIN:DAYLIGHT
TZOFFSETFROM:+0100
TZOFFSETTO:+0200
TZNAME:CEST
DTSTART:20220327T010000
END:DAYLIGHT
BEGIN:STANDARD
TZOFFSETFROM:+0200
TZOFFSETTO:+0100
TZNAME:CET
DTSTART:20221030T010000
END:STANDARD
BEGIN:DAYLIGHT
TZOFFSETFROM:+0100
TZOFFSETTO:+0200
TZNAME:CEST
DTSTART:20230326T010000
END:DAYLIGHT
BEGIN:STANDARD
TZOFFSETFROM:+0200
TZOFFSETTO:+0100
TZNAME:CET
DTSTART:20231029T010000
END:STANDARD
END:VTIMEZONE
BEGIN:VEVENT
DTSTART;TZID=Europe/Madrid:20220607T080000
DTEND;TZID=Europe/Madrid:20220731T000000
DTSTAMP:20260423T212405
CREATED:20220607T113252Z
LAST-MODIFIED:20220607T130421Z
UID:10480-1654588800-1659225600@visitpuentegenil.es
SUMMARY:I Concurso de Relatos Enroque Corto
DESCRIPTION:El club de ajedrez Enroque Corto Sahaldau de #PuenteGenil convoca el I Concurso de Relatos Enroque Corto.♟ \nEste concurso tiene el objetivo de incentivar la creación literaria en torno al juego del ajedrez\, ayudando a conocer y fomentar la práctica de este apasionante juego milenario.\nLas bases se pueden descargar en el siguiente enlace: \nBases Concurso Literario Enroque Corto \nDa rienda suelta al escritor que llevas dentro y envíales tu relato ajedrecístico. ¡Te están esperando!
URL:https://visitpuentegenil.es/evento/i-concurso-de-relatos-enroque-corto/
LOCATION:Córdoba
CATEGORIES:Concurso,Relato corto
ATTACH;FMTTYPE=image/jpeg:https://visitpuentegenil.es/wp-content/uploads/2022/06/I-Concurso-relato-corto-Enroque-Corto.jpg
END:VEVENT
BEGIN:VEVENT
DTSTART;TZID=Europe/Madrid:20220624T090000
DTEND;TZID=Europe/Madrid:20220625T230000
DTSTAMP:20260423T212405
CREATED:20220623T115120Z
LAST-MODIFIED:20220623T130713Z
UID:10535-1656061200-1656198000@visitpuentegenil.es
SUMMARY:El sonido nocturno de la historia. #NochesEnLaVilla2022
DESCRIPTION:#NochesEnLaVilla2022 te brinda una oportunidad única para conocer la Villa Romana de Fuente Alamo. Puente Genil al anochecer.\n\n\nEl sonido nocturno de la historia te descubre una manera diferente de acercarte a la historia.\n\n\n\n📅 Viernes 24 y sábado 25 de junio ⏰ de 21:00 a 23:00h.\n\n\n\nMás info aquí 👉 https://bit.ly/NochesenlaVilla2022 
URL:https://visitpuentegenil.es/evento/el-sonido-nocturno-de-la-historia-nochesenlavilla2022/
LOCATION:Villa Romana de Fuente Álamo\, cv-297 km 3\, Puente Genil\, Córdoba\, 14500\, España
CATEGORIES:Arqueología,Visitas con audio guía,Visitas guiadas
ATTACH;FMTTYPE=image/jpeg:https://visitpuentegenil.es/wp-content/uploads/2022/06/EL-SONIDO-DE-LA-HISTORIA.jpeg
END:VEVENT
BEGIN:VEVENT
DTSTART;TZID=Europe/Madrid:20220625T203000
DTEND;TZID=Europe/Madrid:20220625T233000
DTSTAMP:20260423T212405
CREATED:20220622T111250Z
LAST-MODIFIED:20220622T111250Z
UID:10517-1656189000-1656199800@visitpuentegenil.es
SUMMARY:IV Gala Fin de Curso Centro de Baile Sens.
DESCRIPTION:ESTOY EN STORIES \n\n\n\nY después de varios años sin gala final de curso… ¡por fin llegó!\n\n\n Centro de Baile Sens sorprenderá un año más a alumn@s y familiares. La historia y los personajes os sonarán y sorprenderán; en Sens tienen artistas polifacéticos y esta es la ocasión para mostrar su talento.\n\n\nHarán reflexionar y .?.(.¡¡ ¡a todo el público! ¿De qué va este año esto? ¡Hagan sus apuestas!\n\n\n Sábado 25 de junio\nTeatro Circo de Puente Genil\n 20.30 horas\n entradas : 10 euros (venta anticipada en Centro de Baile Sens – C/Maquinistas\, 5)\n\n  \nOrganiza: Centro de Baile Sens \nColabora: Ayuntamiento de Puente Genil \n\n\n\n#puentegenil #galafindecurso #rociosens
URL:https://visitpuentegenil.es/evento/iv-gala-fin-de-curso-centro-de-baile-sens/
LOCATION:Teatro Circo\, C/ Jesús\, s/n\, Puente Genil\, Córdoba\, 14500\, España
ATTACH;FMTTYPE=image/jpeg:https://visitpuentegenil.es/wp-content/uploads/2022/06/25-Estoy-en-stories.jpeg
ORGANIZER;CN="Centro de baile 'SENS'":MAILTO:info@centrosens.com
END:VEVENT
BEGIN:VEVENT
DTSTART;TZID=Europe/Madrid:20220625T220000
DTEND;TZID=Europe/Madrid:20220625T233000
DTSTAMP:20260423T212405
CREATED:20220615T095338Z
LAST-MODIFIED:20220615T095338Z
UID:10511-1656194400-1656199800@visitpuentegenil.es
SUMMARY:Concierto Pop Rock 80's y 90's
DESCRIPTION:¡Por fin vamos a poder disfrutar de este magnífico concierto!\nUn tributo a los grupos y cantantes españoles de las décadas de los 80 y 90 con las voces de la Coral Miguel Gant.\nPodremos disfrutar de la mejor música española de la mano de un gran grupo de rock\, con proyección de vídeos y un sonido e iluminación inmejorable.\nConcierto que contará con las intervenciones de Paco Jaén (guitarra)\, Antonio Jiménez (bajo)\, José Manuel Reyes (teclados)\, Manolo Márquez (batería)\, Rafa Reyes (percusión y voz)\, Ester Alfaro (voz)\, Javi Sánchez (multimedia)\, Coral Miguel Gant (coros)\, Paco Molina (sonido e iluminación) y Rafa Sánchez (arreglos corales y dirección).\nSerán 26 temas de los más punteros de la época\, sonarán canciones de Mecano\, Nacha Pop\, Joaquín Sabina\, Danza Invisible\, El Último de la Fila\, Miguel Ríos\, Ana Belén o Los Secretos\, entre otros.\nY además habrá servicio de barra\, el ambiente está garantizado. 😉\n¿De verdad te lo vas a perder?\n📍Auditorio Municipal Hermanos Cuenca\n📅 Sábado\, 25 de junio  ⏰22:00h \nReserva ya tu entrada [10 €] en el 📞 617 453 061 \n  \nOrganiza: Asociación Amigos de la Música  \n\nColabora: Ayuntamiento de Puente Genil  \n\n  \n 
URL:https://visitpuentegenil.es/evento/concierto-pop-rock-80s-y-90s/
LOCATION:Auditorio “Hermanos Cuenca”\, Calle Pinar de San Rafael\, s/n\, Puente Genil\, Córdoba\, 14500\, España
CATEGORIES:Música
ATTACH;FMTTYPE=image/jpeg:https://visitpuentegenil.es/wp-content/uploads/2022/06/25-CONCIERTO-TRIBUTO.jpg
ORGANIZER;CN="Amigos de la M%C3%BAsica":MAILTO:emusica@aytopuentegenil.es
END:VEVENT
END:VCALENDAR