BEGIN:VCALENDAR
VERSION:2.0
PRODID:-//Visit Puente Genil - ECPv6.15.20//NONSGML v1.0//EN
CALSCALE:GREGORIAN
METHOD:PUBLISH
X-ORIGINAL-URL:https://visitpuentegenil.es
X-WR-CALDESC:Eventos para Visit Puente Genil
REFRESH-INTERVAL;VALUE=DURATION:PT1H
X-Robots-Tag:noindex
X-PUBLISHED-TTL:PT1H
BEGIN:VTIMEZONE
TZID:Europe/Madrid
BEGIN:DAYLIGHT
TZOFFSETFROM:+0100
TZOFFSETTO:+0200
TZNAME:CEST
DTSTART:20210328T010000
END:DAYLIGHT
BEGIN:STANDARD
TZOFFSETFROM:+0200
TZOFFSETTO:+0100
TZNAME:CET
DTSTART:20211031T010000
END:STANDARD
BEGIN:DAYLIGHT
TZOFFSETFROM:+0100
TZOFFSETTO:+0200
TZNAME:CEST
DTSTART:20220327T010000
END:DAYLIGHT
BEGIN:STANDARD
TZOFFSETFROM:+0200
TZOFFSETTO:+0100
TZNAME:CET
DTSTART:20221030T010000
END:STANDARD
BEGIN:DAYLIGHT
TZOFFSETFROM:+0100
TZOFFSETTO:+0200
TZNAME:CEST
DTSTART:20230326T010000
END:DAYLIGHT
BEGIN:STANDARD
TZOFFSETFROM:+0200
TZOFFSETTO:+0100
TZNAME:CET
DTSTART:20231029T010000
END:STANDARD
END:VTIMEZONE
BEGIN:VEVENT
DTSTART;TZID=Europe/Madrid:20220607T080000
DTEND;TZID=Europe/Madrid:20220731T000000
DTSTAMP:20260423T212359
CREATED:20220607T113252Z
LAST-MODIFIED:20220607T130421Z
UID:10480-1654588800-1659225600@visitpuentegenil.es
SUMMARY:I Concurso de Relatos Enroque Corto
DESCRIPTION:El club de ajedrez Enroque Corto Sahaldau de #PuenteGenil convoca el I Concurso de Relatos Enroque Corto.♟ \nEste concurso tiene el objetivo de incentivar la creación literaria en torno al juego del ajedrez\, ayudando a conocer y fomentar la práctica de este apasionante juego milenario.\nLas bases se pueden descargar en el siguiente enlace: \nBases Concurso Literario Enroque Corto \nDa rienda suelta al escritor que llevas dentro y envíales tu relato ajedrecístico. ¡Te están esperando!
URL:https://visitpuentegenil.es/evento/i-concurso-de-relatos-enroque-corto/
LOCATION:Córdoba
CATEGORIES:Concurso,Relato corto
ATTACH;FMTTYPE=image/jpeg:https://visitpuentegenil.es/wp-content/uploads/2022/06/I-Concurso-relato-corto-Enroque-Corto.jpg
END:VEVENT
BEGIN:VEVENT
DTSTART;TZID=Europe/Madrid:20220701T220000
DTEND;TZID=Europe/Madrid:20220702T000000
DTSTAMP:20260423T212359
CREATED:20220627T122046Z
LAST-MODIFIED:20220627T122129Z
UID:10540-1656712800-1656720000@visitpuentegenil.es
SUMMARY:Bacanal Teatro en #NochesEnLaVilla2022
DESCRIPTION:¡Vive experiencias únicas con #nochesenlavilla2022! 😍\n\n\n\n➡️ Esta semana en la Villa Romana de Fuente Alamo. Puente Genil  La Líquida te trae Bacanal Teatro.\n\n\nUn divertidísimo y didáctico recorrido por el origen y la historia del arte escénico\, del vino\, sus dioses y aquellas Bacantes libres que lo acompañaban. Teatro de humor y música en directo para el deleite de los sentidos.\n\n\n 📅1 Julio – ⏰ 22:00 h.\n\n\n\nHumor\, teatro\, música en directo…no te dejará indiferente. 🎭🎻\n\n\nReserva tu plaza aquí 👉 https://bit.ly/NochesenlaVilla2022\n\n\n 
URL:https://visitpuentegenil.es/evento/bacanal-teatro-en-nochesenlavilla2022/
LOCATION:Villa Romana de Fuente Álamo\, cv-297 km 3\, Puente Genil\, Córdoba\, 14500\, España
CATEGORIES:Arqueología,Humor,Teatro
ATTACH;FMTTYPE=image/jpeg:https://visitpuentegenil.es/wp-content/uploads/2022/06/1-bacanal.jpg
END:VEVENT
BEGIN:VEVENT
DTSTART;TZID=Europe/Madrid:20220701T220000
DTEND;TZID=Europe/Madrid:20220703T010000
DTSTAMP:20260423T212359
CREATED:20220608T124250Z
LAST-MODIFIED:20220608T124250Z
UID:10499-1656712800-1656810000@visitpuentegenil.es
SUMMARY:XVI Rock and River Blues Festival.
DESCRIPTION:Ya tenemos aquí la decimo sexta edición del Rock and River Blues Festival. \nEl 1 y 2 de julio tienes una cita con el mejor blues en #PuenteGenil. \n📌Auditorio Hermanos Cuenca \n📅Viernes\, 1 de julio \nQUIQUE GÓMEZ & HIS VIPERS ⏰22:30h \nAL DUAL ⏰ 00:00h \nSábado\, 2 de julio \nWAX & BOOGIE FEAT PABLO SANPA ⏰22:30h \nANDABLUSES ⏰00:00h \nOrganiza: Delegación de Cultura del Ayuntamiento de Puente Genil \nPatrocina: Diputación de Córdoba \nPromueve: Asociación “Juke Joint” \nEntrada libre hasta completar aforo
URL:https://visitpuentegenil.es/evento/xvi-rock-and-river-blues-festival/
LOCATION:Auditorio “Hermanos Cuenca”\, Calle Pinar de San Rafael\, s/n\, Puente Genil\, Córdoba\, 14500\, España
CATEGORIES:Blues,Festival
ATTACH;FMTTYPE=image/jpeg:https://visitpuentegenil.es/wp-content/uploads/2022/06/1-2-ROCK-AND-RIVER-BLUES-FESTIVAL.jpg
END:VEVENT
END:VCALENDAR