BEGIN:VCALENDAR
VERSION:2.0
PRODID:-//Visit Puente Genil - ECPv6.15.20//NONSGML v1.0//EN
CALSCALE:GREGORIAN
METHOD:PUBLISH
X-ORIGINAL-URL:https://visitpuentegenil.es
X-WR-CALDESC:Eventos para Visit Puente Genil
REFRESH-INTERVAL;VALUE=DURATION:PT1H
X-Robots-Tag:noindex
X-PUBLISHED-TTL:PT1H
BEGIN:VTIMEZONE
TZID:Europe/Madrid
BEGIN:DAYLIGHT
TZOFFSETFROM:+0100
TZOFFSETTO:+0200
TZNAME:CEST
DTSTART:20210328T010000
END:DAYLIGHT
BEGIN:STANDARD
TZOFFSETFROM:+0200
TZOFFSETTO:+0100
TZNAME:CET
DTSTART:20211031T010000
END:STANDARD
BEGIN:DAYLIGHT
TZOFFSETFROM:+0100
TZOFFSETTO:+0200
TZNAME:CEST
DTSTART:20220327T010000
END:DAYLIGHT
BEGIN:STANDARD
TZOFFSETFROM:+0200
TZOFFSETTO:+0100
TZNAME:CET
DTSTART:20221030T010000
END:STANDARD
BEGIN:DAYLIGHT
TZOFFSETFROM:+0100
TZOFFSETTO:+0200
TZNAME:CEST
DTSTART:20230326T010000
END:DAYLIGHT
BEGIN:STANDARD
TZOFFSETFROM:+0200
TZOFFSETTO:+0100
TZNAME:CET
DTSTART:20231029T010000
END:STANDARD
END:VTIMEZONE
BEGIN:VEVENT
DTSTART;TZID=Europe/Madrid:20220916T143000
DTEND;TZID=Europe/Madrid:20220918T020000
DTSTAMP:20260423T105031
CREATED:20220915T101530Z
LAST-MODIFIED:20220915T102639Z
UID:10796-1663338600-1663466400@visitpuentegenil.es
SUMMARY:Verbena de la Guía en la Caseta Municipal.
DESCRIPTION:Tras 2 duros años de espera\, la Cofradía de Nuestra Señora de la Guía vuelve a hacernos disfrutar con La 𝚅𝚎𝚛𝚋𝚎𝚗𝚊 𝚍𝚎 𝚕𝚊 𝙶𝚞í𝚊 𝟸𝟶𝟸𝟸. \n\n\nCaseta Municipal\n\n\n Puente Genil\n\n\n\n\n Sábado 16 y viernes 17 de Septiembre\n\n\n\n\n\n\nPara amenizar la fiesta nos acompañarán:\n\n\n– 𝗗𝗶𝗮 𝟭𝟲 (𝗡𝗼𝗰𝗵𝗲) Trio Marfil Puente Genil\n\n\n– 𝗗í𝗮 𝟭𝟳 (𝗧𝗮𝗿𝗱𝗲)  Álvaro Martín\, Rocío Reina y Hermanos Gamero.\n\n\n                (𝗡𝗼𝗰𝗵𝗲) Trio Marfil Puente Genil\n\n\n\nOs esperamos a todos/as para pasar unos días fantásticos\n\n\n\n\nOrganiza: Cofradía de Nuestra Señora de la Guía \nColabora: Ayuntamiento de Puente Genil
URL:https://visitpuentegenil.es/evento/verbena-de-la-guia-en-la-caseta-municipal-2/
LOCATION:Caseta Municipal Puente Genil\, Puente Genil\, Córdoba\, 14500
CATEGORIES:Verbenas
ATTACH;FMTTYPE=image/jpeg:https://visitpuentegenil.es/wp-content/uploads/2022/09/16-17-verbena_de_la_guia.jpeg
ORGANIZER;CN="Cofrad%C3%ADa de Nuestra Se%C3%B1ora de la Gu%C3%ADa":MAILTO:cofradiadelaguia@gmail.com
END:VEVENT
BEGIN:VEVENT
DTSTART;TZID=Europe/Madrid:20220917T100000
DTEND;TZID=Europe/Madrid:20220918T123000
DTSTAMP:20260423T105031
CREATED:20220914T111026Z
LAST-MODIFIED:20220914T111026Z
UID:10784-1663408800-1663504200@visitpuentegenil.es
SUMMARY:VI Memorial Miguel Castilla
DESCRIPTION:Sexta edición del Memorial con el que el club de baloncesto recuerda\, de manera anual\, la figura de Miguel Castilla\, persona añorada en el club y que estuvo ligada a este deporte durante muchos años. \nParticiparán\, además del Codimar Basket Genil\, el CB Marbella y CB Torcal de Antequera de la provincia de Málaga y el Club Baloncesto Martos de Jaén. \nEl evento se dividirá entre el sábado 17 (De 10:00 a 18:00)\, con partidos de categorías inferiores\, y el domingo 18 (12:30)\, donde el equipo senior que militará esta próxima temporada en Liga Nacional N1 se enfrentará al conjunto jiennense. \n📍 Pabellón Joaquín Crespo “Quini” \n📅 Sábado 17 de septiembre: 10:00h -18:00h y 📅 Domingo 18 de septiembre: 12:30h \nOrganiza: Codimar Basket Genil \nColabora: Ayuntamiento de Puente Genil
URL:https://visitpuentegenil.es/evento/vi-memorial-miguel-castilla/
LOCATION:Pabellón Alcalde Miguel Salas\, Calle Cortés Españolas\, s/n\, Puente Genil\, Córdoba\, 14500\, España
CATEGORIES:Baloncesto,Deportes,Memorial
ATTACH;FMTTYPE=image/jpeg:https://visitpuentegenil.es/wp-content/uploads/2022/09/cartel_v_memorial_mcastilla_pdf_page-0001.jpg
ORGANIZER;CN="Codimar Basket Genil":MAILTO:cbpuentegenil@gmail.com
END:VEVENT
BEGIN:VEVENT
DTSTART;TZID=Europe/Madrid:20220918T100000
DTEND;TZID=Europe/Madrid:20220918T113000
DTSTAMP:20260423T105031
CREATED:20220830T095837Z
LAST-MODIFIED:20220830T113157Z
UID:10710-1663495200-1663500600@visitpuentegenil.es
SUMMARY:Presentada la XXIV Subida a Cordobilla.
DESCRIPTION:El próximo 18 de septiembre tienes una cita con la vigésimo cuarta edición de la Carrera Subida a Cordobilla. \nOrganizada por el  Club de Atletismo Pontanés Amigos del Canal \, la prueba partirá de la Plaza del Ancla a las diez de la mañana\, con un recorrido aproximado de 8 kms. \nSubvencionada por la Diputación de Córdoba y con la colaboración del Ayuntamiento de Puente Genil\, a través de su delegación municipal de Deportes esta prueba cuenta también con el apoyo del Club Cicloturista Pontanés\, el Club BTT\, Policía Local y Guardia Civil\, así como distintas firmas colaboradoras. \nLos corredores también colaborarán con Cáritas  al entregar productos no perecederos en la recogida de dorsales el día de la prueba\, llevando a ser posible leche y gel de ducha. \nLas inscripciones para los no socios podrán realizarse desde el día 5 al 12 de septiembre en Silverback SBC Puente Genil\, al precio de 8€. \nEntrega de dorsales el mismo día de la carrera hasta las⏰9:30h. \nY ya sabes\, si no puedes correr siempre puedes venir a animar a quienes corren. ¡Os esperamos!
URL:https://visitpuentegenil.es/evento/presentada-la-xxiv-subida-a-cordobilla/
CATEGORIES:Atletismo,Carreras populares,Deportes
ATTACH;FMTTYPE=image/jpeg:https://visitpuentegenil.es/wp-content/uploads/2022/08/18-XXIV-SUBIDA-A-CORDOBILLA.jpeg
ORGANIZER;CN="Club Atletismo Amigos del Canal":MAILTO:clubamigosdelcanal@gmail.com
END:VEVENT
END:VCALENDAR