BEGIN:VCALENDAR
VERSION:2.0
PRODID:-//Visit Puente Genil - ECPv6.15.20//NONSGML v1.0//EN
CALSCALE:GREGORIAN
METHOD:PUBLISH
X-ORIGINAL-URL:https://visitpuentegenil.es
X-WR-CALDESC:Eventos para Visit Puente Genil
REFRESH-INTERVAL;VALUE=DURATION:PT1H
X-Robots-Tag:noindex
X-PUBLISHED-TTL:PT1H
BEGIN:VTIMEZONE
TZID:Europe/Madrid
BEGIN:DAYLIGHT
TZOFFSETFROM:+0100
TZOFFSETTO:+0200
TZNAME:CEST
DTSTART:20210328T010000
END:DAYLIGHT
BEGIN:STANDARD
TZOFFSETFROM:+0200
TZOFFSETTO:+0100
TZNAME:CET
DTSTART:20211031T010000
END:STANDARD
BEGIN:DAYLIGHT
TZOFFSETFROM:+0100
TZOFFSETTO:+0200
TZNAME:CEST
DTSTART:20220327T010000
END:DAYLIGHT
BEGIN:STANDARD
TZOFFSETFROM:+0200
TZOFFSETTO:+0100
TZNAME:CET
DTSTART:20221030T010000
END:STANDARD
BEGIN:DAYLIGHT
TZOFFSETFROM:+0100
TZOFFSETTO:+0200
TZNAME:CEST
DTSTART:20230326T010000
END:DAYLIGHT
BEGIN:STANDARD
TZOFFSETFROM:+0200
TZOFFSETTO:+0100
TZNAME:CET
DTSTART:20231029T010000
END:STANDARD
END:VTIMEZONE
BEGIN:VEVENT
DTSTART;TZID=Europe/Madrid:20220921T210000
DTEND;TZID=Europe/Madrid:20221022T140000
DTSTAMP:20260423T061623
CREATED:20220915T131251Z
LAST-MODIFIED:20220920T123044Z
UID:10805-1663794000-1666447200@visitpuentegenil.es
SUMMARY:Exposición. Diálogo entre Lolas.
DESCRIPTION:📢  ContraCultura presenta la exposición ✨ Diálogo entre lolas ✨por la artista contemporánea Pepa Cano 👩🏽‍🎨 \nUn homenaje a mujeres andaluzas que han dejado su impronta en el arte y el flamenco 💞 \nOs invitamos a su inauguración en\n🏛️ Casa de la Cultura de Puente Genil\n📆Día 21 de septiembre\n🕗a las 20 horas \nLa exposición podrá verse de miércoles a viernes de 11:00 a 14:00h. Tardes consultar con 📧 asociacioncontracultura@gmail.com \n¡Os esperamos! \nComparte Cultura 🌀
URL:https://visitpuentegenil.es/evento/exposicion-dialogo-entre-lolas/
LOCATION:Casa de la Cultura\, Calle Cruz del Estudiante\, 35\, Puente Genil\, Córdoba\, 14500\, España
ATTACH;FMTTYPE=image/jpeg:https://visitpuentegenil.es/wp-content/uploads/2022/09/Exposicion-Dialogo-entre-Lolas.jpeg
ORGANIZER;CN="Contracultura":MAILTO:asociacioncontracultura@gmail.com
END:VEVENT
BEGIN:VEVENT
DTSTART;TZID=Europe/Madrid:20221003T090000
DTEND;TZID=Europe/Madrid:20221007T210000
DTSTAMP:20260423T061623
CREATED:20220920T115134Z
LAST-MODIFIED:20220920T115134Z
UID:10811-1664787600-1665176400@visitpuentegenil.es
SUMMARY:Semana de las Personas Mayores 2022.
DESCRIPTION:📅 Del 3 al 7 de octubre \nDirigido a personas a partir de los 60 años. \n📅 Lunes\, 3 de octubre \nConferencia sobre salud sexual denominada “La sexualidad a partir de los 60 años” y chocolatada que tendrá lugar en los bajos de la Biblioteca Municipal Ricardo Molina a partir de las 9:00 y estará impartida por la sexóloga y terapeuta Marina Josende\, con un aforo limitado a 80 personas \n📅 Miércoles\, 5 de octubre \nVisita al yacimiento arqueológico de Fuente Álamo con degustación\, teniendo la opción de hacerlo tanto en horario de mañana (9:30) como de tarde (16:30) con límite de inscripciones en 100 personas y salida desde la estación de autobuses. \n📅 Viernes\, 7 de octubre \nVelada-clausura de la Semana de los Mayores 2022\, a las 21:00 en los “Jardines de La Noria”. En esta actividad\, los asistentes que no tengan vehículo para desplazarse\, dispondrán de servicio de bus con salida a las 20:00 desde la estación de autobuses y aforo limitado a 450 personas \nTodas aquellas personas que quieran participar en las actividades\, tendrán que recoger su invitación (nominativas) en los bajos de la Biblioteca Ricardo Molina el viernes\, 30 de septiembre\, en horario de 9:00 a 11:00 siendo obligatoria la presentación del DNI. \nOrganiza: Delegación municipal de Mayores Activos con la colaboración de las delegaciones de Servicios Sociales\, Cultura y Egemasa.
URL:https://visitpuentegenil.es/evento/semana-de-las-personas-mayores-2022/
LOCATION:PUENTE GENIL\, Puente Genil\, CÓRDOBA\, 14500
CATEGORIES:Mayores Activos
ATTACH;FMTTYPE=image/jpeg:https://visitpuentegenil.es/wp-content/uploads/2022/09/3-7-SEMANA-MAYORES.jpeg
END:VEVENT
BEGIN:VEVENT
DTSTART;TZID=Europe/Madrid:20221007T210000
DTEND;TZID=Europe/Madrid:20221009T040000
DTSTAMP:20260423T061623
CREATED:20221007T081147Z
LAST-MODIFIED:20221007T082134Z
UID:10862-1665176400-1665288000@visitpuentegenil.es
SUMMARY:Velada de la Cofradía de la Columna en la Caseta Municipal.
DESCRIPTION:La Cofradía de La Columna organiza una nueva edición de su velada en la Caseta Municipal. \nContará con la actuación en directo de Javi Estrada (viernes y sábado a las 22:00). Velada amenizada por Jesús Estrada DJ. \nEl sábado\, a partir de las 14:00\, 🥘paella gratis para todos los asistentes. \n📌 Caseta Municipal \n📅 Viernes 7 y sábado 8 de octubre ⏰ \n  \n 
URL:https://visitpuentegenil.es/evento/velada-de-la-cofradia-de-la-columna-en-la-caseta-municipal/
LOCATION:Caseta Municipal Puente Genil\, Puente Genil\, Córdoba\, 14500
CATEGORIES:Cofradías,Veladas
ATTACH;FMTTYPE=image/jpeg:https://visitpuentegenil.es/wp-content/uploads/2022/10/7-8-Velada-de-la-Columna.jpg
END:VEVENT
END:VCALENDAR