BEGIN:VCALENDAR
VERSION:2.0
PRODID:-//Visit Puente Genil - ECPv6.15.20//NONSGML v1.0//EN
CALSCALE:GREGORIAN
METHOD:PUBLISH
X-WR-CALNAME:Visit Puente Genil
X-ORIGINAL-URL:https://visitpuentegenil.es
X-WR-CALDESC:Eventos para Visit Puente Genil
REFRESH-INTERVAL;VALUE=DURATION:PT1H
X-Robots-Tag:noindex
X-PUBLISHED-TTL:PT1H
BEGIN:VTIMEZONE
TZID:Europe/Madrid
BEGIN:DAYLIGHT
TZOFFSETFROM:+0100
TZOFFSETTO:+0200
TZNAME:CEST
DTSTART:20210328T010000
END:DAYLIGHT
BEGIN:STANDARD
TZOFFSETFROM:+0200
TZOFFSETTO:+0100
TZNAME:CET
DTSTART:20211031T010000
END:STANDARD
BEGIN:DAYLIGHT
TZOFFSETFROM:+0100
TZOFFSETTO:+0200
TZNAME:CEST
DTSTART:20220327T010000
END:DAYLIGHT
BEGIN:STANDARD
TZOFFSETFROM:+0200
TZOFFSETTO:+0100
TZNAME:CET
DTSTART:20221030T010000
END:STANDARD
BEGIN:DAYLIGHT
TZOFFSETFROM:+0100
TZOFFSETTO:+0200
TZNAME:CEST
DTSTART:20230326T010000
END:DAYLIGHT
BEGIN:STANDARD
TZOFFSETFROM:+0200
TZOFFSETTO:+0100
TZNAME:CET
DTSTART:20231029T010000
END:STANDARD
END:VTIMEZONE
BEGIN:VEVENT
DTSTART;TZID=Europe/Madrid:20221019T103000
DTEND;TZID=Europe/Madrid:20221029T193000
DTSTAMP:20260423T023932
CREATED:20221025T080123Z
LAST-MODIFIED:20221025T085717Z
UID:10911-1666175400-1667071800@visitpuentegenil.es
SUMMARY:IX Encuentro de Poesía\, Música y Plástica
DESCRIPTION:Un amplio programa de actividades culturales compone el IX Encuentro de Poesía\, Música y Plástica que en este año 2022 se desarrollará en Puente Genil del 19 al 29 de octubre. \n*Consulta la programación de actividades en el siguiente enlace. \ntriptico_poetica_con_sangrado_definitivo-1_0 \n 
URL:https://visitpuentegenil.es/evento/ix-encuentro-de-poesia-musica-y-plastica/
LOCATION:puente genil
CATEGORIES:Conciertos,Poesía,Presentaciones libros
ATTACH;FMTTYPE=image/jpeg:https://visitpuentegenil.es/wp-content/uploads/2022/10/IX-ENCUENTRO-DE-POESIA-MUSICA-Y-PLASTICA.jpg
END:VEVENT
BEGIN:VEVENT
DTSTART;TZID=Europe/Madrid:20221023T090000
DTEND;TZID=Europe/Madrid:20221023T170000
DTSTAMP:20260423T023932
CREATED:20221013T123043Z
LAST-MODIFIED:20221013T123043Z
UID:10885-1666515600-1666544400@visitpuentegenil.es
SUMMARY:Campeonato Córdoba Jaén 2022 de coches de radio control.
DESCRIPTION:El domingo\, 23 de octubre\, se celebrará por primera vez en #PuenteGenil\, la quinta prueba del Campeonato Córdoba-Jaén 2022 de coches radiocontrol\, prueba organizada por el Club RC La Fundición de Puente Genil que cuenta con la colaboración del Ayuntamiento. \nParticiparán unos 50 pilotos\, principalmente de las provincias de Córdoba y Jaén\, a los que se unirán otros de Sevilla o Almería\, entre otras. \nLa competición será en categorías 1/8tt Gas y Eco y se desarrollará desde las 9:00h a las 17:00h. \n  \nInscripciones para participar en el siguiente enlace:\nhttps://www.aecar.org/inscripciones.php?tipo=ins_18tte_and_500
URL:https://visitpuentegenil.es/evento/campeonato-cordoba-jaen-2022-de-coches-de-radio-control/
LOCATION:Circuito RC La Fundición\, Puente Genil\, Córdoba\, 14500\, España
CATEGORIES:Campeonato,Radio Control
ATTACH;FMTTYPE=image/jpeg:https://visitpuentegenil.es/wp-content/uploads/2022/10/23-campeonato-radio-control.jpeg
ORGANIZER;CN="Club RC La Fundici%C3%B3n":MAILTO:clubfundicionradiocontrolpuentegenil@hotmail.com
END:VEVENT
BEGIN:VEVENT
DTSTART;TZID=Europe/Madrid:20221023T100000
DTEND;TZID=Europe/Madrid:20221023T140000
DTSTAMP:20260423T023932
CREATED:20221014T101139Z
LAST-MODIFIED:20221014T101139Z
UID:10901-1666519200-1666533600@visitpuentegenil.es
SUMMARY:Visita uno de los emblemas de nuestro #PatrimonioIndustrial
DESCRIPTION:Si quieres disfrutar de la #historia y el #patrimonio de #PuenteGenil no te puedes perder una #visitaguiada al Complejo Industrial “La Alianza.”\nConoce uno de los edificios más emblemáticos de la revolución industrial de nuestra localidad.\n¡Te esperamos!\n\n📌 Complejo industrial #LaAlianza\n 23 octubre –⏰13:00 h. \n+info: 📞957 60 50 34 ext. 380  📧puentegenil@ciudadesmedias.orge 
URL:https://visitpuentegenil.es/evento/visita-uno-de-los-emblemas-de-nuestro-patrimonioindustrial/
LOCATION:Complejo industrial La Alianza\, Plaza Nacional\, s/n\, Puente Genil\, Córdoba\, 14500\, España
CATEGORIES:Historia,Patrimonio,Patrimonio Industrial,Visitas guiadas
ATTACH;FMTTYPE=image/jpeg:https://visitpuentegenil.es/wp-content/uploads/2022/10/23-OCT-VISITA-ALIANZA.jpeg
ORGANIZER;CN="Puente Genil Tu historia":MAILTO:puentegenil@tuhistoria.org
END:VEVENT
END:VCALENDAR