BEGIN:VCALENDAR
VERSION:2.0
PRODID:-//Visit Puente Genil - ECPv6.15.20//NONSGML v1.0//EN
CALSCALE:GREGORIAN
METHOD:PUBLISH
X-WR-CALNAME:Visit Puente Genil
X-ORIGINAL-URL:https://visitpuentegenil.es
X-WR-CALDESC:Eventos para Visit Puente Genil
REFRESH-INTERVAL;VALUE=DURATION:PT1H
X-Robots-Tag:noindex
X-PUBLISHED-TTL:PT1H
BEGIN:VTIMEZONE
TZID:Europe/Madrid
BEGIN:DAYLIGHT
TZOFFSETFROM:+0100
TZOFFSETTO:+0200
TZNAME:CEST
DTSTART:20210328T010000
END:DAYLIGHT
BEGIN:STANDARD
TZOFFSETFROM:+0200
TZOFFSETTO:+0100
TZNAME:CET
DTSTART:20211031T010000
END:STANDARD
BEGIN:DAYLIGHT
TZOFFSETFROM:+0100
TZOFFSETTO:+0200
TZNAME:CEST
DTSTART:20220327T010000
END:DAYLIGHT
BEGIN:STANDARD
TZOFFSETFROM:+0200
TZOFFSETTO:+0100
TZNAME:CET
DTSTART:20221030T010000
END:STANDARD
BEGIN:DAYLIGHT
TZOFFSETFROM:+0100
TZOFFSETTO:+0200
TZNAME:CEST
DTSTART:20230326T010000
END:DAYLIGHT
BEGIN:STANDARD
TZOFFSETFROM:+0200
TZOFFSETTO:+0100
TZNAME:CET
DTSTART:20231029T010000
END:STANDARD
END:VTIMEZONE
BEGIN:VEVENT
DTSTART;TZID=Europe/Madrid:20221019T103000
DTEND;TZID=Europe/Madrid:20221029T193000
DTSTAMP:20260423T061630
CREATED:20221025T080123Z
LAST-MODIFIED:20221025T085717Z
UID:10911-1666175400-1667071800@visitpuentegenil.es
SUMMARY:IX Encuentro de Poesía\, Música y Plástica
DESCRIPTION:Un amplio programa de actividades culturales compone el IX Encuentro de Poesía\, Música y Plástica que en este año 2022 se desarrollará en Puente Genil del 19 al 29 de octubre. \n*Consulta la programación de actividades en el siguiente enlace. \ntriptico_poetica_con_sangrado_definitivo-1_0 \n 
URL:https://visitpuentegenil.es/evento/ix-encuentro-de-poesia-musica-y-plastica/
LOCATION:puente genil
CATEGORIES:Conciertos,Poesía,Presentaciones libros
ATTACH;FMTTYPE=image/jpeg:https://visitpuentegenil.es/wp-content/uploads/2022/10/IX-ENCUENTRO-DE-POESIA-MUSICA-Y-PLASTICA.jpg
END:VEVENT
BEGIN:VEVENT
DTSTART;TZID=Europe/Madrid:20221028T120000
DTEND;TZID=Europe/Madrid:20221030T143000
DTSTAMP:20260423T061630
CREATED:20221025T101154Z
LAST-MODIFIED:20221025T101154Z
UID:10917-1666958400-1667140200@visitpuentegenil.es
SUMMARY:XX Cata Fiesta del Membrillo.
DESCRIPTION:Del 28 al 30 de octubre \n📅Viernes\, 28 de octubre\, ⏰12:00h \nTradicional taller de preparación del membrillo\, en el Parque del Tropezón. \n📅Sábado\, 29 de octubre\, ⏰17:30h \nMesa cata\, entrega de premios y degustación de los postres presentados \n📅Domingo\, 30 de octubre\, ⏰14:30h \nAlmuerzo en Salón “La Noria” y Mención de Honor al atleta Miguel Ríos García \nOrganizan: Ayuntamiento de Puente Genil y Asociación María Górriz \nPatrocina: Diputación de Córdoba
URL:https://visitpuentegenil.es/evento/xx-cata-fiesta-del-membrillo/
LOCATION:puente genil
CATEGORIES:Gastronomía
ATTACH;FMTTYPE=image/jpeg:https://visitpuentegenil.es/wp-content/uploads/2022/10/28-30-XX-Cata-del-Membrillo.jpeg
END:VEVENT
BEGIN:VEVENT
DTSTART;TZID=Europe/Madrid:20221029T073000
DTEND;TZID=Europe/Madrid:20221029T170000
DTSTAMP:20260423T061630
CREATED:20221004T113545Z
LAST-MODIFIED:20221004T113545Z
UID:10844-1667028600-1667062800@visitpuentegenil.es
SUMMARY:Subida al Pico Bonales. GAN.
DESCRIPTION:El Grupo de Actividades en la Naturaleza te propone un primer acercamiento a la montaña con la subida al Bonales\, el pico más alto de la provincia de Huelva\, de 1.052 metros\, en la parte norte del Parque Natural de Aracena y Picos de Aroche.\nLa ruta\, de tipo lineal de ida y vuelta\, con un recorrido de 17 kilómetros y un desnivel acumulado de 750 metros\, se inicia en Arroyomolinos de León\, subiendo la cuesta de los Olivos en dirección al Puerto de la Gila\, desde donde nos encaminamos hacia el Arroyo de las Vegas\, pasando junto a las ruinas del Vilano y de la venta de Aguas Altas.\nContinuaremos nuestra andadura hacia el Cerro de la Encina\, rodeados de un hermoso castañar\, para pasar a continuación junto a los cortijos del Tío Aleluya y del Portugués\, rodeados de un bello robledal.\nYa sólo nos queda pasar junto a las Casas de los Bonales y el Puerto de los Ciegos antes de acometer la subida a la cumbre del Bonales para regresar posteriormente al punto de partida en Arroyomolinos de León.\n\nLas inscripciones las podéis realizar a través del responsable del programa de montañismo\, Francisco Ortiz “Guanty” (Tel: 675308949; E-mail guanty7@gmail.com)\, del 10 al 26 de octubre\, con un precio 4 € socios\, 2 € federados y 6 € los no socios (seguros-fianza).\nLos participantes compartirán los gastos de desplazamiento en coche. –No olvides echar buen calzado\, agua\, comida y bastones -.\n📍 Parque Santa Filomena\n📅 Sábado\, 29 de octubre \n⏰ 7:30h.
URL:https://visitpuentegenil.es/evento/subida-al-pico-bonales-gan/
CATEGORIES:Montañismo
ATTACH;FMTTYPE=image/jpeg:https://visitpuentegenil.es/wp-content/uploads/2022/10/29-GAN-Subida-Pico-Bonales.jpg
ORGANIZER;CN="Grupo Actividades en la Naturaleza":MAILTO:elbuzondelgan@gmail.com
END:VEVENT
BEGIN:VEVENT
DTSTART;TZID=Europe/Madrid:20221029T113000
DTEND;TZID=Europe/Madrid:20221029T130000
DTSTAMP:20260423T061630
CREATED:20221028T103822Z
LAST-MODIFIED:20221028T103822Z
UID:10940-1667043000-1667048400@visitpuentegenil.es
SUMMARY:Visita con anfitrión en la Villa Romana de Fuente Álamo.
DESCRIPTION:Descubre la Villa Romana de Fuente Alamo. Puente Genil en una visita con anfitrión y conoce tu pasado.\n📅 29 octubre a las ⏰ 11:30 h. \n💶Precio 5€ por persona.\nHaz tu reserva aquí:\n 957 60 50 34 ext. 380\n puentegenil@ciudadesmedias.org\n#visitasguiadas #historia
URL:https://visitpuentegenil.es/evento/visita-con-anfitrion-en-la-villa-romana-de-fuente-alamo-6/
LOCATION:Villa Romana de Fuente Álamo\, cv-297 km 3\, Puente Genil\, Córdoba\, 14500\, España
ATTACH;FMTTYPE=image/jpeg:https://visitpuentegenil.es/wp-content/uploads/2022/10/29-Visita-Fuente-Alamo.jpg
ORGANIZER;CN="Puente Genil Tu historia":MAILTO:puentegenil@tuhistoria.org
END:VEVENT
BEGIN:VEVENT
DTSTART;TZID=Europe/Madrid:20221029T113000
DTEND;TZID=Europe/Madrid:20221101T120000
DTSTAMP:20260423T061630
CREATED:20221028T090031Z
LAST-MODIFIED:20221028T094932Z
UID:10931-1667043000-1667304000@visitpuentegenil.es
SUMMARY:Actividades durante el #PuentedelosSantos en #PuenteGenil.
DESCRIPTION:Ven y disfruta de #PuenteGenil del 29 octubre al 1 noviembre con las actividades que te ofrecemos para este #PuentedelosSantos.\n\n\n📅Sábado\, 29 de octubre \n-Visita con anfitrión a la 📍 Villa Romana de Fuente Álamo ⏰ 11:30h \nPrecio: 5 euros por persona (para todos los públicos) Duración: 1h 15min \n-Yincana familiar “En busca de la llave perdida” en el 📍Complejo Industrial de La Alianza. 2 pases (⏰18:00h y 19:00h) \nEdad: +8 años. Precio de grupo (máximo 6 personas) 20 euros. Duración por pase: 45 minutos \n📅 Domingo\, 30 de octubre\, ⏰13:00h \n-Visita guiada al 📍 Complejo Industrial de La Alianza  \nGratuito y para todos los públicos. Duración: 45 minutos \n📅Lunes\, 31 de octubre\, ⏰17:30h \n-“Sabotaje en La Alianza”\, juego de rol\, y “A la luz de las velas”\, taller de tarros \nEn el 📍Complejo Industrial de La Alianza \nPrecio: 6 euros por persona. Edad recomendada: +8 años. Duración: 1h 30min \n📅Martes\, 1 de noviembre\, ⏰12:00h \nPuente Genil Monumental\, visita guiada por el casco antiguo de la ciudad. \n📍 Salida desde Plaza Nacional junto al puente de la Unión. \nPrecio: 5 euros por persona. Para todos los públicos. Duración: 1h 30min \n\nHaz tu reserva ya y no te quedes sin tu plaza:\n 957 60 50 34 ext. 380\n puentegenil@ciudadesmedias.org
URL:https://visitpuentegenil.es/evento/actividades-durante-el-puentedelossantos-en-puentegenil/
LOCATION:Puente Genil
CATEGORIES:Actividades infantiles,Arqueología,Historia,Patrimonio,Patrimonio Industrial,Visitas guiadas,Yincana
ATTACH;FMTTYPE=image/png:https://visitpuentegenil.es/wp-content/uploads/2022/10/29o-ct-1nov-otono_en_puente_genil.png
ORGANIZER;CN="Puente Genil Tu historia":MAILTO:puentegenil@tuhistoria.org
END:VEVENT
END:VCALENDAR