BEGIN:VCALENDAR
VERSION:2.0
PRODID:-//Visit Puente Genil - ECPv6.15.20//NONSGML v1.0//EN
CALSCALE:GREGORIAN
METHOD:PUBLISH
X-WR-CALNAME:Visit Puente Genil
X-ORIGINAL-URL:https://visitpuentegenil.es
X-WR-CALDESC:Eventos para Visit Puente Genil
REFRESH-INTERVAL;VALUE=DURATION:PT1H
X-Robots-Tag:noindex
X-PUBLISHED-TTL:PT1H
BEGIN:VTIMEZONE
TZID:Europe/Madrid
BEGIN:DAYLIGHT
TZOFFSETFROM:+0100
TZOFFSETTO:+0200
TZNAME:CEST
DTSTART:20220327T010000
END:DAYLIGHT
BEGIN:STANDARD
TZOFFSETFROM:+0200
TZOFFSETTO:+0100
TZNAME:CET
DTSTART:20221030T010000
END:STANDARD
BEGIN:DAYLIGHT
TZOFFSETFROM:+0100
TZOFFSETTO:+0200
TZNAME:CEST
DTSTART:20230326T010000
END:DAYLIGHT
BEGIN:STANDARD
TZOFFSETFROM:+0200
TZOFFSETTO:+0100
TZNAME:CET
DTSTART:20231029T010000
END:STANDARD
BEGIN:DAYLIGHT
TZOFFSETFROM:+0100
TZOFFSETTO:+0200
TZNAME:CEST
DTSTART:20240331T010000
END:DAYLIGHT
BEGIN:STANDARD
TZOFFSETFROM:+0200
TZOFFSETTO:+0100
TZNAME:CET
DTSTART:20241027T010000
END:STANDARD
END:VTIMEZONE
BEGIN:VEVENT
DTSTART;TZID=Europe/Madrid:20230620T080000
DTEND;TZID=Europe/Madrid:20230831T170000
DTSTAMP:20260424T060518
CREATED:20230620T125800Z
LAST-MODIFIED:20230620T125800Z
UID:12243-1687248000-1693501200@visitpuentegenil.es
SUMMARY:II Concurso de Relatos Enroque Corto
DESCRIPTION:Tras el ilusionante debut del concurso el año pasado\, el club de ajedrez Enroque Corto Sahaldau de Puente Genil convoca su II Concurso de Relatos Enroque Corto\, con el objetivo de incentivar la creación literaria en torno al juego del ajedrez\, ayudando a conocer y fomentar la práctica de este apasionante juego milenario. \nDa rienda suelta al escritor que llevas dentro y envíales tu relato ajedrecístico 📧. \nPuedes leer las bases aquí.bases-ii-concurso_literario_enroque_corto_2023 \n 
URL:https://visitpuentegenil.es/evento/ii-concurso-de-relatos-enroque-corto/
LOCATION:Puente Genil
ATTACH;FMTTYPE=image/jpeg:https://visitpuentegenil.es/wp-content/uploads/2023/06/ii_concurso_relatos_enroque_corto.jpg
END:VEVENT
BEGIN:VEVENT
DTSTART;TZID=Europe/Madrid:20230705T210000
DTEND;TZID=Europe/Madrid:20230705T223000
DTSTAMP:20260424T060518
CREATED:20230616T131009Z
LAST-MODIFIED:20230620T100545Z
UID:12225-1688590800-1688596200@visitpuentegenil.es
SUMMARY:Efecto Mariposa.
DESCRIPTION:Llega a #PuenteGenil “Efecto Mariposa\,” promovido por la Delegación de Cohesión Social\, Consumo y Participación Ciudadana de la Diputación de Córdoba y enmarcado en su Escuela de Ciudadanía Activa. \n“Efecto Mariposa” es un espectáculo de teatro participativo que a través de las artes escénicas: circo\, teatro\, danza o música busca sensibilizar y concienciar a la ciudadanía sobre la importancia de su participación en la vida de su pueblo. La obra contiene distintas tramas relacionadas con situaciones cotidianas y en las que quizá no hayamos reparado desde la reflexión para el cambio. \nEl espectáculo busca\, mediante un lenguaje visual y poético\, mostrar que cada pequeño gesto y cada movimiento puede sumar\, como el aleteo de una mariposa puede provocar una gran transformación. La obra corre a cargo de María Hames\, acróbata especializada en contorsión y técnicas aéreas\, contando también con los artistas multidisciplinares Ernesto Naranjo y Yumi Ruiz. \n¡¡¡Os esperamos!!!🤗🤗🤗 \n📌 Paseo del Romeral.\n📅 Miércoles\, 5 de julio.\n⏰21:00 h.
URL:https://visitpuentegenil.es/evento/efecto-mariposa/
LOCATION:Paseo del Romeral\, Paseo del Romeral s/n\, Puente Genil\, Córdoba\, 14500\, España
CATEGORIES:Circo,Danza,Música,Teatro
ATTACH;FMTTYPE=image/jpeg:https://visitpuentegenil.es/wp-content/uploads/2023/06/5-efecto_mariposa_circo_danza_teatro.jpg
END:VEVENT
END:VCALENDAR