BEGIN:VCALENDAR
VERSION:2.0
PRODID:-//Visit Puente Genil - ECPv6.15.20//NONSGML v1.0//EN
CALSCALE:GREGORIAN
METHOD:PUBLISH
X-WR-CALNAME:Visit Puente Genil
X-ORIGINAL-URL:https://visitpuentegenil.es
X-WR-CALDESC:Eventos para Visit Puente Genil
REFRESH-INTERVAL;VALUE=DURATION:PT1H
X-Robots-Tag:noindex
X-PUBLISHED-TTL:PT1H
BEGIN:VTIMEZONE
TZID:Europe/Madrid
BEGIN:DAYLIGHT
TZOFFSETFROM:+0100
TZOFFSETTO:+0200
TZNAME:CEST
DTSTART:20220327T010000
END:DAYLIGHT
BEGIN:STANDARD
TZOFFSETFROM:+0200
TZOFFSETTO:+0100
TZNAME:CET
DTSTART:20221030T010000
END:STANDARD
BEGIN:DAYLIGHT
TZOFFSETFROM:+0100
TZOFFSETTO:+0200
TZNAME:CEST
DTSTART:20230326T010000
END:DAYLIGHT
BEGIN:STANDARD
TZOFFSETFROM:+0200
TZOFFSETTO:+0100
TZNAME:CET
DTSTART:20231029T010000
END:STANDARD
BEGIN:DAYLIGHT
TZOFFSETFROM:+0100
TZOFFSETTO:+0200
TZNAME:CEST
DTSTART:20240331T010000
END:DAYLIGHT
BEGIN:STANDARD
TZOFFSETFROM:+0200
TZOFFSETTO:+0100
TZNAME:CET
DTSTART:20241027T010000
END:STANDARD
END:VTIMEZONE
BEGIN:VEVENT
DTSTART;TZID=Europe/Madrid:20230620T080000
DTEND;TZID=Europe/Madrid:20230831T170000
DTSTAMP:20260424T060518
CREATED:20230620T125800Z
LAST-MODIFIED:20230620T125800Z
UID:12243-1687248000-1693501200@visitpuentegenil.es
SUMMARY:II Concurso de Relatos Enroque Corto
DESCRIPTION:Tras el ilusionante debut del concurso el año pasado\, el club de ajedrez Enroque Corto Sahaldau de Puente Genil convoca su II Concurso de Relatos Enroque Corto\, con el objetivo de incentivar la creación literaria en torno al juego del ajedrez\, ayudando a conocer y fomentar la práctica de este apasionante juego milenario. \nDa rienda suelta al escritor que llevas dentro y envíales tu relato ajedrecístico 📧. \nPuedes leer las bases aquí.bases-ii-concurso_literario_enroque_corto_2023 \n 
URL:https://visitpuentegenil.es/evento/ii-concurso-de-relatos-enroque-corto/
LOCATION:Puente Genil
ATTACH;FMTTYPE=image/jpeg:https://visitpuentegenil.es/wp-content/uploads/2023/06/ii_concurso_relatos_enroque_corto.jpg
END:VEVENT
BEGIN:VEVENT
DTSTART;TZID=Europe/Madrid:20230724T220000
DTEND;TZID=Europe/Madrid:20230729T220000
DTSTAMP:20260424T060518
CREATED:20230724T085334Z
LAST-MODIFIED:20230726T102555Z
UID:12345-1690236000-1690668000@visitpuentegenil.es
SUMMARY:Cine de Verano 2023.
DESCRIPTION:¡Vuelve el  cine de verano a Puente Genil!📽📽📽 \nA partir del lunes 24 de julio y los lunes\, jueves y sábados vuelve el cine al aire libre al Auditorio Hermanos Cuenca en Los Pinos. Una excelente opción para disfrutar de las noches estivales. \nEsta semana con las siguientes proyecciones: \nBarbie \n \n📌 Auditorio Hermanos Cuenca.\n📅 Lunes\, 24 de julio.\n⏰ 22:00h\n🎟 5€ venta en taquilla. \nMisión imposible. Sentencia Mortal. \n \n📌 Auditorio Hermanos Cuenca.\n📅 Jueves\, 27 de julio.\n⏰ 22:00h\n🎟 5€  \nCompra la entrada on line aquí. \nElemental \n \n📌 Auditorio Hermanos Cuenca.\n📅 Sábado\, 29 de julio.\n⏰ 22:00h\n🎟 5€  \nCompra la entrada on line aquí.
URL:https://visitpuentegenil.es/evento/cine-de-verano-2023/
LOCATION:Auditorio “Hermanos Cuenca”\, Calle Pinar de San Rafael\, s/n\, Puente Genil\, Córdoba\, 14500\, España
CATEGORIES:cine,Cine de Verano
ATTACH;FMTTYPE=image/png:https://visitpuentegenil.es/wp-content/uploads/2023/07/poster_web_cine_de_verano_2023_cartel_vertical_0.png
END:VEVENT
BEGIN:VEVENT
DTSTART;TZID=Europe/Madrid:20230729T220000
DTEND;TZID=Europe/Madrid:20230729T233000
DTSTAMP:20260424T060518
CREATED:20230724T114544Z
LAST-MODIFIED:20230724T120006Z
UID:12365-1690668000-1690673400@visitpuentegenil.es
SUMMARY:Regreso a Ítaca. Teatro de títeres. #NochesEnLaVilla2023
DESCRIPTION:Tras 20 años de largo viaje Odiseo vuelve por fin a su Ítaca natal para descubrir que le han dado por muerto y que varios pretendientes aspiran a casarse con su esposa Penélope y apoderarse de su reino. Usando su legendaria astucia y con algo de ayuda de los dioses\, Ulises deberá vencer una vez más a sus enemigos y volver a conquistar su trono y a su bella esposa. \n¡Ven a disfrutar del teatro de títeres de Sexto Mario en la Villa Romana de Fuente Álamo! Una noche de sábado en familia y al fresco. \n📌 Villa romana de Fuente Álamo.\n📅 Sábado\, 29 de julio.\n⏰ 22:00h \n¡Reserva tu plaza ya! Inscríbete  👉 aquí. \nMás información en el teléfono 957 605 034 (Exts. 0380 – 0388) en horario de 9:00h a 14:00h de lunes a viernes.
URL:https://visitpuentegenil.es/evento/regreso-a-itaca-teatro-de-titeres-nochesenlavilla2023/
LOCATION:Villa Romana de Fuente Álamo\, cv-297 km 3\, Puente Genil\, Córdoba\, 14500\, España
CATEGORIES:Actividades infantiles,Teatro,Títeres
ATTACH;FMTTYPE=image/png:https://visitpuentegenil.es/wp-content/uploads/2023/07/Teatro-Titeres-Regreso-a-Itaca.jpeg-cartel.png
END:VEVENT
END:VCALENDAR