BEGIN:VCALENDAR
VERSION:2.0
PRODID:-//Visit Puente Genil - ECPv6.15.20//NONSGML v1.0//EN
CALSCALE:GREGORIAN
METHOD:PUBLISH
X-ORIGINAL-URL:https://visitpuentegenil.es
X-WR-CALDESC:Eventos para Visit Puente Genil
REFRESH-INTERVAL;VALUE=DURATION:PT1H
X-Robots-Tag:noindex
X-PUBLISHED-TTL:PT1H
BEGIN:VTIMEZONE
TZID:Europe/Madrid
BEGIN:DAYLIGHT
TZOFFSETFROM:+0100
TZOFFSETTO:+0200
TZNAME:CEST
DTSTART:20230326T010000
END:DAYLIGHT
BEGIN:STANDARD
TZOFFSETFROM:+0200
TZOFFSETTO:+0100
TZNAME:CET
DTSTART:20231029T010000
END:STANDARD
BEGIN:DAYLIGHT
TZOFFSETFROM:+0100
TZOFFSETTO:+0200
TZNAME:CEST
DTSTART:20240331T010000
END:DAYLIGHT
BEGIN:STANDARD
TZOFFSETFROM:+0200
TZOFFSETTO:+0100
TZNAME:CET
DTSTART:20241027T010000
END:STANDARD
BEGIN:DAYLIGHT
TZOFFSETFROM:+0100
TZOFFSETTO:+0200
TZNAME:CEST
DTSTART:20250330T010000
END:DAYLIGHT
BEGIN:STANDARD
TZOFFSETFROM:+0200
TZOFFSETTO:+0100
TZNAME:CET
DTSTART:20251026T010000
END:STANDARD
END:VTIMEZONE
BEGIN:VEVENT
DTSTART;TZID=Europe/Madrid:20241007T080000
DTEND;TZID=Europe/Madrid:20241104T203000
DTSTAMP:20260423T005652
CREATED:20241007T110144Z
LAST-MODIFIED:20241007T110401Z
UID:14307-1728288000-1730752200@visitpuentegenil.es
SUMMARY:IX Concurso de Carteles contra la Violencia de Género.
DESCRIPTION:Con motivo del 25 de noviembre\,  la Delegación de Igualdad del Ayuntamiento de Puente Genil convoca el IX Concurso de Carteles contra la Violencia de Género con el objetivo “de promover la conciencia y el rechazo social contra la misma\,” cartel que será la imagen de la campaña municipal contra la violencia de género del presente año. \nPodrá participar en el concurso cualquier persona mayor de edad\, empadronada en Puente Genil\, de forma individual\, no admitiéndose por tanto trabajos colectivos. El tema del cartel tiene que estar relacionado con la lucha y erradicación de la violencia de género en la sociedad en todas sus manifestaciones. \nEn el cartel deberá aparecer la mención “25 de noviembre\, Día Internacional contra la Violencia de Género”\, y un lema elegido por cada concursante. El lema pretende motivar al conjunto de la sociedad al rechazo de la violencia de género. \nSegún recoge las bases\, el trabajo deberá ser inédito\, original y no premiado en otros concursos\, se presentará en archivo digital sin firma\, sin nombre de autor o autora y con un título o lema. Cada trabajo deberá presentarse en sobre cerrado\, haciendo constar en el exterior IX Concurso de Carteles contra la Violencia de Género\, Ayuntamiento de Puente Genil 2024 y el lema o título con el que se concursa. \nLos trabajos irán dirigidos a la Concejalía de Igualdad y deberán presentarse de forma presencial hasta el 4 de noviembre en la recepción de la Biblioteca Municipal Ricardo Molina\, sita en el Parque de Los Pinos\, en su horario de apertura de lunes a viernes (de 8:00 a 14:30 y de 16:00 a 20:30 horas)\, estableciéndose premios de 300\, 150 y 50 euros para los tres mejores carteles. \nHaz clic aquí para consultar las bases del concurso.
URL:https://visitpuentegenil.es/evento/ix-concurso-de-carteles-contra-la-violencia-de-genero/
LOCATION:Biblioteca Pública Municipal Ricardo Molina\, Parque los Pinos\, s/n\, Puente Genil\, Córdoba\, 14500\, España
CATEGORIES:Concurso,Mujer
ATTACH;FMTTYPE=image/jpeg:https://visitpuentegenil.es/wp-content/uploads/2024/10/7-concurso-de-carteles-contra-la-violencia-de-genero-2024-scaled.jpg
ORGANIZER;CN="Delegaci%C3%B3n de Igualdad":MAILTO:mujer@aytopuentegenil.es
END:VEVENT
BEGIN:VEVENT
DTSTART;TZID=Europe/Madrid:20241015T110000
DTEND;TZID=Europe/Madrid:20241030T200000
DTSTAMP:20260423T005652
CREATED:20241014T121903Z
LAST-MODIFIED:20241014T121903Z
UID:14329-1728990000-1730318400@visitpuentegenil.es
SUMMARY:Puente Genil celebra el Día Internacional de las Mujeres Rurales con actividades culturales y de concienciación.
DESCRIPTION:El próximo 15 de octubre\, Puente Genil conmemorará el Día Internacional de las Mujeres Rurales con una serie de actividades que abarcarán desde la cultura hasta la reflexión sobre el papel de la mujer en el ámbito rural. La jornada comenzará a las 11:00 horas en la Sala de Exposiciones de la Biblioteca Ricardo Molina\, con la inauguración de la Exposición Fotográfica «Mujeres Rurales»\, una colección cedida temporalmente por la Federación Local de Asociaciones de Mujeres «Orillas del Genil». \nPor la tarde\, a las 18:00 horas\, en la Casa de la Cultura\, se celebrará un encuentro entre asociaciones de mujeres de Puente Genil\, que incluirá una charla-coloquio bajo el título «Mujer en el ámbito rural». Posteriormente\, habrá un espacio para la merienda y monólogos a cargo de las asociaciones Pontanas de Teatro y la Asociación Cultural de Mujeres Zenobia. \nJornadas sobre el acceso de las mujeres a la función pública \nEl 16 de octubre de 18:00 a 20:00 horas\, la misma Sala de Exposiciones acogerá una jornada formativa en colaboración con la Academia Opositas titulada “El acceso de la mujer a la función pública: opciones laborales”\, donde se abordarán las oportunidades y retos que enfrentan las mujeres rurales en este sector. La programación finalizará el 30 de octubre a las 18:00 horas en el Teatro Circo\, con la representación teatral «La huella de la mujer en Puente Genil» por la Asociación Cultural de Mujeres Zenobia. \nAsunción César\, concejala delegada de Servicios Sociales\, Igualdad y Familias\, destacó la importancia de esta celebración en el municipio\, señalando que “el Día Internacional de las Mujeres Rurales es una oportunidad para visibilizar el esfuerzo y la contribución de las mujeres al desarrollo de nuestra población rural. A través de actividades culturales\, formativas y de reflexión\, queremos reivindicar su papel y generar conciencia sobre los retos que enfrentan diariamente”. \nLa concejala subrayó también que “en Puente Genil\, las mujeres rurales representan el corazón de muchas familias y proyectos productivos. Es esencial apoyarlas para que puedan acceder a mejores oportunidades laborales y a una mayor igualdad de condiciones. Este tipo de iniciativas sirven para brindarles el reconocimiento que merecen y promover su participación activa en todos los ámbitos de la sociedad».
URL:https://visitpuentegenil.es/evento/puente-genil-celebra-el-dia-internacional-de-las-mujeres-rurales-con-actividades-culturales-y-de-concienciacion/
LOCATION:PUENTE GENIL\, Puente Genil\, CÓRDOBA\, 14500
CATEGORIES:Exposiciones,Jornadas,Mujer
ATTACH;FMTTYPE=image/jpeg:https://visitpuentegenil.es/wp-content/uploads/2024/10/15-Dia-de-la-Mujer-Rural.jpg
ORGANIZER;CN="Delegaci%C3%B3n de Igualdad":MAILTO:mujer@aytopuentegenil.es
END:VEVENT
BEGIN:VEVENT
DTSTART;TZID=Europe/Madrid:20241025T140000
DTEND;TZID=Europe/Madrid:20241027T030000
DTSTAMP:20260423T005652
CREATED:20241023T125006Z
LAST-MODIFIED:20241023T125006Z
UID:14375-1729864800-1729998000@visitpuentegenil.es
SUMMARY:Velada de los Afligidos en la Caseta Municipal.
DESCRIPTION:¡Este fin de semana ven y disfruta de la Velada de Los Afligidos! \nTras el éxito del pasado año este repiten en la Caseta Municipal con un variado programa de actividades para todos los públicos. \nEl viernes 📅25 de octubre disfrutaremos de *Raúl Evoluxion* experimentado DJ y locutor de radio que nos hará vibrar con la música más actual. \n\nEl 📅 sábado\, 26 de octubre\, habrá degustación de paella a partir de las ⏰14:30h y después por la tarde *Raul Evoluxion* dará un repaso de la música más bailable de los 80-90 hasta la actualidad. Ya por la noche *DJ Dani Trend* nos hará bailar hasta que el cuerpo aguante…\nLos niñoxs contarán con las animaciones de “Manos de colores” el sábado por la tarde\, así que papás y mamás no tienen excusa…\n\n\n¡¡Una velada pensada para tod@s!!\n\n¡Os esperamos! \n📌Caseta Municipal\n📅Viernes\, 25 y sábado\, 26 de octubre.
URL:https://visitpuentegenil.es/evento/velada-de-los-afligidos-en-la-caseta-municipal/
ATTACH;FMTTYPE=image/jpeg:https://visitpuentegenil.es/wp-content/uploads/2024/10/25-Velada-de-los-Afligidos.jpg
ORGANIZER;CN="Hermandad de la Santa Cruz":MAILTO:hdadsantacruz.pg@gmail.com
END:VEVENT
BEGIN:VEVENT
DTSTART;TZID=Europe/Madrid:20241027T080000
DTEND;TZID=Europe/Madrid:20241027T173000
DTSTAMP:20260423T005652
CREATED:20240926T122822Z
LAST-MODIFIED:20240926T122851Z
UID:14283-1730016000-1730050200@visitpuentegenil.es
SUMMARY:Concentración Vespa Club 2024.
DESCRIPTION:El próximo domingo 27 de octubre el centro de Puente Genil será el escenario de la séptima concentración de motos vespa organizada por el Vespa Club Puente Genil en colaboración con el Ayuntamiento\, que también incluirá una parada en la Villa Romana de Fuente Álamo. \n\n\nEste año\, apuestan por una ruta al estilo track que estamos seguros que la disfrutarás. Consiste en un recorrido a ritmo libre con 4 puntos de control en el camino\, de modo que al llegar a cada uno de ellos\, recibirás las coordenadas del siguiente\, así que es imprescindible que te traigas un soporte para el móvil\, para seguir las indicaciones de Google Maps. \nDe este modo\, tú marcas el ritmo y los compañeros con los que hacer la ruta hasta el último punto de control\, en el que nos agrupamos todos para hacer un breve recorrido por las calles de Puente Genil. \nPROGRAMA:\n\n\n\n8:00h/10:00h – Admisión y desayuno\n10:00h – Comienza la ruta en formato TRACK\n12:30-13:30h – Avituallamiento y reagrupamiento\n13:30h – Entrada y recorrido por las calles de Puente Genil\n14:00h – Almuerzo y entrega de premios / sorteos\n17.:30h – Final de la concentración\n\n📌Patio Colegio Compañía de María.\n📅Domingo\, 27 de octubre.\n⏰8:00h.\n🎫Inscripción 30€ ¡Inscríbete ya! Plazas limitadas a 150 participantes.\n\n\n\n\n 
URL:https://visitpuentegenil.es/evento/concentracion-vespa-club-2024/
LOCATION:PUENTE GENIL\, Puente Genil\, CÓRDOBA\, 14500
CATEGORIES:Concentraciones,Motor,Mototurismo
ATTACH;FMTTYPE=image/jpeg:https://visitpuentegenil.es/wp-content/uploads/2024/09/27-Vespa-Club.jpg
ORGANIZER;CN="Vespa Club Puente Genil":MAILTO:vespaclubpuentegenil@gmail.com
END:VEVENT
BEGIN:VEVENT
DTSTART;TZID=Europe/Madrid:20241027T123000
DTEND;TZID=Europe/Madrid:20241027T140000
DTSTAMP:20260423T005652
CREATED:20241024T104237Z
LAST-MODIFIED:20241024T104237Z
UID:14391-1730032200-1730037600@visitpuentegenil.es
SUMMARY:Balonmano en el Pabellón Miguel Salas.
DESCRIPTION:¡Este 𝐃𝐎𝐌𝐈𝐍𝐆𝐎 regresa el balonmano al Alcalde Miguel Salas! La programación televisiva lleva a nuestro Ángel Ximénez a abrir la jornada dominical de ASOBAL junto a nuestros amigos de BM Servigroup Benidorm ¡Os esperamos\, #familiaAX!  \n📌Pabellón Miguel Salas.\n📅Domingo\, 27 de octubre.\n⏰12:30h\n🎟15€ general. 8€ Joven (13 a 17 años) y jubilados. 5€ niñxs (6 a 12 años) 5 euros
URL:https://visitpuentegenil.es/evento/balonmano-en-el-pabellon-miguel-salas/
LOCATION:Pabellón Alcalde Miguel Salas\, Calle Cortés Españolas\, s/n\, Puente Genil\, Córdoba\, 14500\, España
CATEGORIES:Balonmano
ATTACH;FMTTYPE=image/jpeg:https://visitpuentegenil.es/wp-content/uploads/2024/10/27-Balonmano.jpg
ORGANIZER;CN="Club Balonmano %C3%81ngel Xim%C3%A9nez":MAILTO:angelximenezbm@gmail.com
END:VEVENT
END:VCALENDAR