BEGIN:VCALENDAR
VERSION:2.0
PRODID:-//Visit Puente Genil - ECPv6.15.20//NONSGML v1.0//EN
CALSCALE:GREGORIAN
METHOD:PUBLISH
X-WR-CALNAME:Visit Puente Genil
X-ORIGINAL-URL:https://visitpuentegenil.es
X-WR-CALDESC:Eventos para Visit Puente Genil
REFRESH-INTERVAL;VALUE=DURATION:PT1H
X-Robots-Tag:noindex
X-PUBLISHED-TTL:PT1H
BEGIN:VTIMEZONE
TZID:Europe/Madrid
BEGIN:DAYLIGHT
TZOFFSETFROM:+0100
TZOFFSETTO:+0200
TZNAME:CEST
DTSTART:20230326T010000
END:DAYLIGHT
BEGIN:STANDARD
TZOFFSETFROM:+0200
TZOFFSETTO:+0100
TZNAME:CET
DTSTART:20231029T010000
END:STANDARD
BEGIN:DAYLIGHT
TZOFFSETFROM:+0100
TZOFFSETTO:+0200
TZNAME:CEST
DTSTART:20240331T010000
END:DAYLIGHT
BEGIN:STANDARD
TZOFFSETFROM:+0200
TZOFFSETTO:+0100
TZNAME:CET
DTSTART:20241027T010000
END:STANDARD
BEGIN:DAYLIGHT
TZOFFSETFROM:+0100
TZOFFSETTO:+0200
TZNAME:CEST
DTSTART:20250330T010000
END:DAYLIGHT
BEGIN:STANDARD
TZOFFSETFROM:+0200
TZOFFSETTO:+0100
TZNAME:CET
DTSTART:20251026T010000
END:STANDARD
END:VTIMEZONE
BEGIN:VEVENT
DTSTART;TZID=Europe/Madrid:20241122T203000
DTEND;TZID=Europe/Madrid:20241122T220000
DTSTAMP:20260423T005658
CREATED:20241108T073118Z
LAST-MODIFIED:20241119T131717Z
UID:14505-1732307400-1732312800@visitpuentegenil.es
SUMMARY:#MesdelFlamenco. "Capullo de Jerez" y Álvaro Martín.
DESCRIPTION:Con motivo de la celebración del #MesdelFlamenco Miguel Flores\, el “Capullo de Jerez” y Álvaro Martín actuarán el próximo viernes\, 22 de noviembre en la Plaza “Manuel Chaparro Mansilla\,” junto a la Ermita de la Veracruz. \n¡Ven a disfrutar del flamenco con nosotros!💃 \n💃🏼Concierto Capullo de Jerez y Álvaro Martín\n📅Viernes\, 22 de noviembre. ⏰20:30h.\n📌Plaza “Manuel Chaparro Mansilla\,” Ermita de la Veracruz. \n#MesdelFlamenco
URL:https://visitpuentegenil.es/evento/mesdelflamenco-capullo-de-jerez-y-alvaro-martin/
LOCATION:Plaza Manuel Chaparro Mansilla\, C/ Aguilar\, s/n\, Puente Genil\, Córdoba\, 14500\, Spain
CATEGORIES:Conciertos,Flamenco
ATTACH;FMTTYPE=image/jpeg:https://visitpuentegenil.es/wp-content/uploads/2024/11/22-CARTEL-CAPULLO-DE-JEREZ-2.jpeg
END:VEVENT
BEGIN:VEVENT
DTSTART;TZID=Europe/Madrid:20241122T210000
DTEND;TZID=Europe/Madrid:20241122T233000
DTSTAMP:20260423T005658
CREATED:20241114T103438Z
LAST-MODIFIED:20241114T103522Z
UID:14549-1732309200-1732318200@visitpuentegenil.es
SUMMARY:XVII Festival Lírico de Puente Genil. Sinfonía núm. 9 en re menor.
DESCRIPTION:El próximo viernes 22 de noviembre la compañía Teatro Lírico Andaluz ofrecerá la Sinfonía número 9 en re menor/ Opus 125 de Ludwig V. Beethoven en el Teatro Circo con motivo de la celebración de su doscientos aniversario. \nEl evento a cargo de la Orquesta Sinfónica Hispalense y el Coro de la Universidad de Sevilla contará con la soprano Estefanía Canseco\, la mezzosoprano Carmen Serrano\, el tenor Arturo Garralón y el bajo Andrés del Pino con la dirección de José Carlos Carmona. \n¡Ven a disfrutar de esta sinfonía con nosotros! ¡Te esperamos! \n💃🏼9ª Sinfonía de Beethoven\n📅Viernes\, 22 de noviembre.\n⏰21:00h.\n📌Teatro Circo.\n🎟 10€ anticipada. 12€ en taquilla.\n📱Reservas en el 617 453 061 \n 
URL:https://visitpuentegenil.es/evento/xvii-festival-lirico-de-puente-genil/
LOCATION:Teatro Circo\, C/ Jesús\, s/n\, Puente Genil\, Córdoba\, 14500\, España
CATEGORIES:Conciertos,Música,Orquestas
ATTACH;FMTTYPE=image/jpeg:https://visitpuentegenil.es/wp-content/uploads/2024/11/22-SINFONIA-NUM-9.jpg
END:VEVENT
END:VCALENDAR