BEGIN:VCALENDAR
VERSION:2.0
PRODID:-//Visit Puente Genil - ECPv6.15.20//NONSGML v1.0//EN
CALSCALE:GREGORIAN
METHOD:PUBLISH
X-WR-CALNAME:Visit Puente Genil
X-ORIGINAL-URL:https://visitpuentegenil.es
X-WR-CALDESC:Eventos para Visit Puente Genil
REFRESH-INTERVAL;VALUE=DURATION:PT1H
X-Robots-Tag:noindex
X-PUBLISHED-TTL:PT1H
BEGIN:VTIMEZONE
TZID:Europe/Madrid
BEGIN:DAYLIGHT
TZOFFSETFROM:+0100
TZOFFSETTO:+0200
TZNAME:CEST
DTSTART:20180325T010000
END:DAYLIGHT
BEGIN:STANDARD
TZOFFSETFROM:+0200
TZOFFSETTO:+0100
TZNAME:CET
DTSTART:20181028T010000
END:STANDARD
BEGIN:DAYLIGHT
TZOFFSETFROM:+0100
TZOFFSETTO:+0200
TZNAME:CEST
DTSTART:20190331T010000
END:DAYLIGHT
BEGIN:STANDARD
TZOFFSETFROM:+0200
TZOFFSETTO:+0100
TZNAME:CET
DTSTART:20191027T010000
END:STANDARD
BEGIN:DAYLIGHT
TZOFFSETFROM:+0100
TZOFFSETTO:+0200
TZNAME:CEST
DTSTART:20200329T010000
END:DAYLIGHT
BEGIN:STANDARD
TZOFFSETFROM:+0200
TZOFFSETTO:+0100
TZNAME:CET
DTSTART:20201025T010000
END:STANDARD
END:VTIMEZONE
BEGIN:VEVENT
DTSTART;TZID=Europe/Madrid:20191206T100000
DTEND;TZID=Europe/Madrid:20191209T140000
DTSTAMP:20260420T001912
CREATED:20191129T133300Z
LAST-MODIFIED:20191129T133301Z
UID:7197-1575626400-1575900000@visitpuentegenil.es
SUMMARY:SABOREANDO TU HISTORIA 2019
DESCRIPTION:Del 6 al 9 de diciembre el Ayuntamiento de Puente Genil\, a través de la concejalía de Turismo\, celebra el nacimiento de nuestra ciudad. \n¿Sabías que hasta el 7 de diciembre de 1834 no había un solo pueblo sino dos? Uno a cada orilla del Genil y dos provincias diferentes que se unieron ese día por decreto de la reina regente María Cristina. \nEs por ello que hemos organizado un extenso y variado programa de actividades bajo el título Saboreando tu Historia. \nPodréis disfrutar de recreaciones históricas a cargo de la Asociación Pontanas\, visitas guiadas a exposiciones y museos\, actuaciones musicales y una sugestiva oferta gastronómica ofertada por Biodiverxa y Puente Genil Tu Historia. \nPara participar sólo tienes que llamarnos 957600853\, enviarnos un correo electrónico: turismo@aytopuentegenil.es o venir a la Oficina de Turismo de lunes a domingo\, en horario de 10 a 14h. \nDescarga aquí la programación.SABOREANDO 2019 DIPTICO \n¡Os esperamos! \n 
URL:https://visitpuentegenil.es/evento/saboreando-tu-historia-2019/
LOCATION:Puente Genil
CATEGORIES:Actividades infantiles,Arqueología,Catas,Rutas,Visitas teatralizadas
ATTACH;FMTTYPE=image/jpeg:https://visitpuentegenil.es/wp-content/uploads/2019/11/6-al-9-Saboreando.jpg
END:VEVENT
BEGIN:VEVENT
DTSTART;TZID=Europe/Madrid:20191212T080000
DTEND;TZID=Europe/Madrid:20191212T170000
DTSTAMP:20260420T001912
CREATED:20191212T141645Z
LAST-MODIFIED:20191212T141645Z
UID:7238-1576137600-1576170000@visitpuentegenil.es
SUMMARY:Los sueños de Fany.
DESCRIPTION:El Teatro Circo acogerá el domingo 15 de diciembre\, a las 17:30 horas\, Los sueños de Fany\, obra de teatro infantil escrita por Andrés Alcaraz y dirigida por Santiago Pérez\, organizada por Osmara Teatro. \nLa trama argumental transcurre en el entorno de Fany\, una niña que anhela ser bailarina como su madre\, y para ver cumplido su gran sueño asiste a diario a una academia de baile. De repente\, le dice al padre que no puede bailar y argumenta que un ladrón le roba los pasos de baile mientras duerme. Surge así el ladrón de sueños\, un personaje entrañable que entusiasma y seduce al pública en cada una de sus apariciones en escena. Los temas musicales han sido seleccionados para que sus letras concuerden con la temática de la obra teatral. \nPuntos de Venta: Confitería Miragenil\, Trencitas\, Amalia Molina y Mapfre. Precio: 5 euros (venta anticipada). 7 euros (en taquilla)
URL:https://visitpuentegenil.es/evento/los-suenos-de-fany/
LOCATION:Teatro Circo\, C/ Jesús\, s/n\, Puente Genil\, Córdoba\, 14500\, España
CATEGORIES:Actividades infantiles,Teatro
ATTACH;FMTTYPE=image/jpeg:https://visitpuentegenil.es/wp-content/uploads/2019/12/15_osmara_teatro19_-_cartel_15-scaled.jpg
END:VEVENT
BEGIN:VEVENT
DTSTART;TZID=Europe/Madrid:20191222T170000
DTEND;TZID=Europe/Madrid:20191222T190000
DTSTAMP:20260420T001912
CREATED:20191216T090959Z
LAST-MODIFIED:20191216T090959Z
UID:7246-1577034000-1577041200@visitpuentegenil.es
SUMMARY:Las Aventuras de Bartolito.
DESCRIPTION:Las canciones de la granja llega al teatro con un nuevo y espectacular show: “Las Aventuras de Bartolito”. Esta vez\, el gallito más popular de youtube\, junto a todos sus amigos de la granja\, vuelven para divertir\, bailar y jugar\, el domingo 22 de diciembre\, en el Teatro Circo\, a las 17:00 horas. \nEl pícaro Bartolito solo quiere ganar en todos los juegos y para lograrlo hará un montón de travesuras…pero cuidado!!! Se podría estar armando un plan para asustarlos a todos La Vaca Lola\, Percherón\, el Gallo Pinto y todos los animales de la granja deberán encontrar la forma para que todo vuelva a la normalidad. Una obra infantil que los cautivará con las canciones que todos quieren cantar y bailar. La diversión está asegurada. \n10 euros anticipada en www.giglon.com y 12 euros taquilla
URL:https://visitpuentegenil.es/evento/las-aventuras-de-bartolito/
LOCATION:Teatro Circo\, C/ Jesús\, s/n\, Puente Genil\, Córdoba\, 14500\, España
CATEGORIES:Actividades infantiles,Conciertos,Música
ATTACH;FMTTYPE=image/png:https://visitpuentegenil.es/wp-content/uploads/2019/12/22-Las-aventuras-de-Bartolito.png
ORGANIZER;CN="Piturda":MAILTO:info@piturda.com
END:VEVENT
END:VCALENDAR