BEGIN:VCALENDAR
VERSION:2.0
PRODID:-//Visit Puente Genil - ECPv6.15.20//NONSGML v1.0//EN
CALSCALE:GREGORIAN
METHOD:PUBLISH
X-WR-CALNAME:Visit Puente Genil
X-ORIGINAL-URL:https://visitpuentegenil.es
X-WR-CALDESC:Eventos para Visit Puente Genil
REFRESH-INTERVAL;VALUE=DURATION:PT1H
X-Robots-Tag:noindex
X-PUBLISHED-TTL:PT1H
BEGIN:VTIMEZONE
TZID:Europe/Madrid
BEGIN:DAYLIGHT
TZOFFSETFROM:+0100
TZOFFSETTO:+0200
TZNAME:CEST
DTSTART:20190331T010000
END:DAYLIGHT
BEGIN:STANDARD
TZOFFSETFROM:+0200
TZOFFSETTO:+0100
TZNAME:CET
DTSTART:20191027T010000
END:STANDARD
BEGIN:DAYLIGHT
TZOFFSETFROM:+0100
TZOFFSETTO:+0200
TZNAME:CEST
DTSTART:20200329T010000
END:DAYLIGHT
BEGIN:STANDARD
TZOFFSETFROM:+0200
TZOFFSETTO:+0100
TZNAME:CET
DTSTART:20201025T010000
END:STANDARD
BEGIN:DAYLIGHT
TZOFFSETFROM:+0100
TZOFFSETTO:+0200
TZNAME:CEST
DTSTART:20210328T010000
END:DAYLIGHT
BEGIN:STANDARD
TZOFFSETFROM:+0200
TZOFFSETTO:+0100
TZNAME:CET
DTSTART:20211031T010000
END:STANDARD
END:VTIMEZONE
BEGIN:VEVENT
DTSTART;TZID=Europe/Madrid:20200925T190000
DTEND;TZID=Europe/Madrid:20200925T203000
DTSTAMP:20260421T121024
CREATED:20200917T084456Z
LAST-MODIFIED:20200917T084456Z
UID:8151-1601060400-1601065800@visitpuentegenil.es
SUMMARY:Presentación del libro La “R” tiene mucho cuento.
DESCRIPTION:Lola Marqués\, Logopeda y maestra en Audición y Lenguaje\, presentará su libro La “R” tiene mucho cuento el viernes 25 de septiembre. \nEl evento se celebrará en la  Plaza del Grupo Cántico\, junto a la Biblioteca Ricardo Molina\,a las 19:00 horas. \nTambién habrá un taller teatralizado de Cuentacuentos\, ambas actividades forman parte del programa cultural El autor y su obra\, de la Fundación Juan Rejano. \nColaboran la Delegación de Cultura del Excmo. Ayuntamiento de Puente Genil y la editorial Cuatro Hojas. \nEntrada libre hasta completar aforo\nActividad con las medidas preventivas Covid-19
URL:https://visitpuentegenil.es/evento/presentacion-del-libro-la-r-tiene-mucho-cuento/
CATEGORIES:Actividades infantiles,Presentaciones libros
ATTACH;FMTTYPE=image/jpeg:https://visitpuentegenil.es/wp-content/uploads/2020/09/25-_la_r_tiene_mucho_cuento.jpeg
ORGANIZER;CN="Fundaci%C3%B3n Juan Rejano":MAILTO:administracionfjr@aytopuentegenil.es
END:VEVENT
END:VCALENDAR