BEGIN:VCALENDAR
VERSION:2.0
PRODID:-//Visit Puente Genil - ECPv6.15.20//NONSGML v1.0//EN
CALSCALE:GREGORIAN
METHOD:PUBLISH
X-WR-CALNAME:Visit Puente Genil
X-ORIGINAL-URL:https://visitpuentegenil.es
X-WR-CALDESC:Eventos para Visit Puente Genil
REFRESH-INTERVAL;VALUE=DURATION:PT1H
X-Robots-Tag:noindex
X-PUBLISHED-TTL:PT1H
BEGIN:VTIMEZONE
TZID:Europe/Madrid
BEGIN:DAYLIGHT
TZOFFSETFROM:+0100
TZOFFSETTO:+0200
TZNAME:CEST
DTSTART:20220327T010000
END:DAYLIGHT
BEGIN:STANDARD
TZOFFSETFROM:+0200
TZOFFSETTO:+0100
TZNAME:CET
DTSTART:20221030T010000
END:STANDARD
BEGIN:DAYLIGHT
TZOFFSETFROM:+0100
TZOFFSETTO:+0200
TZNAME:CEST
DTSTART:20230326T010000
END:DAYLIGHT
BEGIN:STANDARD
TZOFFSETFROM:+0200
TZOFFSETTO:+0100
TZNAME:CET
DTSTART:20231029T010000
END:STANDARD
BEGIN:DAYLIGHT
TZOFFSETFROM:+0100
TZOFFSETTO:+0200
TZNAME:CEST
DTSTART:20240331T010000
END:DAYLIGHT
BEGIN:STANDARD
TZOFFSETFROM:+0200
TZOFFSETTO:+0100
TZNAME:CET
DTSTART:20241027T010000
END:STANDARD
END:VTIMEZONE
BEGIN:VEVENT
DTSTART;TZID=Europe/Madrid:20231108T160000
DTEND;TZID=Europe/Madrid:20231125T120000
DTSTAMP:20260425T015717
CREATED:20231102T114556Z
LAST-MODIFIED:20231102T114700Z
UID:12776-1699459200-1700913600@visitpuentegenil.es
SUMMARY:Laboratorio de creación escénica en La Alianza.
DESCRIPTION:PAE lab o Laboratorio de creación escénica en paisajes patrimoniales\, es un proyecto de investigación escénica desarrollado en torno al binomio arte escénico-patrimonio cultural\, para la exploración\, investigación y dinamización a través del arte escénico de contextos patrimoniales periféricos\, rurales e históricamente ligados a procesos de producción y a la generación de interesantes paisajes productivos. \nEl primero de sus 3 experimentos escénicos se va a llevar a cabo en el complejo industrial de la Alianza a lo largo de este mes de noviembre. \nLas personas interesadas en participar pueden rellenar el siguiente formulario. \nTALLER PARTICIPATIVO\n \n\nMiércoles 8\, 15 y 22 de noviembre de 16-19 horas en el conjunto industrial La Alianza. Plazas limitadas.\n\nMUESTRA FINAL Y RECORRIDO\n \n\nSábado 25 de noviembre a las 12 horas en el complejo industrial La Alianza y finalización en Bodegas Delgado. Entrada libre hasta completar aforo. \n\n 
URL:https://visitpuentegenil.es/evento/laboratorio-de-creacion-escenica-alianza-alianza/
LOCATION:Complejo industrial La Alianza\, Plaza Nacional\, s/n\, Puente Genil\, Córdoba\, 14500\, España
CATEGORIES:Arte
ATTACH;FMTTYPE=image/jpeg:https://visitpuentegenil.es/wp-content/uploads/2023/11/8-25-El-Alambre.jpeg
ORGANIZER;CN="El Alambre":MAILTO:produccion@elalambre.org
END:VEVENT
END:VCALENDAR