BEGIN:VCALENDAR
VERSION:2.0
PRODID:-//Visit Puente Genil - ECPv6.15.20//NONSGML v1.0//EN
CALSCALE:GREGORIAN
METHOD:PUBLISH
X-ORIGINAL-URL:https://visitpuentegenil.es
X-WR-CALDESC:Eventos para Visit Puente Genil
REFRESH-INTERVAL;VALUE=DURATION:PT1H
X-Robots-Tag:noindex
X-PUBLISHED-TTL:PT1H
BEGIN:VTIMEZONE
TZID:Europe/Madrid
BEGIN:DAYLIGHT
TZOFFSETFROM:+0100
TZOFFSETTO:+0200
TZNAME:CEST
DTSTART:20230326T010000
END:DAYLIGHT
BEGIN:STANDARD
TZOFFSETFROM:+0200
TZOFFSETTO:+0100
TZNAME:CET
DTSTART:20231029T010000
END:STANDARD
BEGIN:DAYLIGHT
TZOFFSETFROM:+0100
TZOFFSETTO:+0200
TZNAME:CEST
DTSTART:20240331T010000
END:DAYLIGHT
BEGIN:STANDARD
TZOFFSETFROM:+0200
TZOFFSETTO:+0100
TZNAME:CET
DTSTART:20241027T010000
END:STANDARD
BEGIN:DAYLIGHT
TZOFFSETFROM:+0100
TZOFFSETTO:+0200
TZNAME:CEST
DTSTART:20250330T010000
END:DAYLIGHT
BEGIN:STANDARD
TZOFFSETFROM:+0200
TZOFFSETTO:+0100
TZNAME:CET
DTSTART:20251026T010000
END:STANDARD
END:VTIMEZONE
BEGIN:VEVENT
DTSTART;TZID=Europe/Madrid:20240302T110000
DTEND;TZID=Europe/Madrid:20240302T133000
DTSTAMP:20260424T193851
CREATED:20240215T115917Z
LAST-MODIFIED:20240215T130409Z
UID:13202-1709377200-1709386200@visitpuentegenil.es
SUMMARY:"Siente la Mananta" visita guiada.
DESCRIPTION:Conoce de la mano de un guía las costumbres y tradiciones que giran en torno a la singular Semana Santa de Puente Genil y siente nuestra Mananta. \nDescubre a través de esta ruta guiada la Muestra Permanente de la Semana Santa\, la artesanía y tradición manantera\, así como sus iglesias y casas cuarteles. \n¡Haz tu reserva ya! \n 📌Plaza Nacional.\n📅Sábado\, 2 de marzo.\n⏰11:00h.\n🎫5€ \nInformación y reservas: 📞957 60 50 34 ext. 0 380 / 📧 puentegenil@ciudadesmedias.org
URL:https://visitpuentegenil.es/evento/siente-la-mananta-visita-guiada/
LOCATION:Plaza Nacional\, Plaza Nacional\, Puente Genil\, Córdoba\, 14500\, España
CATEGORIES:Arte,Artesanía,Cuaresma,Semana Santa,Visitas guiadas
ATTACH;FMTTYPE=image/png:https://visitpuentegenil.es/wp-content/uploads/2024/02/Visita-Siente-La-Mananta-2-Marzo.png
ORGANIZER;CN="Ciudades Medias":MAILTO:puentegenil@ciudadesmedias.org
END:VEVENT
BEGIN:VEVENT
DTSTART;TZID=Europe/Madrid:20240308T180000
DTEND;TZID=Europe/Madrid:20240309T190000
DTSTAMP:20260424T193851
CREATED:20240223T132754Z
LAST-MODIFIED:20240223T132754Z
UID:13259-1709920800-1710010800@visitpuentegenil.es
SUMMARY:La asociación Pintura y Arte organiza una original exposición en el Casino Pontanés.
DESCRIPTION:La asociación Pintura y Arte Puente Genil organiza para el fin de semana del 8 y 9 de marzo entorno a la celebración del Día Internacional de la Mujer  una original exposición de arte. \nUna muestra “ de artesanía rica en textiles “ y otras materias primas pilotada por la diseñadora María José Jiménez. El colectivo trabaja el arte desde distintas técnicas y materiales\, así trabajan los belenes\, todo tipo de tejidos\, pintan\, elaboran flecos y otro tipo de indumentaria para uso particular. \nTambién darán a conocer una master class con algunas de las piezas que están realizando. \n\n\n\n📌Casino Pontanés.\n📅Viernes\, 8 de marzo. ⏰de 18:00 a 20:30h.\n📆Sábado\, 9 de marzo. ⏰de 12:00 a 19:00h. \n📍📍 Demo 9 de marzo a las 17:00h. \nEntrada libre hasta completar aforo.
URL:https://visitpuentegenil.es/evento/la-asociacion-pintura-y-arte-organiza-una-original-exposicion-en-el-casino-pontanes/
LOCATION:Casino Liceo Pontanés\, Plaza Nacional\, 6\, Puente Genil\, CÓRDOBA\, 14500\, España
CATEGORIES:Arte,Artesanía,Exposiciones
ATTACH;FMTTYPE=image/jpeg:https://visitpuentegenil.es/wp-content/uploads/2024/02/8-9-Exposicion-Arte-y-Diseno.jpeg
END:VEVENT
END:VCALENDAR