BEGIN:VCALENDAR
VERSION:2.0
PRODID:-//Visit Puente Genil - ECPv6.15.20//NONSGML v1.0//EN
CALSCALE:GREGORIAN
METHOD:PUBLISH
X-ORIGINAL-URL:https://visitpuentegenil.es
X-WR-CALDESC:Eventos para Visit Puente Genil
REFRESH-INTERVAL;VALUE=DURATION:PT1H
X-Robots-Tag:noindex
X-PUBLISHED-TTL:PT1H
BEGIN:VTIMEZONE
TZID:Europe/Madrid
BEGIN:DAYLIGHT
TZOFFSETFROM:+0100
TZOFFSETTO:+0200
TZNAME:CEST
DTSTART:20250330T010000
END:DAYLIGHT
BEGIN:STANDARD
TZOFFSETFROM:+0200
TZOFFSETTO:+0100
TZNAME:CET
DTSTART:20251026T010000
END:STANDARD
BEGIN:DAYLIGHT
TZOFFSETFROM:+0100
TZOFFSETTO:+0200
TZNAME:CEST
DTSTART:20260329T010000
END:DAYLIGHT
BEGIN:STANDARD
TZOFFSETFROM:+0200
TZOFFSETTO:+0100
TZNAME:CET
DTSTART:20261025T010000
END:STANDARD
BEGIN:DAYLIGHT
TZOFFSETFROM:+0100
TZOFFSETTO:+0200
TZNAME:CEST
DTSTART:20270328T010000
END:DAYLIGHT
BEGIN:STANDARD
TZOFFSETFROM:+0200
TZOFFSETTO:+0100
TZNAME:CET
DTSTART:20271031T010000
END:STANDARD
END:VTIMEZONE
BEGIN:VEVENT
DTSTART;TZID=Europe/Madrid:20260206T190000
DTEND;TZID=Europe/Madrid:20260208T210000
DTSTAMP:20260422T112601
CREATED:20260204T113028Z
LAST-MODIFIED:20260204T113028Z
UID:18487-1770404400-1770584400@visitpuentegenil.es
SUMMARY:🍐 El Fruto Dorado · Exposición artística en el Microespacio Cultural nº11.
DESCRIPTION:El Nº11 acoge en febrero una propuesta artística única donde tradición\, materia y creatividad se dan la mano. \n“El Fruto Dorado”\, de la artista local Marjat\, es una exposición que toma como hilo conductor el membrillo\, fruto emblemático de nuestra tierra\, reinterpretado desde una mirada contemporánea y sensorial. \nLa muestra reúne piezas realizadas en porcelana fría\, arcilla polimérica\, yeso\, cemento y marmolina\, junto a lienzos trabajados con técnicas de craquelado y resinas\, creando un recorrido visual y táctil lleno de texturas\, simbolismo y raíces mediterráneas. \nUna oportunidad perfecta para descubrir cómo el arte dialoga con la identidad local\, los materiales y la memoria\, en un espacio cultural íntimo y lleno de encanto como Microespacio Cultural Aguilar nº11. \n📍 Microespacio Cultural Nº11📅 6 de febrero | ⏰19:00 – 22:00h📅 7 de febrero | ⏰19:00 – 22:00h📅 8 de febrero | ⏰18:00 – 21:00h¡Te esperamos!
URL:https://visitpuentegenil.es/evento/%f0%9f%8d%90-el-fruto-dorado-%c2%b7-exposicion-artistica-en-el-microespacio-cultural-no11/
LOCATION:Espacio Microcultural Nº 11\, Calle Aguilar\, 11\, Puente Genil\, Córdoba\, 14500\, España
CATEGORIES:Arte,Artesanía,Exposiciones
ATTACH;FMTTYPE=image/jpeg:https://visitpuentegenil.es/wp-content/uploads/2026/02/6-El-Fruto-Dorado.jpeg
ORGANIZER;CN="Espacio microcultural N%C2%BA11":MAILTO:espaciomicroculturaln11@gmail.com
END:VEVENT
BEGIN:VEVENT
DTSTART;TZID=Europe/Madrid:20260210T190000
DTEND;TZID=Europe/Madrid:20260210T203000
DTSTAMP:20260422T112601
CREATED:20260210T180616Z
LAST-MODIFIED:20260305T104143Z
UID:18519-1770750000-1770755400@visitpuentegenil.es
SUMMARY:✨ Camino del Calvario | Arte Cofrade 2026 ✨
DESCRIPTION:Puente Genil vuelve a convertirse en epicentro del arte cofrade andaluz con la exposición “Camino del Calvario”\, un emotivo homenaje a Fructuoso Sánchez Torres que invita a recorrer el Vía Crucis del Beato Álvaro de Córdoba a través del talento de los artistas cofrades pontaneses. \nUna muestra donde fe\, tradición y creación artística se funden para ofrecer una experiencia única\, cargada de simbolismo\, espiritualidad y belleza. Una cita imprescindible para amantes del arte sacro\, la Semana Santa y la cultura local. \n📍 Sala de Exposiciones Plaza de Abastos\n📅del 10 de febrero al 21 de marzo de 2026\n⏰Viernes y sábado de 10:00 a 14:00h. De miércoles a sábado de 17:30 a 20:30h.  \nDéjate llevar por este recorrido visual y emocional que forma parte del alma de Puente Genil y de su profunda tradición cofrade. \n👉 Te esperamos. Vive el Camino del Calvario.
URL:https://visitpuentegenil.es/evento/%e2%9c%a8-camino-del-calvario-arte-cofrade-2026-%e2%9c%a8/
LOCATION:Sala Exposiciones Mercado Municipal\, Paseo del Romeral\, s/n\, Puente Genil\, Córdoba\, 14500\, Spain
CATEGORIES:Arte,Cofradías,Cuaresma,Semana Santa
ATTACH;FMTTYPE=image/jpeg:https://visitpuentegenil.es/wp-content/uploads/2026/02/10-ARTE-COFRADE-2026.jpeg
END:VEVENT
BEGIN:VEVENT
DTSTART;TZID=Europe/Madrid:20260214T120000
DTEND;TZID=Europe/Madrid:20260321T120000
DTSTAMP:20260422T112601
CREATED:20260211T125235Z
LAST-MODIFIED:20260211T125251Z
UID:18523-1771070400-1774094400@visitpuentegenil.es
SUMMARY:✨ Visita guiada sensorial en la Exposición de Arte Cofrade "Camino al Calvario". ✨
DESCRIPTION:Todos los 📅sábados a las ⏰12:00h te invitamos a vivir una experiencia diferente con nuestras pequeñas visitas guiadas sensoriales. \nEl 📅sábado\, 28 de febrero\, la visita será a las ⏰13:00h. \nUn recorrido por la exposición a través de los sentidos\, donde descubrirás a qué huele e incluso a qué sabe ese Camino al Calvario según nuestra Mananta. \nNo queremos desvelar mucho más… mejor ven y descúbrelo por ti mismo. \n¡INSCRÍBETE AQUÍ! \n 
URL:https://visitpuentegenil.es/evento/%e2%9c%a8-visita-guiada-sensorial-en-la-exposicion-de-arte-cofrade-camino-al-calvario-%e2%9c%a8/
LOCATION:Sala Exposiciones Mercado Municipal\, Paseo del Romeral\, s/n\, Puente Genil\, Córdoba\, 14500\, Spain
CATEGORIES:Arte,Arte Cofrade,Cofradías,Exposiciones,Semana Santa
ATTACH;FMTTYPE=image/png:https://visitpuentegenil.es/wp-content/uploads/2026/02/VISITAS-GUIADAS-A-TRAVES-DE-LOS-SENTIDOS-CAMINO-AL-CALVARIO-2.png
ORGANIZER;CN="Ciudades Medias":MAILTO:puentegenil@ciudadesmedias.org
END:VEVENT
END:VCALENDAR