BEGIN:VCALENDAR
VERSION:2.0
PRODID:-//Visit Puente Genil - ECPv6.15.20//NONSGML v1.0//EN
CALSCALE:GREGORIAN
METHOD:PUBLISH
X-WR-CALNAME:Visit Puente Genil
X-ORIGINAL-URL:https://visitpuentegenil.es
X-WR-CALDESC:Eventos para Visit Puente Genil
REFRESH-INTERVAL;VALUE=DURATION:PT1H
X-Robots-Tag:noindex
X-PUBLISHED-TTL:PT1H
BEGIN:VTIMEZONE
TZID:Europe/Madrid
BEGIN:DAYLIGHT
TZOFFSETFROM:+0100
TZOFFSETTO:+0200
TZNAME:CEST
DTSTART:20240331T010000
END:DAYLIGHT
BEGIN:STANDARD
TZOFFSETFROM:+0200
TZOFFSETTO:+0100
TZNAME:CET
DTSTART:20241027T010000
END:STANDARD
BEGIN:DAYLIGHT
TZOFFSETFROM:+0100
TZOFFSETTO:+0200
TZNAME:CEST
DTSTART:20250330T010000
END:DAYLIGHT
BEGIN:STANDARD
TZOFFSETFROM:+0200
TZOFFSETTO:+0100
TZNAME:CET
DTSTART:20251026T010000
END:STANDARD
BEGIN:DAYLIGHT
TZOFFSETFROM:+0100
TZOFFSETTO:+0200
TZNAME:CEST
DTSTART:20260329T010000
END:DAYLIGHT
BEGIN:STANDARD
TZOFFSETFROM:+0200
TZOFFSETTO:+0100
TZNAME:CET
DTSTART:20261025T010000
END:STANDARD
END:VTIMEZONE
BEGIN:VEVENT
DTSTART;TZID=Europe/Madrid:20250118T093000
DTEND;TZID=Europe/Madrid:20250119T193000
DTSTAMP:20260424T020020
CREATED:20250117T115902Z
LAST-MODIFIED:20250117T115902Z
UID:14731-1737192600-1737315000@visitpuentegenil.es
SUMMARY:Agenda Deportiva del 17 al 18 de enero.
DESCRIPTION:Agenda deportiva en Puente Genil los días 18 y 19 de enero de 2025. \n📅SÁBADO 18 DE ENERO   \n📌Pabellón Alcalde Miguel salas \nBM Ángel Ximénez PG – Colegio Alzahir CBM (cadete masculino)  ⏰ 9:30h. \nBM Ángel Ximénez PG – Cunext CBM(alevín masculino)              ⏰10:45h. \nBM Ángel Ximénez La Salle – Cajasur CBM (cadete masculino) ⏰11:45h. \nBM Ángel Ximénez PG – Dafisa CBM (infantil masculino) ⏰ 13:00h. \n  \n📌Campo de fútbol Manuel Polinario “Poli” \nSalerm Cosmetics PG – Lucecor FS (2ª andaluza benjamín)   ⏰10:00h. \nSalerm Cosmetics PG – Granadal Figueroa (3ª andaluza benjamín)  ⏰10:30h. \nSalerm Cosmetics PG – Priego CF (2ª andaluza femenino alevín)              ⏰11:30h. \nSalerm Cosmetics PG – Lucecor FS (2ª andaluza femenino cadete)          ⏰12:00h. \nSalerm Cosmetics PG – Córdoba CF (2ª andaluza cadete)  ⏰13:30h. \nSalerm Cosmetics PG – Ciudad de Baena (4ª andaluza alevín) ⏰15:30h. \nSalerm Cosmetics PG – Don Bosco CF (2ª andaluza infantil) ⏰17:00h. \nSalerm Cosmetics PG – Apademar (2ª andaluza juvenil)               ⏰19:00h. \n  \n📌Pabellón Joaquín Crespo “Quini” \nCodimar Basket Genil – CB Montilla (minibasket femenino)        ⏰ 9:45h. \nCodimar Basket Genil – CB La Rambla (minibasket masculino)    ⏰9:45h. \nCodimar Basket Genil – CB Lucena (infantil masculino preferente)         ⏰ 11:15h. \nCodimar Basket Genil – CB Rute (infantil femenino)       ⏰13:00h. \nPresentación equipos Codimar Basket Genil temporada 24/25  ⏰16:00h. \nCodimar Basket Genil – Insolac PGAlcalá Caja 87 (sénior masculino nacional 1) ⏰18:30h. \n  \n📌Sala deportiva La Galana \nMiragenil FSCD – CD. Pozoblanco FS (2ª andaluza benjamín)      ⏰16:00h. \n  \n📌Salida Santa Filomena \nSenderismo GAN Arroyo Bejarano Trassierra Córdoba ⏰8:00h. \n  \n📌Nave del GAN \nCurso  iniciación al montañismo invernal\, salida desde la nave del GAN\, días 18 y 19 enero \nRefugio del Molinillo. Puntal de los cuartos y lavaderos de la Reina  (Sierra Nevada) ⏰7:00h. \n  \n📅DOMINGO 19 DE ENERO              \n📌Pabellón Alcalde Miguel Salas \nRVG Ángel Ximénez La Salle – BM Maracena (división de honor juvenil masculino)  ⏰11:00h. \nBM Ángel Ximénez PG – BM Maracena (amistoso alevín masculino)      ⏰12:30h. \n  \n📌Campo de fútbol Manuel Polinario “Poli” \nSalerm Cosmetics PG – CD. Pozoblanco (3ª rfef)               ⏰12:30h. \nSalerm Cosmetics PG – La Rambla FB (3ª andaluza cadete)          ⏰15:45h. \nSalerm Cosmetics PG – CD. Monturk de Monturque (4ª andaluza infantil)  ⏰17:45h. \n  \n📌Pabellón Joaquín Crespo “Quini” \nCodimar Basket Genil – CB El Carmen (cadete masculino)  ⏰13:00h. \nMiragenil FS CD – CD. Bujalance FS. (2ª andaluza sénior)   ⏰17:00h. \nMiragenil FS CD – CD. San Marcos FS. (2ª andaluza juvenil)  ⏰19:30h. \n  \nDatos proporcionados por los clubes. Pueden surgir cambios de última hora
URL:https://visitpuentegenil.es/evento/agenda-deportiva-del-17-al-18-de-enero/
LOCATION:Puente Genil
CATEGORIES:Arte,Baloncesto,Balonmano,Deportes,Fútbol,Fútbol Sala
ATTACH;FMTTYPE=image/jpeg:https://visitpuentegenil.es/wp-content/uploads/2025/01/18-19-Agenda-Deportiva.jpg
END:VEVENT
END:VCALENDAR