BEGIN:VCALENDAR
VERSION:2.0
PRODID:-//Visit Puente Genil - ECPv6.15.20//NONSGML v1.0//EN
CALSCALE:GREGORIAN
METHOD:PUBLISH
X-ORIGINAL-URL:https://visitpuentegenil.es
X-WR-CALDESC:Eventos para Visit Puente Genil
REFRESH-INTERVAL;VALUE=DURATION:PT1H
X-Robots-Tag:noindex
X-PUBLISHED-TTL:PT1H
BEGIN:VTIMEZONE
TZID:Europe/Madrid
BEGIN:DAYLIGHT
TZOFFSETFROM:+0100
TZOFFSETTO:+0200
TZNAME:CEST
DTSTART:20230326T010000
END:DAYLIGHT
BEGIN:STANDARD
TZOFFSETFROM:+0200
TZOFFSETTO:+0100
TZNAME:CET
DTSTART:20231029T010000
END:STANDARD
BEGIN:DAYLIGHT
TZOFFSETFROM:+0100
TZOFFSETTO:+0200
TZNAME:CEST
DTSTART:20240331T010000
END:DAYLIGHT
BEGIN:STANDARD
TZOFFSETFROM:+0200
TZOFFSETTO:+0100
TZNAME:CET
DTSTART:20241027T010000
END:STANDARD
BEGIN:DAYLIGHT
TZOFFSETFROM:+0100
TZOFFSETTO:+0200
TZNAME:CEST
DTSTART:20250330T010000
END:DAYLIGHT
BEGIN:STANDARD
TZOFFSETFROM:+0200
TZOFFSETTO:+0100
TZNAME:CET
DTSTART:20251026T010000
END:STANDARD
END:VTIMEZONE
BEGIN:VEVENT
DTSTART;TZID=Europe/Madrid:20240601T133000
DTEND;TZID=Europe/Madrid:20240601T190000
DTSTAMP:20260423T020715
CREATED:20240529T100439Z
LAST-MODIFIED:20240529T100520Z
UID:13600-1717248600-1717268400@visitpuentegenil.es
SUMMARY:Concurso de Paellas en la Caseta Municipal.
DESCRIPTION:La Hermandad de San Juan Evangelista organiza el Concurso de Paellas para Hermandades\, Cofradías\, Corporaciones Bíblicas\, Grupos y Asociaciones el próximo 1 de junio en la Caseta Municipal. \nEste evento contará con la participación de los hermanos de Las Cien Luces de Nuestro Padre Jesús Nazareno\, Nueva Peña Atlética\, La Ballena\, La Sentencia de Jesús\, El Bautismo de Cristo\, Las Hijas de Salfad\, la Cofradía de Jesús Resucitado\, El Pretorio Romano\, La Sed de Cristo\, La sentencia de Johann\, El Viejo Pelícano\, El Tercero de la Soledad y Los Martirios de Jesús. \n\nAcompáñanos porque el buen ambiente está asegurado \n\n\nQuien se llevará este año el \n\n\nQue no te lo cuenten\n¡¡¡Allí nos vemos …!!!\n\n\n📌Caseta Municipal.\n📅Sábado\, 1 de junio.\n⏰13:30h.\nEntrada libre.\n 
URL:https://visitpuentegenil.es/evento/concurso-de-paellas-en-la-caseta-municipal-2/
LOCATION:Caseta Municipal Puente Genil\, Puente Genil\, Córdoba\, 14500
CATEGORIES:Cofradías,Concurso,Gastronomía
ATTACH;FMTTYPE=image/jpeg:https://visitpuentegenil.es/wp-content/uploads/2024/05/1-Concurso-de-paellas.jpg
ORGANIZER;CN="Hermandad de San Juan":MAILTO:hermandadsanjuanpg@gmail.com
END:VEVENT
END:VCALENDAR