BEGIN:VCALENDAR
VERSION:2.0
PRODID:-//Visit Puente Genil - ECPv6.15.20//NONSGML v1.0//EN
CALSCALE:GREGORIAN
METHOD:PUBLISH
X-WR-CALNAME:Visit Puente Genil
X-ORIGINAL-URL:https://visitpuentegenil.es
X-WR-CALDESC:Eventos para Visit Puente Genil
REFRESH-INTERVAL;VALUE=DURATION:PT1H
X-Robots-Tag:noindex
X-PUBLISHED-TTL:PT1H
BEGIN:VTIMEZONE
TZID:Europe/Madrid
BEGIN:DAYLIGHT
TZOFFSETFROM:+0100
TZOFFSETTO:+0200
TZNAME:CEST
DTSTART:20240331T010000
END:DAYLIGHT
BEGIN:STANDARD
TZOFFSETFROM:+0200
TZOFFSETTO:+0100
TZNAME:CET
DTSTART:20241027T010000
END:STANDARD
BEGIN:DAYLIGHT
TZOFFSETFROM:+0100
TZOFFSETTO:+0200
TZNAME:CEST
DTSTART:20250330T010000
END:DAYLIGHT
BEGIN:STANDARD
TZOFFSETFROM:+0200
TZOFFSETTO:+0100
TZNAME:CET
DTSTART:20251026T010000
END:STANDARD
BEGIN:DAYLIGHT
TZOFFSETFROM:+0100
TZOFFSETTO:+0200
TZNAME:CEST
DTSTART:20260329T010000
END:DAYLIGHT
BEGIN:STANDARD
TZOFFSETFROM:+0200
TZOFFSETTO:+0100
TZNAME:CET
DTSTART:20261025T010000
END:STANDARD
END:VTIMEZONE
BEGIN:VEVENT
DTSTART;VALUE=DATE:20250607
DTEND;VALUE=DATE:20250608
DTSTAMP:20260423T192702
CREATED:20250522T102630Z
LAST-MODIFIED:20250522T102630Z
UID:15904-1749254400-1749340799@visitpuentegenil.es
SUMMARY:III Concurso de Paellas de la Cofradía Reina de los Mártires
DESCRIPTION:¡Participa en el III Concurso de Paellas de la Cofradía Reina de los Mártires!🥘 \nEl  7 de Junio en la Caseta Municipal\, con comida casera \,música en directo\,  juegos y sorteos… \nPueden participar: Cofradías y Hermandades\, Corporaciones bíblicas y grupos\, asociaciones\, grupos de amigos… \nOrganiza  Cofradía Reina de los Mártires en colaboración con el Ayuntamiento de Puente Genil – Delegación de Festejos \n¡Anímate y participa! \n📅 7 de Junio \n📝Inscripciones :📞 658 317 015 del 1 al 31 de Mayo \n💵 600 euros en premios
URL:https://visitpuentegenil.es/evento/iii-concurso-de-paellas-de-la-cofradia-reina-de-los-martires/
LOCATION:Caseta Municipal Puente Genil\, Puente Genil\, Córdoba\, 14500
CATEGORIES:Cofradías,Concurso,Gastronomía
ATTACH;FMTTYPE=image/jpeg:https://visitpuentegenil.es/wp-content/uploads/2025/05/Concurso-de-paellas2025.jpg
END:VEVENT
BEGIN:VEVENT
DTSTART;TZID=Europe/Madrid:20250626T203000
DTEND;TZID=Europe/Madrid:20250629T140000
DTSTAMP:20260423T192702
CREATED:20250617T094234Z
LAST-MODIFIED:20250627T094908Z
UID:16120-1750969800-1751205600@visitpuentegenil.es
SUMMARY:Fiestas en honor al Santísimo de Miragenil
DESCRIPTION:La Hermandad del Santísimo de Miragenil os invita a uniros a las Fiestas en honor al Santísimo los días 27\, 28 y 29 de junio. \nSolemne Triduo al Santísimo Sacramento a las 20:30h de la tarde los días 26\, 27 y 28 de junio y Función de Regla el domingo 29 a las 12:30 a cargo de Don Antonio Budía Sabán\, cantada por la Schola Cantorum Santa Cecilia de Puente Genil. \nA las 20:30 el domingo Procesión del Santísimo Sacramento que saldrá de la Parroquia de Santiago el Mayor recorriendo las calles de la barriada. \nHabrá concursos\, gymcanas\, ofrendas de flores… Y las noches estarán amenizadas por la Orquesta Banda Imposible \n \n 
URL:https://visitpuentegenil.es/evento/fiestas-en-honor-al-santisimo-de-miragenil/
LOCATION:Barrio de Miragenil
CATEGORIES:Concurso,Fiesta,Música,Ofrenda Floral,Procesión,Tradiciones,Triduo,Verbenas,Yincana
ATTACH;FMTTYPE=image/jpeg:https://visitpuentegenil.es/wp-content/uploads/2025/06/santisimo-2025.jpg
END:VEVENT
END:VCALENDAR