BEGIN:VCALENDAR
VERSION:2.0
PRODID:-//Visit Puente Genil - ECPv6.15.20//NONSGML v1.0//EN
CALSCALE:GREGORIAN
METHOD:PUBLISH
X-WR-CALNAME:Visit Puente Genil
X-ORIGINAL-URL:https://visitpuentegenil.es
X-WR-CALDESC:Eventos para Visit Puente Genil
REFRESH-INTERVAL;VALUE=DURATION:PT1H
X-Robots-Tag:noindex
X-PUBLISHED-TTL:PT1H
BEGIN:VTIMEZONE
TZID:Europe/Madrid
BEGIN:DAYLIGHT
TZOFFSETFROM:+0100
TZOFFSETTO:+0200
TZNAME:CEST
DTSTART:20180325T010000
END:DAYLIGHT
BEGIN:STANDARD
TZOFFSETFROM:+0200
TZOFFSETTO:+0100
TZNAME:CET
DTSTART:20181028T010000
END:STANDARD
BEGIN:DAYLIGHT
TZOFFSETFROM:+0100
TZOFFSETTO:+0200
TZNAME:CEST
DTSTART:20190331T010000
END:DAYLIGHT
BEGIN:STANDARD
TZOFFSETFROM:+0200
TZOFFSETTO:+0100
TZNAME:CET
DTSTART:20191027T010000
END:STANDARD
BEGIN:DAYLIGHT
TZOFFSETFROM:+0100
TZOFFSETTO:+0200
TZNAME:CEST
DTSTART:20200329T010000
END:DAYLIGHT
BEGIN:STANDARD
TZOFFSETFROM:+0200
TZOFFSETTO:+0100
TZNAME:CET
DTSTART:20201025T010000
END:STANDARD
BEGIN:DAYLIGHT
TZOFFSETFROM:+0100
TZOFFSETTO:+0200
TZNAME:CEST
DTSTART:20210328T010000
END:DAYLIGHT
BEGIN:STANDARD
TZOFFSETFROM:+0200
TZOFFSETTO:+0100
TZNAME:CET
DTSTART:20211031T010000
END:STANDARD
END:VTIMEZONE
BEGIN:VEVENT
DTSTART;TZID=Europe/Madrid:20191027T100000
DTEND;TZID=Europe/Madrid:20200315T220000
DTSTAMP:20260426T055522
CREATED:20191024T065353Z
LAST-MODIFIED:20191024T065513Z
UID:7110-1572170400-1584309600@visitpuentegenil.es
SUMMARY:Rutas de Senderismo #7Aldeas7Rutas. Cordobilla.
DESCRIPTION:La concejalía de Aldeas\, en colaboración con Fisioterapia Sandra Gálvez\, organiza una nueva edición de las #RutasdeSenderismo por las siete aldeas de #PuenteGenil. \nUn proyecto que tiene como principales objetivos dar a conocer nuestros núcleos rurales y el fomento de la vida saludable. \nUna actividad\, de carácter gratuito\, en la que pueden participar personas de todas las edades. \nPrograma #7Aldeas7 Rutas: \n\nDía 27 de octubre: Cordobilla. Plaza Mayor 10:00h. Recorrido circular. Distancia 10 kms. Dificultad media baja.\nDía 17 de noviembre: Ribera Baja\nDía 24 de noviembre: Los Arenales\nDía 19 de enero: La Mina\nDía 2 de febrero: Sotogordo\nDía 23 de febrero: El Palomar\nDía 15 de marzo: Puerto Alegre\n\nMás información en Casa Ciudadana (957609272). Accede a las inscripciones a través de la plataforma Sporttia
URL:https://visitpuentegenil.es/evento/rutas-de-senderismo-7aldeas7rutas-cordobilla/
LOCATION:Puente Genil
CATEGORIES:Deportes,Senderismo
ATTACH;FMTTYPE=image/jpeg:https://visitpuentegenil.es/wp-content/uploads/2019/10/27-senderismo_cordobilla_2019.jpg
END:VEVENT
END:VCALENDAR