BEGIN:VCALENDAR
VERSION:2.0
PRODID:-//Visit Puente Genil - ECPv6.15.20//NONSGML v1.0//EN
CALSCALE:GREGORIAN
METHOD:PUBLISH
X-WR-CALNAME:Visit Puente Genil
X-ORIGINAL-URL:https://visitpuentegenil.es
X-WR-CALDESC:Eventos para Visit Puente Genil
REFRESH-INTERVAL;VALUE=DURATION:PT1H
X-Robots-Tag:noindex
X-PUBLISHED-TTL:PT1H
BEGIN:VTIMEZONE
TZID:Europe/Madrid
BEGIN:DAYLIGHT
TZOFFSETFROM:+0100
TZOFFSETTO:+0200
TZNAME:CEST
DTSTART:20200329T010000
END:DAYLIGHT
BEGIN:STANDARD
TZOFFSETFROM:+0200
TZOFFSETTO:+0100
TZNAME:CET
DTSTART:20201025T010000
END:STANDARD
BEGIN:DAYLIGHT
TZOFFSETFROM:+0100
TZOFFSETTO:+0200
TZNAME:CEST
DTSTART:20210328T010000
END:DAYLIGHT
BEGIN:STANDARD
TZOFFSETFROM:+0200
TZOFFSETTO:+0100
TZNAME:CET
DTSTART:20211031T010000
END:STANDARD
BEGIN:DAYLIGHT
TZOFFSETFROM:+0100
TZOFFSETTO:+0200
TZNAME:CEST
DTSTART:20220327T010000
END:DAYLIGHT
BEGIN:STANDARD
TZOFFSETFROM:+0200
TZOFFSETTO:+0100
TZNAME:CET
DTSTART:20221030T010000
END:STANDARD
END:VTIMEZONE
BEGIN:VEVENT
DTSTART;TZID=Europe/Madrid:20210503T080000
DTEND;TZID=Europe/Madrid:20210509T233000
DTSTAMP:20260424T150551
CREATED:20210503T120903Z
LAST-MODIFIED:20210503T120903Z
UID:8483-1620028800-1620603000@visitpuentegenil.es
SUMMARY:Carrera virtual 5k.
DESCRIPTION:El Grupo Joven de la Hermandad de la Santa Cruz te trae esta ¡CARRERA VIRTUAL ! \n\n\nSE AMPLIA EL PLAZO DE FECHA DE INSCRIPCIÓN\nTe podrás apuntar hasta el mismo día de antes que termine la carrera (9 de mayo).\n\n\n\n*¿Cómo participar?*\nSólo hay que seguir estos sencillos pasos:\n-Tener la inscripción ( la cual tiene un *precio de 5€*)\, que será abonada mediante bizum  o pago efectivo . Una vez realizado el pago\, se hará entrega de un dorsal que se enviará a través del correo electrónico y podrá recogerse en mano\, con el cual podrás entrar en el sorteo de una cesta con material de deporte y alimentación.\n– Hacerse una foto en cada iglesia.\n– La duración del recorrido tiene que ser de 5km\, y se deberá adjuntar dicha marca junto con las fotografías al correo electrónico (gjsantacruzpg@gmail.com). Recuerda que el ritmo y la compañía de esta carrera lo pones tú\, así podrás tener la oportunidad de disfrutarla con tus amigos o familiares de la forma que prefieras (andando o corriendo). La app recomendada para contar la marca de los 5Km es la que viene en el cartel\, aunque también se podrán utilizar otras similares que puedan adjuntar las pruebas necesarias.\n\n\nEl sorteo se realizará con los números de los dorsales adquiridos\, anunciándose el ganador/a el día 11 de mayo de 2021.\n\n\n¿Te animas ?\n\n\nPara más información ponte en contacto con nosotros a través de nuestras redes sociales:\n– Instagram: @gjsantacruzpg\n– Facebook: Grupo Joven Hdad. Santa Cruz\n\n\n#CarreraVirtual2021 #Elritmoloponestú #GjSantaCruz
URL:https://visitpuentegenil.es/evento/carrera-virtual-5k/
LOCATION:puente genil
CATEGORIES:Atletismo,Cofradías,Deportes
ATTACH;FMTTYPE=image/jpeg:https://visitpuentegenil.es/wp-content/uploads/2021/05/CARRERA-SANTA-CRUZ.jpg
END:VEVENT
BEGIN:VEVENT
DTSTART;TZID=Europe/Madrid:20210528T080000
DTEND;TZID=Europe/Madrid:20210528T170000
DTSTAMP:20260424T150551
CREATED:20210528T075752Z
LAST-MODIFIED:20210528T075752Z
UID:8812-1622188800-1622221200@visitpuentegenil.es
SUMMARY:Agenda deportiva. 28-30 de mayo de 2021
DESCRIPTION:El deporte te espera este fin de semana en #PuenteGenil. \nViernes\, 28 de mayo     \n  \nSALA DEPORTIVA “LA GALANA”     \n\nMIRAGENIL F.S. – CASTRO DEL RÍO E.F. (COPA DIPUTACIÓN BENJAMÍN)    18:00\n\n  \nSábado\, 29 de mayo     \n  \nPARQUE SANTA FILOMENA (SALIDA)    \n\nGAN-PLUS PIRAGÜISMO: TRAVESÍA LA HERRADURA-ALMUÑÉCAR    8:00\n\nPABELLÓN JOAQUÍN CRESPO “QUINI” \n\nMIRAGENIL F.S. – C.D. CÓRDOBA FUTSAL PATRIMONIO (COPA DIPUTACIÓN JUVENIL)    19:00\n\nCAMPO DE HOCKEY \n\nCOPA ALEVÍN HIERBA    11:00 – 19:00\n\nCAMPO DE FÚTBOL MANUEL POLINARIO “POLI” \n\nSALERM COSMETICS P.G. -DVO CÓRDOBA (2ª ANDALUZA CADETE)    10:00\nSALERM COSMETICS P.G. – VILLAFRANCA C.F. (3ª ANDALUZA INFANTIL)    12:15\n\n  \nDomingo\, 30 de mayo \n  \nPARQUE SANTA FILOMENA (SALIDA)     \n\nGAN-CURSO DE INICIACIÓN AL DESCENSO DE CAÑONES     8:00\n\nPABELLÓN JOAQUIN CRESPO “QUINI”      \n\nMIRAGENIL F.S. – MIRAGENIL F.S. (B) (COPA DIPUTACIÓN ALEVÍN)    12:00\nMIRAGENIL F.S. – C.D. MENCIANA (COPA DIPUTACIÓN CADETE)    18:30\n\n \nCAMPO DE FÚTBOL MANUEL POLINARIO “POLI” \n\nSALERM COSMETICS P.G. – RUD LA CARLOTA (2ª ANDALUZA BENJAMÍN)    10:00\nSALERM COSMETICS P.G. – GRANADAL FIGUEROA (2ª ANDALUZA ALEVÍN)    10:30\nSALERM COSMETICS P.G. – ATCO. PALMA DEL RÍO (3ª ANDALUZA ALEVÍN)    11:30\n\n  \n\nDATOS PROPORCIONADOS POR LOS CLUBES. PUEDEN SURGIR CAMBIOS DE ÚLTIMA HORA
URL:https://visitpuentegenil.es/evento/agenda-deportiva-28-30-de-mayo-de-2021/
LOCATION:Córdoba
CATEGORIES:Deportes,Fútbol,Fútbol Sala,Hockey,Piragüismo
ATTACH;FMTTYPE=image/jpeg:https://visitpuentegenil.es/wp-content/uploads/2021/05/29-30-agenda_deportiva_mayo.jpg
END:VEVENT
END:VCALENDAR