BEGIN:VCALENDAR
VERSION:2.0
PRODID:-//Visit Puente Genil - ECPv6.15.20//NONSGML v1.0//EN
CALSCALE:GREGORIAN
METHOD:PUBLISH
X-WR-CALNAME:Visit Puente Genil
X-ORIGINAL-URL:https://visitpuentegenil.es
X-WR-CALDESC:Eventos para Visit Puente Genil
REFRESH-INTERVAL;VALUE=DURATION:PT1H
X-Robots-Tag:noindex
X-PUBLISHED-TTL:PT1H
BEGIN:VTIMEZONE
TZID:Europe/Madrid
BEGIN:DAYLIGHT
TZOFFSETFROM:+0100
TZOFFSETTO:+0200
TZNAME:CEST
DTSTART:20210328T010000
END:DAYLIGHT
BEGIN:STANDARD
TZOFFSETFROM:+0200
TZOFFSETTO:+0100
TZNAME:CET
DTSTART:20211031T010000
END:STANDARD
BEGIN:DAYLIGHT
TZOFFSETFROM:+0100
TZOFFSETTO:+0200
TZNAME:CEST
DTSTART:20220327T010000
END:DAYLIGHT
BEGIN:STANDARD
TZOFFSETFROM:+0200
TZOFFSETTO:+0100
TZNAME:CET
DTSTART:20221030T010000
END:STANDARD
BEGIN:DAYLIGHT
TZOFFSETFROM:+0100
TZOFFSETTO:+0200
TZNAME:CEST
DTSTART:20230326T010000
END:DAYLIGHT
BEGIN:STANDARD
TZOFFSETFROM:+0200
TZOFFSETTO:+0100
TZNAME:CET
DTSTART:20231029T010000
END:STANDARD
END:VTIMEZONE
BEGIN:VEVENT
DTSTART;TZID=Europe/Madrid:20221008T073000
DTEND;TZID=Europe/Madrid:20221008T170000
DTSTAMP:20260422T160017
CREATED:20220926T104144Z
LAST-MODIFIED:20220926T104144Z
UID:10829-1665214200-1665248400@visitpuentegenil.es
SUMMARY: Curso de iniciación a las vías ferratas. GAN.
DESCRIPTION:En octubre comienzan las actividades del Grupo de Actividades en la Naturaleza\nSi te gusta contemplar el paisaje desde la altura\, pretendes dominar el vértigo\, disfrutar con las emociones fuertes\, etc.\, pero no te atreves con la escalada\, con este curso podrás descubrir esta nueva modalidad deportiva\, a caballo entre el montañismo y la escalada\, y conocer sus técnicas y materiales básicos mientras trepas por escalones de hierro\, atraviesas puentes de monos o te deslizas por una tirolina que configuran las numerosas vías ferratas dispersas por nuestra comunidad autónoma\, en esta ocasión\, acercándonos a las magníficas instalaciones de John Hogbin existentes en las inmediaciones de la población granadina de Zafarraya.\n\nLas inscripciones las podéis realizar a través de la responsable de vías ferratas del club\, David Muñoz\, (Tel: 678591353; E-mail: dmtolvera@gmail.com)\, del 21 al 5 de octubre\n(socios una semana antes)\, con un precio de 30 € para socios y 35 € para no socios\,.\nLos participantes compartirán los gastos de desplazamiento en coche.\n\n📌Parque de Santa Filomena\n📅 Sábado\, 8 de octubre ⏰ 7:30h.\n➡️ Ferrata de John Hoghin – Zafarraya GRANADA\n¡¡Participa y disfruta de la actividad en la naturaleza!!
URL:https://visitpuentegenil.es/evento/curso-de-iniciacion-a-las-vias-ferratas-gan/
LOCATION:Córdoba
CATEGORIES:Deportes,Vías Ferratas
ATTACH;FMTTYPE=image/jpeg:https://visitpuentegenil.es/wp-content/uploads/2022/09/8-curso-ferratas-GAN.jpg
ORGANIZER;CN="Grupo Actividades en la Naturaleza":MAILTO:elbuzondelgan@gmail.com
END:VEVENT
BEGIN:VEVENT
DTSTART;TZID=Europe/Madrid:20221015T090000
DTEND;TZID=Europe/Madrid:20221016T140000
DTSTAMP:20260422T160017
CREATED:20220926T102459Z
LAST-MODIFIED:20220926T102459Z
UID:10826-1665824400-1665928800@visitpuentegenil.es
SUMMARY:Curso de iniciación a la Espeleología. GAN
DESCRIPTION: El Grupo de Actividades en la Naturaleza te invita a adentrarte en las profundidades de la tierra\, vivir nuevas emociones y aventuras\, o simplemente descender en rappel el Puente de Hierro.\nSolo tienes que participar en este curso básico de espeleología\, donde conocerás los materiales básicos para su práctica\, te familiarizarás con las técnicas de progresión por cuerda y\, cómo no\, disfrutarás con una exploración de baja dificultad\, la Sima de la fuente del Francés\, en Carcabuey.\n\nLas inscripciones las podéis realizar a través de Paco Velasco ( tel: 646205699)( e-mail: zyrhab@hotmail.com) del 27 de septiembre al 12 de octubre (socios una semana antes)\, con un precio de 30 € para socios y 33 € para no socios.\n\n📌Parque de Santa Filomena \n📅 Sábado 15 de octubre  ⏰9:00h.\n➡️ Puente de Hierro donde practicaremos mañana y tarde.\nNo olvides echar atuendo deportivo\, agua\, bocatas y equipo de protección.\n¡¡Anímate y participa\, seguro que disfrutarás de esta actividad en la naturaleza!!
URL:https://visitpuentegenil.es/evento/curso-de-iniciacion-a-la-espeleologia-gan/
LOCATION:puente genil
CATEGORIES:Cursos,Deportes,Espeleogogía
ATTACH;FMTTYPE=image/jpeg:https://visitpuentegenil.es/wp-content/uploads/2022/09/15-16-Curso-Espeleologia.jpg
ORGANIZER;CN="Grupo Actividades en la Naturaleza":MAILTO:elbuzondelgan@gmail.com
END:VEVENT
BEGIN:VEVENT
DTSTART;TZID=Europe/Madrid:20221022T083000
DTEND;TZID=Europe/Madrid:20221022T170000
DTSTAMP:20260422T160017
CREATED:20221004T115730Z
LAST-MODIFIED:20221004T115730Z
UID:10848-1666427400-1666458000@visitpuentegenil.es
SUMMARY:Senderismo. Búnkeres del Alamillo. GAN.
DESCRIPTION:El Grupo de Actividades en la Naturaleza incorpora una nueva ruta a su programa de Senderismo. Incluida dentro del proyecto “Paisajes con Historia” de la Diputación de Córdoba nos acerca a la localidad de Luque\, en las Subbéticas\, para conocer unos testigos excepcionales de nuestra guerra civil\, los Búnkeres del Alamillo y del Aceituno\, sendas fortificaciones que permitían vigilar y defender este estratégico enclave entre la carretera Córdoba-Granada y la Vía del Aceite.\n\nLa ruta\, de baja dificultad y unos 9 kilómetros de recorrido circular\, se inicia en la vieja Estación de Luque\, en dirección al Búnker del Aceituno\, en mal estado de conservación\, continuando nuestra andadura hacia los Búnkeres del Alamillo\, donde caminaremos por sus trincheras\, recorreremos las galerías subterráneas que comunican estos bastiones antes de dirigirnos hacia Luque para conocer sus monumentos más representativos. Por último\, tomaremos el Camino de la Estación para visitar su particular museo y concluir la ruta.\n\nLas inscripciones las podéis realizar a través del responsable de senderismo del club\, Juan J. Cano (Tel: 649050547; E-mail: jujocano@gmail.com)\, del 3 al 19 de octubre\, con un precio 4 € socios\, 2 € federados y 6 € los no socios (seguros-fianza).\nLos participantes compartirán los gastos de desplazamiento en coche.\n📍 Estación de Autobuses\n📅 Sábado\, 22 de octubre\n⏰ 8:30h.
URL:https://visitpuentegenil.es/evento/senderismo-bunkeres-del-alamillo-gan/
LOCATION:Córdoba
CATEGORIES:Deportes,Naturaleza,Senderismo
ATTACH;FMTTYPE=image/jpeg:https://visitpuentegenil.es/wp-content/uploads/2022/10/22-Bunkeres-del-Alamillo-GAN.jpg
ORGANIZER;CN="Grupo Actividades en la Naturaleza":MAILTO:elbuzondelgan@gmail.com
END:VEVENT
END:VCALENDAR