BEGIN:VCALENDAR
VERSION:2.0
PRODID:-//Visit Puente Genil - ECPv6.15.20//NONSGML v1.0//EN
CALSCALE:GREGORIAN
METHOD:PUBLISH
X-WR-CALNAME:Visit Puente Genil
X-ORIGINAL-URL:https://visitpuentegenil.es
X-WR-CALDESC:Eventos para Visit Puente Genil
REFRESH-INTERVAL;VALUE=DURATION:PT1H
X-Robots-Tag:noindex
X-PUBLISHED-TTL:PT1H
BEGIN:VTIMEZONE
TZID:Europe/Madrid
BEGIN:DAYLIGHT
TZOFFSETFROM:+0100
TZOFFSETTO:+0200
TZNAME:CEST
DTSTART:20220327T010000
END:DAYLIGHT
BEGIN:STANDARD
TZOFFSETFROM:+0200
TZOFFSETTO:+0100
TZNAME:CET
DTSTART:20221030T010000
END:STANDARD
BEGIN:DAYLIGHT
TZOFFSETFROM:+0100
TZOFFSETTO:+0200
TZNAME:CEST
DTSTART:20230326T010000
END:DAYLIGHT
BEGIN:STANDARD
TZOFFSETFROM:+0200
TZOFFSETTO:+0100
TZNAME:CET
DTSTART:20231029T010000
END:STANDARD
BEGIN:DAYLIGHT
TZOFFSETFROM:+0100
TZOFFSETTO:+0200
TZNAME:CEST
DTSTART:20240331T010000
END:DAYLIGHT
BEGIN:STANDARD
TZOFFSETFROM:+0200
TZOFFSETTO:+0100
TZNAME:CET
DTSTART:20241027T010000
END:STANDARD
END:VTIMEZONE
BEGIN:VEVENT
DTSTART;TZID=Europe/Madrid:20230910T103000
DTEND;TZID=Europe/Madrid:20230910T140000
DTSTAMP:20260421T172230
CREATED:20230904T095622Z
LAST-MODIFIED:20230904T100751Z
UID:12571-1694341800-1694354400@visitpuentegenil.es
SUMMARY:XII Circuito Cross Miguel Ríos.
DESCRIPTION:Más de 300 atletas de todas las edades y categorías participarán en la duodécima edición del Circuito de Cross Miguel Ríos\, que vuelve tras las vacaciones de verano a Puente Genil para disputarse el domingo 10 de septiembre en el Parque Príncipe de Asturias. \nSe trata de un circuito único en España gracias a las diez pruebas que se disputan en municipios tanto de la provincia de Córdoba como de Sevilla. \nLas distancias de la prueba oscilarán entre los 150 metros para los participantes más pequeños (Chupetes) hasta los 6.000 metros en categoría Sénior. \nAsimismo\, el número total de participantes en categorías base rondará los 250\, con lo que se garantiza un magnífico ambiente para la jornada. \nLas categorías estipuladas para esta edición serán las de Chupetes\, Prebenjamines\, Benjamines\, Alevines\, Infantiles\, Cadetes\, Juveniles\, Senior\, Veterano A y Veterano B\, comenzando la competición a partir de las diez y media de la mañana. \nInscripciones. \n📌 Parque Príncipe de Asturias – El Garrotalillo\n📅 Domingo\,10 de septiembre.\n⏰ a partir de las 10:30h.
URL:https://visitpuentegenil.es/evento/xii-circuito-cross-miguel-rios/
LOCATION:Parque Príncipe de Asturias – El Garrotalillo.\, Puente Genil\, Córdoba\, 14500\, España
CATEGORIES:Cross,Deportes
ATTACH;FMTTYPE=image/jpeg:https://visitpuentegenil.es/wp-content/uploads/2023/09/10-Cross-Miguel-Rios.jpg
ORGANIZER;CN="EPA Miguel R%C3%ADos":MAILTO:miguelrios21520@hotmail.com
END:VEVENT
BEGIN:VEVENT
DTSTART;TZID=Europe/Madrid:20230916T200000
DTEND;TZID=Europe/Madrid:20230916T233000
DTSTAMP:20260421T172230
CREATED:20230831T111757Z
LAST-MODIFIED:20230831T111757Z
UID:12553-1694894400-1694907000@visitpuentegenil.es
SUMMARY:III Ruta solidaria de Senderismo Nocturno a Castillo Anzur.
DESCRIPTION:sLa Escuela Provincial de Atletismo «Miguel Ríos» y la Asociación de Familiares de Enfermos de Alzheimer y otras demencias (Afasur Genil) vuelven a colaborar para la tercera edición de la ruta solidaria Castillo Anzur. \n📌 Polígono Industrial San Pancracio.\n📅 Sábado\, 16 de septiembre.\n⏰ 20:00h\n🎟 6€ \nDorsal CERO: ES85 2100 7519 5922 0012 6219 (Concepto: Ruta nocturna senderismo) \nMás ℹ️nformación  📧 rutasolidariaanzur@gmail.com \nEste año tenemos varias opciones para la inscripción a la III Ruta Solidaria de Senderismo Nocturno al Castillo Anzur. \n📌 Silverback Puente Genil situada en C. Juan XXIII\, n°1\, local 5. \n📌 Deportes Marcos Puente Genil situada en la Av. Manuel Reina\, 33. \n📌 En la Escuela Provincial de Atletismo Miguel Ríos\, a través de su Teléfono 610 042 984. \n📌 En Membrillo Media a través de su Teléfono 610 204 686. \n📌 En  Corredores Populares⬇ \n  \n 
URL:https://visitpuentegenil.es/evento/iii-ruta-solidaria-de-senderismo-nocturno-a-castillo-anzur/
LOCATION:Puente Genil
CATEGORIES:Deportes,Senderismo
ATTACH;FMTTYPE=image/jpeg:https://visitpuentegenil.es/wp-content/uploads/2023/08/16-Subida-Castillo-Anzur.jpg
ORGANIZER;CN="EPA Miguel R%C3%ADos":MAILTO:miguelrios21520@hotmail.com
END:VEVENT
BEGIN:VEVENT
DTSTART;TZID=Europe/Madrid:20230930T190000
DTEND;TZID=Europe/Madrid:20230930T213000
DTSTAMP:20260421T172230
CREATED:20230914T104827Z
LAST-MODIFIED:20230914T104827Z
UID:12624-1696100400-1696109400@visitpuentegenil.es
SUMMARY:VIII Milla Urbana contra la Droga.
DESCRIPTION:La Asociación “Aliento de Vida” organiza la octava edición de su Milla Urbana contra la droga en Puente Genil. \nLas inscripciones con un máximo de 300 corredores están disponibles en el siguiente enlace hasta el 27 de septiembre a las 23:00h. \nINSCRIPCIONES \nNO SE HARÁN INSCRIPCIONES EL DÍA DE LA CARRERA.\nPRECIOS: 3 euros desde retaquillo a cadete; 6 euros de sénior a veterano (se suman 0\,50 euros de gastos de gestión).\nDORSAL CERO: si no deseas participar en la carrera\, pero sí colaborar con su causa\, puedes inscribirte como dorsal cero (dorsal 0).\nMás información: 📞 658668171 – 📧 alientodevida.ct@gmail.com \n📌 Salida y Meta: Avenida Europa\n📅 Sábado\, 30 de septiembre.\n⏰ A partir de las 19:00h. \n¡Te esperamos!🏃🏼🏃🏽‍♀👟 \n 
URL:https://visitpuentegenil.es/evento/viii-milla-urbana-contra-la-droga/
LOCATION:Avenida Europa\, Avda. Europa\, Puente Genil\, Códoba\, 14500\, España
CATEGORIES:Atletismo,Deportes
ATTACH;FMTTYPE=image/jpeg:https://visitpuentegenil.es/wp-content/uploads/2023/09/30-Milla-Urbana-Aliento-de-Vida.jpeg
ORGANIZER;CN="Aliento de vida":MAILTO:info@asociacionpgvida.com
END:VEVENT
END:VCALENDAR