BEGIN:VCALENDAR
VERSION:2.0
PRODID:-//Visit Puente Genil - ECPv6.15.20//NONSGML v1.0//EN
CALSCALE:GREGORIAN
METHOD:PUBLISH
X-ORIGINAL-URL:https://visitpuentegenil.es
X-WR-CALDESC:Eventos para Visit Puente Genil
REFRESH-INTERVAL;VALUE=DURATION:PT1H
X-Robots-Tag:noindex
X-PUBLISHED-TTL:PT1H
BEGIN:VTIMEZONE
TZID:Europe/Madrid
BEGIN:DAYLIGHT
TZOFFSETFROM:+0100
TZOFFSETTO:+0200
TZNAME:CEST
DTSTART:20210328T010000
END:DAYLIGHT
BEGIN:STANDARD
TZOFFSETFROM:+0200
TZOFFSETTO:+0100
TZNAME:CET
DTSTART:20211031T010000
END:STANDARD
BEGIN:DAYLIGHT
TZOFFSETFROM:+0100
TZOFFSETTO:+0200
TZNAME:CEST
DTSTART:20220327T010000
END:DAYLIGHT
BEGIN:STANDARD
TZOFFSETFROM:+0200
TZOFFSETTO:+0100
TZNAME:CET
DTSTART:20221030T010000
END:STANDARD
BEGIN:DAYLIGHT
TZOFFSETFROM:+0100
TZOFFSETTO:+0200
TZNAME:CEST
DTSTART:20230326T010000
END:DAYLIGHT
BEGIN:STANDARD
TZOFFSETFROM:+0200
TZOFFSETTO:+0100
TZNAME:CET
DTSTART:20231029T010000
END:STANDARD
END:VTIMEZONE
BEGIN:VEVENT
DTSTART;TZID=Europe/Madrid:20220526T200000
DTEND;TZID=Europe/Madrid:20220526T213000
DTSTAMP:20260423T040506
CREATED:20220523T081407Z
LAST-MODIFIED:20220523T081407Z
UID:10435-1653595200-1653600600@visitpuentegenil.es
SUMMARY:Historia del fútbol en Puente Genil.
DESCRIPTION:PRESENTACIÓN DEL LIBRO “HISTORIA DEL FÚTBOL EN PUENTE GENIL” \nManuel Arcos Cabezas presenta su libro “Historia del fútbol en Puente Genil.” Un recorrido por la historia de este deporte en nuestra localidad desde su inicio\, en el año 1918 hasta 1970. \n📌Salón de Actos de la Biblioteca Municipal Ricardo Molina \n📅 Jueves\, 26 de mayo\, ⏰20:00h. \nOrganiza: Ayuntamiento de Puente Genil \nColabora: Diputación de Córdoba
URL:https://visitpuentegenil.es/evento/historia-del-futbol-en-puente-genil/
LOCATION:Biblioteca Pública Municipal Ricardo Molina\, Parque los Pinos\, s/n\, Puente Genil\, Córdoba\, 14500\, España
CATEGORIES:Deportes,Presentaciones libros
ATTACH;FMTTYPE=image/jpeg:https://visitpuentegenil.es/wp-content/uploads/2022/05/26-historia_del_futbol.jpeg
END:VEVENT
END:VCALENDAR