BEGIN:VCALENDAR
VERSION:2.0
PRODID:-//Visit Puente Genil - ECPv6.15.20//NONSGML v1.0//EN
CALSCALE:GREGORIAN
METHOD:PUBLISH
X-WR-CALNAME:Visit Puente Genil
X-ORIGINAL-URL:https://visitpuentegenil.es
X-WR-CALDESC:Eventos para Visit Puente Genil
REFRESH-INTERVAL;VALUE=DURATION:PT1H
X-Robots-Tag:noindex
X-PUBLISHED-TTL:PT1H
BEGIN:VTIMEZONE
TZID:Europe/Madrid
BEGIN:DAYLIGHT
TZOFFSETFROM:+0100
TZOFFSETTO:+0200
TZNAME:CEST
DTSTART:20220327T010000
END:DAYLIGHT
BEGIN:STANDARD
TZOFFSETFROM:+0200
TZOFFSETTO:+0100
TZNAME:CET
DTSTART:20221030T010000
END:STANDARD
BEGIN:DAYLIGHT
TZOFFSETFROM:+0100
TZOFFSETTO:+0200
TZNAME:CEST
DTSTART:20230326T010000
END:DAYLIGHT
BEGIN:STANDARD
TZOFFSETFROM:+0200
TZOFFSETTO:+0100
TZNAME:CET
DTSTART:20231029T010000
END:STANDARD
BEGIN:DAYLIGHT
TZOFFSETFROM:+0100
TZOFFSETTO:+0200
TZNAME:CEST
DTSTART:20240331T010000
END:DAYLIGHT
BEGIN:STANDARD
TZOFFSETFROM:+0200
TZOFFSETTO:+0100
TZNAME:CET
DTSTART:20241027T010000
END:STANDARD
END:VTIMEZONE
BEGIN:VEVENT
DTSTART;TZID=Europe/Madrid:20230603T090000
DTEND;TZID=Europe/Madrid:20230603T200000
DTSTAMP:20260422T071001
CREATED:20230525T104714Z
LAST-MODIFIED:20230525T105914Z
UID:12118-1685782800-1685822400@visitpuentegenil.es
SUMMARY:II Memorial José Delgado “Betis” en el Manuel Polinario.
DESCRIPTION:  \nLa segunda  edición del Memorial José Delgado “Betis” se celebrará el sábado\, 3 de junio en el Estadio Manuel Polinario\, “Poli.” \nEl torneo\, organizado por el Salerm Cosmetics Puente Genil\, Football Evolution y el Ayuntamiento de Puente Genil\, a través de la delegación  de Deportes\, contará con la presencia de un total de once clubes y se desarrollará en las categorías alevín e infantil durante toda la jornada del sábado\, desde las nueve de la mañana\, alternándose los partidos tanto de fútbol-7 como de fútbol-11. \nEn alevín\, habrá diez equipos que se distribuirán en dos grupos: \nEn el primero se enfrentarán el Salerm Puente Genil A\, Atlético Jaén\, Unión Deportiva Estepona\, Fundación Lucena y La Rambla AD; mientras que en el segundo estarán la AD. Nervión de Sevilla -campeón de la primera edición- Linares Deportivo\, CD. Peloteros Sierra Sur\, Salvador Allende y Salerm Puente Genil B. \nLos partidos\, en horario matinal\, se disputarán en dos tiempos de 12 minutos. Los dos primeros clasificados de cada grupo avanzarán hasta las semifinales\, disputándose\, ya en horario de tarde\, los partidos por el tercer y cuarto puesto y la gran final. \n📌Estadio Manuel Polinario “Poli.”\n📅 Sábado\, 3 de junio.\n⏰ A partir de las 9:00h.
URL:https://visitpuentegenil.es/evento/ii-memorial-jose-delgado-betis-en-el-manuel-polinario/
LOCATION:Campo de Futbol Manuel Polinario\, Parque Príncipe de Asturias s/n\,\, Puente Genil\, Córdoba\, 14500\, España
CATEGORIES:Deportes,Fútbol
ATTACH;FMTTYPE=image/jpeg:https://visitpuentegenil.es/wp-content/uploads/2023/05/3-Memorial-Betis.jpg
ORGANIZER;CN="Salerm Cosmetics FC":MAILTO:info@salermcosmeticspuentegenilfc.com
END:VEVENT
END:VCALENDAR