BEGIN:VCALENDAR
VERSION:2.0
PRODID:-//Visit Puente Genil - ECPv6.15.20//NONSGML v1.0//EN
CALSCALE:GREGORIAN
METHOD:PUBLISH
X-WR-CALNAME:Visit Puente Genil
X-ORIGINAL-URL:https://visitpuentegenil.es
X-WR-CALDESC:Eventos para Visit Puente Genil
REFRESH-INTERVAL;VALUE=DURATION:PT1H
X-Robots-Tag:noindex
X-PUBLISHED-TTL:PT1H
BEGIN:VTIMEZONE
TZID:Europe/Madrid
BEGIN:DAYLIGHT
TZOFFSETFROM:+0100
TZOFFSETTO:+0200
TZNAME:CEST
DTSTART:20220327T010000
END:DAYLIGHT
BEGIN:STANDARD
TZOFFSETFROM:+0200
TZOFFSETTO:+0100
TZNAME:CET
DTSTART:20221030T010000
END:STANDARD
BEGIN:DAYLIGHT
TZOFFSETFROM:+0100
TZOFFSETTO:+0200
TZNAME:CEST
DTSTART:20230326T010000
END:DAYLIGHT
BEGIN:STANDARD
TZOFFSETFROM:+0200
TZOFFSETTO:+0100
TZNAME:CET
DTSTART:20231029T010000
END:STANDARD
BEGIN:DAYLIGHT
TZOFFSETFROM:+0100
TZOFFSETTO:+0200
TZNAME:CEST
DTSTART:20240331T010000
END:DAYLIGHT
BEGIN:STANDARD
TZOFFSETFROM:+0200
TZOFFSETTO:+0100
TZNAME:CET
DTSTART:20241027T010000
END:STANDARD
END:VTIMEZONE
BEGIN:VEVENT
DTSTART;TZID=Europe/Madrid:20230611T093000
DTEND;TZID=Europe/Madrid:20230611T113000
DTSTAMP:20260422T033724
CREATED:20230518T093621Z
LAST-MODIFIED:20230518T101629Z
UID:12085-1686475800-1686483000@visitpuentegenil.es
SUMMARY:XXV Duatlón Villa de Puente Genil.
DESCRIPTION:Abierto el plazo de inscripción en la XXV Duatlón de Puente Genil. \nA partir de hoy y hasta el 6 de junio puedes inscribirte para participar en la vigésimo quinta edición de la Duatlón Villa de Puente Genil\, este año solidaria con las Personas Refugiadas con el patrocinio especial de Cruz Roja Puente Genil. \nLa prueba\, que organizan la delegación municipal de Deportes y el Club de Atletismo Amigos del Canal\, tendrá lugar en el entre el Polígono del Huerto del Francés y la carretera del Canal de Riego Genil-Cabra el domingo 11 de junio. Consta de tres sectores: \n1º Sector: carrera a pie de 5\,5 kms. \n2º Sector: carrera en bicicleta de 20 kms. \n3º Sector: carrera a pie de 2\,75 kms. \nLa única modalidad en bicicleta es la de montaña con con las siguientes medidas de rueda: 26\, 27\,5 y 29×2. \nInscripciones – 10€ – en Silverback Puente Genil o enviando Bizum y datos al número de teléfono 686 962 507. \n¡Os esperamos! 🤗 Si no vienes a competir 🏃🏽‍♀ 🏃🏻‍♂ 🏃🚴‍♀️🚴🚴‍♂️ siempre puedes venir a animar 👏👏👏👏👏 \n📌 Canal de Riego Genil-Cabra\, frente ITV\n📅 Domingo\, 11 de junio.\n⏰ 9:30h \n 
URL:https://visitpuentegenil.es/evento/abierto-el-plazo-de-inscripcion-para-la-xxv-duatlon-villa-de-puente-genil/
LOCATION:PUENTE GENIL\, Puente Genil\, CÓRDOBA\, 14500
CATEGORIES:Deportes,Duatlón
ATTACH;FMTTYPE=image/jpeg:https://visitpuentegenil.es/wp-content/uploads/2023/05/11-XXV-Duatlon-Puente-Genil.jpg
END:VEVENT
END:VCALENDAR