BEGIN:VCALENDAR
VERSION:2.0
PRODID:-//Visit Puente Genil - ECPv6.15.20//NONSGML v1.0//EN
CALSCALE:GREGORIAN
METHOD:PUBLISH
X-ORIGINAL-URL:https://visitpuentegenil.es
X-WR-CALDESC:Eventos para Visit Puente Genil
REFRESH-INTERVAL;VALUE=DURATION:PT1H
X-Robots-Tag:noindex
X-PUBLISHED-TTL:PT1H
BEGIN:VTIMEZONE
TZID:Europe/Madrid
BEGIN:DAYLIGHT
TZOFFSETFROM:+0100
TZOFFSETTO:+0200
TZNAME:CEST
DTSTART:20230326T010000
END:DAYLIGHT
BEGIN:STANDARD
TZOFFSETFROM:+0200
TZOFFSETTO:+0100
TZNAME:CET
DTSTART:20231029T010000
END:STANDARD
BEGIN:DAYLIGHT
TZOFFSETFROM:+0100
TZOFFSETTO:+0200
TZNAME:CEST
DTSTART:20240331T010000
END:DAYLIGHT
BEGIN:STANDARD
TZOFFSETFROM:+0200
TZOFFSETTO:+0100
TZNAME:CET
DTSTART:20241027T010000
END:STANDARD
BEGIN:DAYLIGHT
TZOFFSETFROM:+0100
TZOFFSETTO:+0200
TZNAME:CEST
DTSTART:20250330T010000
END:DAYLIGHT
BEGIN:STANDARD
TZOFFSETFROM:+0200
TZOFFSETTO:+0100
TZNAME:CET
DTSTART:20251026T010000
END:STANDARD
END:VTIMEZONE
BEGIN:VEVENT
DTSTART;TZID=Europe/Madrid:20240224T070000
DTEND;TZID=Europe/Madrid:20240224T170000
DTSTAMP:20260419T154620
CREATED:20240201T112144Z
LAST-MODIFIED:20240201T113313Z
UID:13127-1708758000-1708794000@visitpuentegenil.es
SUMMARY:El GAN te invita a descubrir el Pico Aljibe en Cádiz.
DESCRIPTION:En febrero descubre la montaña con el Grupo de Actividades en la Naturaleza-\n\n\n\n\n\n\nNos desplazaremos a Cádiz para acometer la subida al pico más alto\, del P.N. de Los Alcornocales\, el Aljibe\, con una altitud de 1091 metros sobre el nivel del mar.\nLa ruta\, con un recorrido semicircular de 15 kilómetros y un desnivel acumulado de 728 metros\, se inicia en el área recreativa de La Sauceda\, remontando la garganta de Pasadallana en dirección al antiguo poblado de La Sauceda\, rehabilitado para el turismo rural.\nTras visitar las ruinas de su ermita nos dirigiremos hacia la laguna del Moral mientras atravesamos un impresionante bosque de alcornoques. Seguidamente ascenderemos campo a través por la Garganta del Moral\, rodeados de un umbrío bosque de laurisilva\, quejigos y alcornoques\, en dirección a Puerto Oscuro y\, posteriormente\, a la cumbre del pico Aljibe\, donde se nos ofrece una excelente panorámica de 360º del parque.\nSólo nos queda regresar\, buscando los puertos de La Moracha\, del Roble y Puerto Oscuro\, para llegar de nuevo al viejo poblado\, donde tomaremos el sendero inicial que nos conduce hasta el área recreativa de la Sauceda\, poniendo punto y final a esta espectacular ruta.\nLas inscripciones las podéis realizar por teléfono 675 308 949 o rellenando y enviando este formulario.\n\n\nInscripciones del 5 al 21 de febrero (socios una semana antes)\, con un precio de 4 € socios\, 2 € federados y 6 € los no socios \, compartiendo los participantes los gastos de desplazamiento en coche\, teniendo prevista la salida a las 7\,15 desde el parque de Santa Filomena.
URL:https://visitpuentegenil.es/evento/el-gan-te-invita-a-descubrir-el-pico-aljibe-en-cadiz/
LOCATION:Córdoba
CATEGORIES:Deportes,Montañismo,Senderismo
ATTACH;FMTTYPE=image/jpeg:https://visitpuentegenil.es/wp-content/uploads/2024/02/24-Pico-Ajibe.jpeg
ORGANIZER;CN="Grupo Actividades en la Naturaleza":MAILTO:elbuzondelgan@gmail.com
END:VEVENT
END:VCALENDAR