BEGIN:VCALENDAR
VERSION:2.0
PRODID:-//Visit Puente Genil - ECPv6.15.20//NONSGML v1.0//EN
CALSCALE:GREGORIAN
METHOD:PUBLISH
X-WR-CALNAME:Visit Puente Genil
X-ORIGINAL-URL:https://visitpuentegenil.es
X-WR-CALDESC:Eventos para Visit Puente Genil
REFRESH-INTERVAL;VALUE=DURATION:PT1H
X-Robots-Tag:noindex
X-PUBLISHED-TTL:PT1H
BEGIN:VTIMEZONE
TZID:Europe/Madrid
BEGIN:DAYLIGHT
TZOFFSETFROM:+0100
TZOFFSETTO:+0200
TZNAME:CEST
DTSTART:20210328T010000
END:DAYLIGHT
BEGIN:STANDARD
TZOFFSETFROM:+0200
TZOFFSETTO:+0100
TZNAME:CET
DTSTART:20211031T010000
END:STANDARD
BEGIN:DAYLIGHT
TZOFFSETFROM:+0100
TZOFFSETTO:+0200
TZNAME:CEST
DTSTART:20220327T010000
END:DAYLIGHT
BEGIN:STANDARD
TZOFFSETFROM:+0200
TZOFFSETTO:+0100
TZNAME:CET
DTSTART:20221030T010000
END:STANDARD
BEGIN:DAYLIGHT
TZOFFSETFROM:+0100
TZOFFSETTO:+0200
TZNAME:CEST
DTSTART:20230326T010000
END:DAYLIGHT
BEGIN:STANDARD
TZOFFSETFROM:+0200
TZOFFSETTO:+0100
TZNAME:CET
DTSTART:20231029T010000
END:STANDARD
END:VTIMEZONE
BEGIN:VEVENT
DTSTART;TZID=Europe/Madrid:20220325T130000
DTEND;TZID=Europe/Madrid:20220327T173000
DTSTAMP:20260423T135450
CREATED:20220223T125211Z
LAST-MODIFIED:20220223T125211Z
UID:10052-1648213200-1648402200@visitpuentegenil.es
SUMMARY:XVII Concentración Mototurística.
DESCRIPTION:La XVII Concentración Mototurística y la XI Feria de la Tapa se celebrará en la Caseta Municipal del 25 al 26 de marzo. \nII MEMBRIRIDE-ULTRA MEMBRIRIDE Sábado\, 26 de marzo. Caseta Municipal \n250 y 450 kilómetros aprox. respectivamente y una duración aproximada de 4’30 horas y 7’30 horas de recorrido en moto para los participantes más los avituallamientos y los puntos de sellado que serán cinco. Las inscripciones\, que están ahora mismo en torno al centenar\, son a 20 euros en el teléfono 625-407188 teniendo como fecha límite el 15 de marzo. \nESPECTÁCULO FREESTYLE – EMILIO ZAMORA Sábado\, 26 de marzo\, 21:30 \nXI FERIA DE LA TAPA Del 25 al 27 de marzo \n*Acceso gratuito \n*Gastronomía sobre ruedas \n*Actividades infantiles \nPROGRAMACIÓN DE CONCIERTOS \nViernes\, 25 de marzo \n13:00 Inauguración con música en directo \n20:30 Inmita y Toledo (mejores versiones años 70\, 80 y 90) \nSábado\, 26 de marzo \n13:00 Los Gin Tonic (rumba refrescante de la Alpujarra granadina) \n20:30 Mente Fría (rock español que no te puedes perder) \nDomingo\, 27 de marzo \n13:00 Pocojato’s Band (flamenco desde Utrera que te dejará encandilado) \nMás información 📱 625407188  📧 losmembrismotoclub@gmail.com \nInscríbete 👉 aquí 
URL:https://visitpuentegenil.es/evento/xvii-concentracion-mototuristica/
LOCATION:Caseta Municipal Puente Genil\, Puente Genil\, Córdoba\, 14500
CATEGORIES:Feria de la Tapa,Mototurismo,Reunión Mototurística,Rutas
ATTACH;FMTTYPE=image/jpeg:https://visitpuentegenil.es/wp-content/uploads/2022/02/WhatsApp-Image-2022-02-21-at-10.01.58-AM.jpeg
ORGANIZER;CN="Motoclub Los Membris":MAILTO:losmembrismotoclub@gmail.com
END:VEVENT
END:VCALENDAR