BEGIN:VCALENDAR
VERSION:2.0
PRODID:-//Visit Puente Genil - ECPv6.15.20//NONSGML v1.0//EN
CALSCALE:GREGORIAN
METHOD:PUBLISH
X-WR-CALNAME:Visit Puente Genil
X-ORIGINAL-URL:https://visitpuentegenil.es
X-WR-CALDESC:Eventos para Visit Puente Genil
REFRESH-INTERVAL;VALUE=DURATION:PT1H
X-Robots-Tag:noindex
X-PUBLISHED-TTL:PT1H
BEGIN:VTIMEZONE
TZID:Europe/Madrid
BEGIN:DAYLIGHT
TZOFFSETFROM:+0100
TZOFFSETTO:+0200
TZNAME:CEST
DTSTART:20240331T010000
END:DAYLIGHT
BEGIN:STANDARD
TZOFFSETFROM:+0200
TZOFFSETTO:+0100
TZNAME:CET
DTSTART:20241027T010000
END:STANDARD
BEGIN:DAYLIGHT
TZOFFSETFROM:+0100
TZOFFSETTO:+0200
TZNAME:CEST
DTSTART:20250330T010000
END:DAYLIGHT
BEGIN:STANDARD
TZOFFSETFROM:+0200
TZOFFSETTO:+0100
TZNAME:CET
DTSTART:20251026T010000
END:STANDARD
BEGIN:DAYLIGHT
TZOFFSETFROM:+0100
TZOFFSETTO:+0200
TZNAME:CEST
DTSTART:20260329T010000
END:DAYLIGHT
BEGIN:STANDARD
TZOFFSETFROM:+0200
TZOFFSETTO:+0100
TZNAME:CET
DTSTART:20261025T010000
END:STANDARD
END:VTIMEZONE
BEGIN:VEVENT
DTSTART;TZID=Europe/Madrid:20250516T140000
DTEND;TZID=Europe/Madrid:20250518T170000
DTSTAMP:20260419T152924
CREATED:20250514T075027Z
LAST-MODIFIED:20250515T112624Z
UID:15823-1747404000-1747587600@visitpuentegenil.es
SUMMARY:¡Ven a disfrutar de las Cruces a Puente Genil!
DESCRIPTION:Sí\, sí. No es ningún error. Tenemos un mayo taaaaaaaan festivo que las Cruces de Mayo son el tercer fin de semana del mes. \nTodo preparado para un  fin de semana diferente en Puente Genil con un ambiente espectacular y 19 cruces de mayo para visitar. ¿Te lo vas a perder?🧐 \nDescarga el listado de las Cruces participantes aquí 👇 \nDescarga el plano con las Cruces participantes. \n¡Ven a disfrutar con nosotros! ¡Te esperamos!🤗🤗🤗 \n📌Puente Genil\n📅16\, 17 y 18 de mayo.
URL:https://visitpuentegenil.es/evento/ven-a-disfrutar-de-las-cruces-a-puente-genil/
LOCATION:PUENTE GENIL\, Puente Genil\, CÓRDOBA\, 14500
CATEGORIES:Cruces de Mayo,Festividad,Tradiciones
ATTACH;FMTTYPE=image/jpeg:https://visitpuentegenil.es/wp-content/uploads/2025/04/Cruces-de-Mayo-2025-Cartel.jpg
ORGANIZER;CN="Delegaci%C3%B3n de Festejos":MAILTO:festejos@aytopuentegenil.es
END:VEVENT
BEGIN:VEVENT
DTSTART;TZID=Europe/Madrid:20250530T120000
DTEND;TZID=Europe/Madrid:20250531T120000
DTSTAMP:20260419T152924
CREATED:20250527T080042Z
LAST-MODIFIED:20250527T080328Z
UID:15975-1748606400-1748692800@visitpuentegenil.es
SUMMARY:Misa de Romeros y Salida 2025
DESCRIPTION:Un año más la Hermandad de Ntra. Sra. del Rocío organiza la Misa de Romeros en honor a su Titular. \nEl viernes 30 de mayo a las 12:00 horas comenzará con el rezo al Ángelus en la Parroquia de Santiago con niños de diferentes colegios locales. \nA las 21:00 horas se hará una misa en la Parroquia de San José por el 375º Aniversario del Patronazgo de la Purísima Concepción. Para finalizar la jornada\, a las 21:30 horas\, en el Molino el Marqués\, se celebrará una noche de camino donde estará invitado todo el pueblo. \nEl sábado 31 de mayo a las 9:00 horas se realizará la tradicional Misa de Romeros. Acompañará el coro rociero “Amigos de San Isidro”. \nSe finalizará el sábado 7 de junio en la Aldea del Rocío a las 20:00 horas con la presentación ante la Virgen del Rocío. Posteriormente se dará comienzo a la fiesta de convivencia de fin de camino.
URL:https://visitpuentegenil.es/evento/misa-de-romeros-y-salida-2025/
LOCATION:PUENTE GENIL\, Puente Genil\, CÓRDOBA\, 14500
CATEGORIES:Festividad,Romería
ATTACH;FMTTYPE=image/jpeg:https://visitpuentegenil.es/wp-content/uploads/2025/05/Misa-de-Romeros-2025.jpg
ORGANIZER;CN="Hermandad del Roc%C3%ADo de Puente Genil":MAILTO:hermandaddelrociodepuentegenil@gmail.com
END:VEVENT
END:VCALENDAR