BEGIN:VCALENDAR
VERSION:2.0
PRODID:-//Visit Puente Genil - ECPv6.15.20//NONSGML v1.0//EN
CALSCALE:GREGORIAN
METHOD:PUBLISH
X-ORIGINAL-URL:https://visitpuentegenil.es
X-WR-CALDESC:Eventos para Visit Puente Genil
REFRESH-INTERVAL;VALUE=DURATION:PT1H
X-Robots-Tag:noindex
X-PUBLISHED-TTL:PT1H
BEGIN:VTIMEZONE
TZID:Europe/Madrid
BEGIN:DAYLIGHT
TZOFFSETFROM:+0100
TZOFFSETTO:+0200
TZNAME:CEST
DTSTART:20240331T010000
END:DAYLIGHT
BEGIN:STANDARD
TZOFFSETFROM:+0200
TZOFFSETTO:+0100
TZNAME:CET
DTSTART:20241027T010000
END:STANDARD
BEGIN:DAYLIGHT
TZOFFSETFROM:+0100
TZOFFSETTO:+0200
TZNAME:CEST
DTSTART:20250330T010000
END:DAYLIGHT
BEGIN:STANDARD
TZOFFSETFROM:+0200
TZOFFSETTO:+0100
TZNAME:CET
DTSTART:20251026T010000
END:STANDARD
BEGIN:DAYLIGHT
TZOFFSETFROM:+0100
TZOFFSETTO:+0200
TZNAME:CEST
DTSTART:20260329T010000
END:DAYLIGHT
BEGIN:STANDARD
TZOFFSETFROM:+0200
TZOFFSETTO:+0100
TZNAME:CET
DTSTART:20261025T010000
END:STANDARD
END:VTIMEZONE
BEGIN:VEVENT
DTSTART;TZID=Europe/Madrid:20250627T220000
DTEND;TZID=Europe/Madrid:20250629T160000
DTSTAMP:20260419T185930
CREATED:20250623T120757Z
LAST-MODIFIED:20250623T120757Z
UID:16231-1751061600-1751212800@visitpuentegenil.es
SUMMARY:Grandes Fiestas de Sotogordo en honor de San Pedro
DESCRIPTION:Los días 27\, 28 y 29 de junio Sotogordo celebra sus Grandes Fiestas en honor de San Pedro. \nDurante estos días disfrutaremos  de la procesión de San Pedro\, coronación de las reinas de las fiestas\, juegos populares\, degustación de salmorejo cordobés\, concursos varios\, fiesta del agua y tobogán acuático…todo ello acompañado por el concierto de Pop Grasa\, DJ Pichu y DJ Victor Rodríguez el sábado 28 de junio. \n¡Acércate y disfruta de nuestras Grandes Fiestas\, te esperamos! \n📌 Aldea de Sotogordo\n📅 Viernes 27\, sábado 28 y domingo 29 de junio
URL:https://visitpuentegenil.es/evento/grandes-fiestas-de-sotogordo-en-honor-de-san-pedro/
LOCATION:Aldea de Sotogordo\, Puente Genil\, Córdoba\, 14500\, España
CATEGORIES:Aldeas,Festividad,Fiesta,Música,Verbenas
ATTACH;FMTTYPE=image/jpeg:https://visitpuentegenil.es/wp-content/uploads/2025/06/fiestas-de-sotogordo-1.jpg
END:VEVENT
END:VCALENDAR