BEGIN:VCALENDAR
VERSION:2.0
PRODID:-//Visit Puente Genil - ECPv6.15.20//NONSGML v1.0//EN
CALSCALE:GREGORIAN
METHOD:PUBLISH
X-ORIGINAL-URL:https://visitpuentegenil.es
X-WR-CALDESC:Eventos para Visit Puente Genil
REFRESH-INTERVAL;VALUE=DURATION:PT1H
X-Robots-Tag:noindex
X-PUBLISHED-TTL:PT1H
BEGIN:VTIMEZONE
TZID:Europe/Madrid
BEGIN:DAYLIGHT
TZOFFSETFROM:+0100
TZOFFSETTO:+0200
TZNAME:CEST
DTSTART:20190331T010000
END:DAYLIGHT
BEGIN:STANDARD
TZOFFSETFROM:+0200
TZOFFSETTO:+0100
TZNAME:CET
DTSTART:20191027T010000
END:STANDARD
BEGIN:DAYLIGHT
TZOFFSETFROM:+0100
TZOFFSETTO:+0200
TZNAME:CEST
DTSTART:20200329T010000
END:DAYLIGHT
BEGIN:STANDARD
TZOFFSETFROM:+0200
TZOFFSETTO:+0100
TZNAME:CET
DTSTART:20201025T010000
END:STANDARD
BEGIN:DAYLIGHT
TZOFFSETFROM:+0100
TZOFFSETTO:+0200
TZNAME:CEST
DTSTART:20210328T010000
END:DAYLIGHT
BEGIN:STANDARD
TZOFFSETFROM:+0200
TZOFFSETTO:+0100
TZNAME:CET
DTSTART:20211031T010000
END:STANDARD
END:VTIMEZONE
BEGIN:VEVENT
DTSTART;TZID=Europe/Madrid:20200208T100000
DTEND;TZID=Europe/Madrid:20200208T140000
DTSTAMP:20260422T095553
CREATED:20200204T122538Z
LAST-MODIFIED:20200204T122653Z
UID:7621-1581156000-1581170400@visitpuentegenil.es
SUMMARY:Pintura mural\, talleres\, actividades y diversión.
DESCRIPTION:¡Salve! \nEste sábado 8 de febrero\, ven a la Villa Romana de #PuenteGenil y descubre como los romanos decoraban las paredes con pintura mural.\nPrecio: 10 € (incluye materiales y desayuno). Plazas limitadas.\nInfo: 📞957 605 034 ext. 0380\n🖲puentegenil@tuhistoria.org \n¡Nos vamos a divertir de lo lindo!
URL:https://visitpuentegenil.es/evento/7621/
LOCATION:Villa Romana de Fuente Álamo\, cv-297 km 3\, Puente Genil\, Córdoba\, 14500\, España
CATEGORIES:Actividades infantiles,Arqueología,Pintura
ATTACH;FMTTYPE=image/jpeg:https://visitpuentegenil.es/wp-content/uploads/2020/02/8-Cartel-taller-pintura-mural.jpg
ORGANIZER;CN="Puente Genil Tu historia":MAILTO:puentegenil@tuhistoria.org
END:VEVENT
BEGIN:VEVENT
DTSTART;TZID=Europe/Madrid:20200220T100000
DTEND;TZID=Europe/Madrid:20200301T210000
DTSTAMP:20260422T095553
CREATED:20200131T123628Z
LAST-MODIFIED:20200131T123628Z
UID:7478-1582192800-1583096400@visitpuentegenil.es
SUMMARY:Exposición de pintura al óleo del Antonio Rodríguez.
DESCRIPTION: Antonio Rodríguez expondrá su pintura al óleo del 20 de febrero al 1 de marzo en la Casa de la Cultura “Alcalde Manuel Baena Jiménez.” \nLa exposición podrá visitarse de 10:00 a 14:00 horas y de 18:00 a 21:00 horas. \n¡No te la pierdas!
URL:https://visitpuentegenil.es/evento/exposicion-de-pintura-al-oleo-del-antonio-rodriguez/
LOCATION:Casa de la Cultura\, Calle Cruz del Estudiante\, 35\, Puente Genil\, Córdoba\, 14500\, España
CATEGORIES:Exposiciones,Pintura
ATTACH;FMTTYPE=image/jpeg:https://visitpuentegenil.es/wp-content/uploads/2020/01/20_exposicion_antonio_rodriguez.jpeg
END:VEVENT
END:VCALENDAR