BEGIN:VCALENDAR
VERSION:2.0
PRODID:-//Visit Puente Genil - ECPv6.15.20//NONSGML v1.0//EN
CALSCALE:GREGORIAN
METHOD:PUBLISH
X-WR-CALNAME:Visit Puente Genil
X-ORIGINAL-URL:https://visitpuentegenil.es
X-WR-CALDESC:Eventos para Visit Puente Genil
REFRESH-INTERVAL;VALUE=DURATION:PT1H
X-Robots-Tag:noindex
X-PUBLISHED-TTL:PT1H
BEGIN:VTIMEZONE
TZID:Europe/Madrid
BEGIN:DAYLIGHT
TZOFFSETFROM:+0100
TZOFFSETTO:+0200
TZNAME:CEST
DTSTART:20190331T010000
END:DAYLIGHT
BEGIN:STANDARD
TZOFFSETFROM:+0200
TZOFFSETTO:+0100
TZNAME:CET
DTSTART:20191027T010000
END:STANDARD
BEGIN:DAYLIGHT
TZOFFSETFROM:+0100
TZOFFSETTO:+0200
TZNAME:CEST
DTSTART:20200329T010000
END:DAYLIGHT
BEGIN:STANDARD
TZOFFSETFROM:+0200
TZOFFSETTO:+0100
TZNAME:CET
DTSTART:20201025T010000
END:STANDARD
BEGIN:DAYLIGHT
TZOFFSETFROM:+0100
TZOFFSETTO:+0200
TZNAME:CEST
DTSTART:20210328T010000
END:DAYLIGHT
BEGIN:STANDARD
TZOFFSETFROM:+0200
TZOFFSETTO:+0100
TZNAME:CET
DTSTART:20211031T010000
END:STANDARD
END:VTIMEZONE
BEGIN:VEVENT
DTSTART;TZID=Europe/Madrid:20200304T100000
DTEND;TZID=Europe/Madrid:20200329T210000
DTSTAMP:20260422T112754
CREATED:20200303T103722Z
LAST-MODIFIED:20200303T103722Z
UID:7696-1583316000-1585515600@visitpuentegenil.es
SUMMARY:Exposición de pintura y escultura “Cromatología 3.5"
DESCRIPTION:“Cromatología 3.5\,” del artista José Ángel González Díaz podrá visitarse de 10 a 14  y de 18 a 21 horas en la Casa de la Cultura “Manuel Baena Jiménez\,” del 4 al 29 de marzo. \n\n\n\n\nEs una serie de obras pictóricas y escultóricas creadas utilizando la técnica estereoscópica Chromadepth (visualización 3D). Con esta técnica el espectador se verá envuelto en una experiencia visual tridimensional innovadora. Y puede observar por medio de unas gafas específicas las distintas pinturas y esculturas\, donde formas y color toman protagonismo sumergiendo al público en la historia que cuenta el proyecto. \n  \n 
URL:https://visitpuentegenil.es/evento/exposicion-de-pintura-y-escultura-cromatologia-3-5/
LOCATION:Casa de la Cultura\, Calle Cruz del Estudiante\, 35\, Puente Genil\, Córdoba\, 14500\, España
CATEGORIES:Exposiciones,Pintura
ATTACH;FMTTYPE=image/jpeg:https://visitpuentegenil.es/wp-content/uploads/2020/03/4-29_cromatologia.jpg
END:VEVENT
END:VCALENDAR