BEGIN:VCALENDAR
VERSION:2.0
PRODID:-//Visit Puente Genil - ECPv6.15.20//NONSGML v1.0//EN
CALSCALE:GREGORIAN
METHOD:PUBLISH
X-WR-CALNAME:Visit Puente Genil
X-ORIGINAL-URL:https://visitpuentegenil.es
X-WR-CALDESC:Eventos para Visit Puente Genil
REFRESH-INTERVAL;VALUE=DURATION:PT1H
X-Robots-Tag:noindex
X-PUBLISHED-TTL:PT1H
BEGIN:VTIMEZONE
TZID:Europe/Madrid
BEGIN:DAYLIGHT
TZOFFSETFROM:+0100
TZOFFSETTO:+0200
TZNAME:CEST
DTSTART:20200329T010000
END:DAYLIGHT
BEGIN:STANDARD
TZOFFSETFROM:+0200
TZOFFSETTO:+0100
TZNAME:CET
DTSTART:20201025T010000
END:STANDARD
BEGIN:DAYLIGHT
TZOFFSETFROM:+0100
TZOFFSETTO:+0200
TZNAME:CEST
DTSTART:20210328T010000
END:DAYLIGHT
BEGIN:STANDARD
TZOFFSETFROM:+0200
TZOFFSETTO:+0100
TZNAME:CET
DTSTART:20211031T010000
END:STANDARD
BEGIN:DAYLIGHT
TZOFFSETFROM:+0100
TZOFFSETTO:+0200
TZNAME:CEST
DTSTART:20220327T010000
END:DAYLIGHT
BEGIN:STANDARD
TZOFFSETFROM:+0200
TZOFFSETTO:+0100
TZNAME:CET
DTSTART:20221030T010000
END:STANDARD
END:VTIMEZONE
BEGIN:VEVENT
DTSTART;TZID=Europe/Madrid:20211109T080000
DTEND;TZID=Europe/Madrid:20211109T170000
DTSTAMP:20260421T200911
CREATED:20211109T090153Z
LAST-MODIFIED:20211109T090153Z
UID:9775-1636444800-1636477200@visitpuentegenil.es
SUMMARY:Exposición de Pinturas de Ginés Liébana.
DESCRIPTION:La Asociación Cultural Poética y el Ayuntamiento de Puente Genil traen una extraordinaria exposición del pintor y escritor\, miembro del Grupo Cántico: Ginés Liébana. \n📌 Casa de la Cultura “Alcalde Manuel Baena Jiménez”. \n📅 Del 8 de noviembre al 3 de diciembre.  \n⏰ en horario de 10:00h a 14:00h y de 19:30h a 21:00h. \n  \n 
URL:https://visitpuentegenil.es/evento/exposicion-de-pinturas-de-gines-liebana/
LOCATION:Casa de la Cultura\, Calle Cruz del Estudiante\, 35\, Puente Genil\, Córdoba\, 14500\, España
CATEGORIES:Exposiciones,Pintura
ATTACH;FMTTYPE=image/jpeg:https://visitpuentegenil.es/wp-content/uploads/2021/11/8-EXPO-GINES-LIEBANA.jpg
END:VEVENT
END:VCALENDAR