BEGIN:VCALENDAR
VERSION:2.0
PRODID:-//Visit Puente Genil - ECPv6.15.20//NONSGML v1.0//EN
CALSCALE:GREGORIAN
METHOD:PUBLISH
X-WR-CALNAME:Visit Puente Genil
X-ORIGINAL-URL:https://visitpuentegenil.es
X-WR-CALDESC:Eventos para Visit Puente Genil
REFRESH-INTERVAL;VALUE=DURATION:PT1H
X-Robots-Tag:noindex
X-PUBLISHED-TTL:PT1H
BEGIN:VTIMEZONE
TZID:Europe/Madrid
BEGIN:DAYLIGHT
TZOFFSETFROM:+0100
TZOFFSETTO:+0200
TZNAME:CEST
DTSTART:20180325T010000
END:DAYLIGHT
BEGIN:STANDARD
TZOFFSETFROM:+0200
TZOFFSETTO:+0100
TZNAME:CET
DTSTART:20181028T010000
END:STANDARD
BEGIN:DAYLIGHT
TZOFFSETFROM:+0100
TZOFFSETTO:+0200
TZNAME:CEST
DTSTART:20190331T010000
END:DAYLIGHT
BEGIN:STANDARD
TZOFFSETFROM:+0200
TZOFFSETTO:+0100
TZNAME:CET
DTSTART:20191027T010000
END:STANDARD
BEGIN:DAYLIGHT
TZOFFSETFROM:+0100
TZOFFSETTO:+0200
TZNAME:CEST
DTSTART:20200329T010000
END:DAYLIGHT
BEGIN:STANDARD
TZOFFSETFROM:+0200
TZOFFSETTO:+0100
TZNAME:CET
DTSTART:20201025T010000
END:STANDARD
END:VTIMEZONE
BEGIN:VEVENT
DTSTART;TZID=Europe/Madrid:20190706T220000
DTEND;TZID=Europe/Madrid:20190707T220000
DTSTAMP:20260422T223034
CREATED:20190630T225908Z
LAST-MODIFIED:20190628T114533Z
UID:6612-1562450400-1562536800@visitpuentegenil.es
SUMMARY:Comienza #NochesenlaVilla2019 con la visita teatralizada de "Pontanas de Teatro."
DESCRIPTION:El próximo fin de semana ven a conocer el yacimiento arqueológico de la Villa Romana de Fuente Álamo la séptima edición de #NochesenlaVilla comenzará con la visita teatralizada “Fuente Álamo: Historia\,” a cargo de la Asociación “Pontanas de Teatro.” \nComenzaremos a las 22:00h. Debes reservar tu plaza previamente clicando aquí. \n¡Vamos a divertirnos! ¡Os esperamos!
URL:https://visitpuentegenil.es/evento/comienza-nochesenlavilla2019-con-la-visita-teatralizada-de-pontanas-de-teatro/
LOCATION:Villa Romana de Fuente Álamo\, cv-297 km 3\, Puente Genil\, Córdoba\, 14500\, España
CATEGORIES:Arqueología,Teatro
ATTACH;FMTTYPE=image/jpeg:https://visitpuentegenil.es/wp-content/uploads/2019/06/6-7-NEV19-VISITA-TEATRALIZADA-Pontanas-de-Teatro.jpg
END:VEVENT
BEGIN:VEVENT
DTSTART;TZID=Europe/Madrid:20190713T220000
DTEND;TZID=Europe/Madrid:20190713T233000
DTSTAMP:20260422T223034
CREATED:20190707T061624Z
LAST-MODIFIED:20190702T111814Z
UID:6618-1563055200-1563060600@visitpuentegenil.es
SUMMARY:Un homenaje a las Sinsombrero en #NochesenlaVilla2019.
DESCRIPTION:El sábado 13 de julio en el yacimiento arqueológico de la Villa Romana de Fuente Álamo #NochesenlaVilla contará con la puesta en escena de la obra “Las mujeres del 27\,” a cargo de la Asociación Cultura y Progreso de Aguilar de la Frontera\, con la dirección y coordinación de la Asociación Cultural Poética de Puente Genil. \nComenzaremos a las 22:00h. Debes reservar tu plaza previamente clicando aquí. \n¡Vamos a divertirnos! ¡Os esperamos!
URL:https://visitpuentegenil.es/evento/lasmujeresdel27/
LOCATION:Villa Romana de Fuente Álamo\, cv-297 km 3\, Puente Genil\, Córdoba\, 14500\, España
CATEGORIES:Arqueología,Teatro
ATTACH;FMTTYPE=image/jpeg:https://visitpuentegenil.es/wp-content/uploads/2019/07/13-NEV19-CARTEL-LAS-MUJERES-DEL-27.jpg
END:VEVENT
BEGIN:VEVENT
DTSTART;TZID=Europe/Madrid:20190719T213000
DTEND;TZID=Europe/Madrid:20190720T003000
DTSTAMP:20260422T223034
CREATED:20190715T065247Z
LAST-MODIFIED:20190715T083156Z
UID:6677-1563571800-1563582600@visitpuentegenil.es
SUMMARY:El XII Festival Lírico de Puente Genil presenta la Zarzuela Gigantes y Cabezudos.
DESCRIPTION:La representación de la zarzuela ‘Gigantes y Cabezudos’\, el próximo viernes 19 de julio (21\,30 horas)\, en el Teatro Circo\, a cargo de la compañía Teatro Lírico Andaluz\, será el segundo de los espectáculos del XII Festival Lírico de Puente Genil\, gran evento musical anual organizado por la Asociación Cultural “Amigos de la Música”\, en colaboración con la delegación municipal de Cultura del Ayuntamiento de Puente Genil. \nEsta zarzuela\, cuya música es ‘deliciosa’\, es una apoteosis de la jota con números tan populares como ‘Anda ve y dile al Alcalde’\, ‘Si las mujeres mandasen’\, ‘Por ver a la Pilarica’\, la elegante romanza de la carta\, la salve final y\, sobre todo\, el celebérrimo coro de repatriados. Entre las más famosas y populares composiciones del género chico\, ‘Gigantes y cabezudos’ marcó profundamente el desarrollo del género zarzuelístico en los años que la sucedieron. \nInformación y reservas: 617 453 061 . \n\n\n\nEntrada numerada: 15 euros
URL:https://visitpuentegenil.es/evento/el-xii-festival-lirico-de-puente-genil-abre-con-la-zarzuela-gigantes-y-cabezudos/
LOCATION:Teatro Circo\, C/ Jesús\, s/n\, Puente Genil\, Córdoba\, 14500\, España
CATEGORIES:Música,Teatro
ATTACH;FMTTYPE=image/jpeg:https://visitpuentegenil.es/wp-content/uploads/2019/07/19-zarzuela-bueno.jpg
END:VEVENT
END:VCALENDAR