BEGIN:VCALENDAR
VERSION:2.0
PRODID:-//Visit Puente Genil - ECPv6.15.20//NONSGML v1.0//EN
CALSCALE:GREGORIAN
METHOD:PUBLISH
X-ORIGINAL-URL:https://visitpuentegenil.es
X-WR-CALDESC:Eventos para Visit Puente Genil
REFRESH-INTERVAL;VALUE=DURATION:PT1H
X-Robots-Tag:noindex
X-PUBLISHED-TTL:PT1H
BEGIN:VTIMEZONE
TZID:Europe/Madrid
BEGIN:DAYLIGHT
TZOFFSETFROM:+0100
TZOFFSETTO:+0200
TZNAME:CEST
DTSTART:20190331T010000
END:DAYLIGHT
BEGIN:STANDARD
TZOFFSETFROM:+0200
TZOFFSETTO:+0100
TZNAME:CET
DTSTART:20191027T010000
END:STANDARD
BEGIN:DAYLIGHT
TZOFFSETFROM:+0100
TZOFFSETTO:+0200
TZNAME:CEST
DTSTART:20200329T010000
END:DAYLIGHT
BEGIN:STANDARD
TZOFFSETFROM:+0200
TZOFFSETTO:+0100
TZNAME:CET
DTSTART:20201025T010000
END:STANDARD
BEGIN:DAYLIGHT
TZOFFSETFROM:+0100
TZOFFSETTO:+0200
TZNAME:CEST
DTSTART:20210328T010000
END:DAYLIGHT
BEGIN:STANDARD
TZOFFSETFROM:+0200
TZOFFSETTO:+0100
TZNAME:CET
DTSTART:20211031T010000
END:STANDARD
END:VTIMEZONE
BEGIN:VEVENT
DTSTART;TZID=Europe/Madrid:20200201T193000
DTEND;TZID=Europe/Madrid:20200201T223000
DTSTAMP:20260422T020955
CREATED:20200128T131323Z
LAST-MODIFIED:20200128T131323Z
UID:7320-1580585400-1580596200@visitpuentegenil.es
SUMMARY:Teatro: ¡Mamá!
DESCRIPTION:El grupo de teatro La Sabika presenta ¡Mamá! a beneficio de la Asociación de Voluntarios de Acción Social (AVAS). \nTeatro Circo el día 1 de febrero\, a las 19:30 horas. \nLa obra\, no recomendada para menores de 16 años\, es una adaptación de la obra de Jordi Sánchez y José Antonio Gómez. \nEntradas: 5 euros. \nInformación y venta anticipada: Asociación AVAS. Calle Modesto Carmona\, 4-1º planta.
URL:https://visitpuentegenil.es/evento/teatro-mama/
LOCATION:Teatro Circo\, C/ Jesús\, s/n\, Puente Genil\, Córdoba\, 14500\, España
CATEGORIES:Teatro
ATTACH;FMTTYPE=image/jpeg:https://visitpuentegenil.es/wp-content/uploads/2020/01/1-Teatro-Mamá.jpg
END:VEVENT
BEGIN:VEVENT
DTSTART;TZID=Europe/Madrid:20200207T213000
DTEND;TZID=Europe/Madrid:20200207T233000
DTSTAMP:20260422T020955
CREATED:20200122T105137Z
LAST-MODIFIED:20200122T105222Z
UID:7307-1581111000-1581118200@visitpuentegenil.es
SUMMARY:Teatro: ¡El último que apague la luz!
DESCRIPTION:“El último que apague la luz“\, Premio Nacional a la Mejor Obra de Humor en 2010\, está de gira para rendir un tributo al cómico español de la mano de su hija\, Emma Ozores\, que quiere mostrar “el humor surrealista al que dedicó su vida Antonio Ozores y hacer reír a todos los pueblos de España”. \nPodréis verla el próximo 7 de febrero en el Teatro Circo\, a las 21:30 h. \nUna comedia para todos los públicos que presenta la compañía de Teatro Birocos\,  con la actuación de Emma Ozores y Juan Anillo. \nEntrada anticipada 14 €\, en taquilla 16€ \nInformación y venta: 617453061\nOrganiza: Birocos\, S.L.\nColabora: Delegación de Cultura. Ayuntamiento de Puente Genil
URL:https://visitpuentegenil.es/evento/teatro-el-ultimo-que-apague-la-luz/
LOCATION:Teatro Circo\, C/ Jesús\, s/n\, Puente Genil\, Córdoba\, 14500\, España
CATEGORIES:Comedia,Teatro
ATTACH;FMTTYPE=image/jpeg:https://visitpuentegenil.es/wp-content/uploads/2020/01/2020-02-07_el_ultimo_que_apague_la_luz.jpeg
END:VEVENT
END:VCALENDAR