BEGIN:VCALENDAR
VERSION:2.0
PRODID:-//Visit Puente Genil - ECPv6.15.20//NONSGML v1.0//EN
CALSCALE:GREGORIAN
METHOD:PUBLISH
X-ORIGINAL-URL:https://visitpuentegenil.es
X-WR-CALDESC:Eventos para Visit Puente Genil
REFRESH-INTERVAL;VALUE=DURATION:PT1H
X-Robots-Tag:noindex
X-PUBLISHED-TTL:PT1H
BEGIN:VTIMEZONE
TZID:Europe/Madrid
BEGIN:DAYLIGHT
TZOFFSETFROM:+0100
TZOFFSETTO:+0200
TZNAME:CEST
DTSTART:20180325T010000
END:DAYLIGHT
BEGIN:STANDARD
TZOFFSETFROM:+0200
TZOFFSETTO:+0100
TZNAME:CET
DTSTART:20181028T010000
END:STANDARD
BEGIN:DAYLIGHT
TZOFFSETFROM:+0100
TZOFFSETTO:+0200
TZNAME:CEST
DTSTART:20190331T010000
END:DAYLIGHT
BEGIN:STANDARD
TZOFFSETFROM:+0200
TZOFFSETTO:+0100
TZNAME:CET
DTSTART:20191027T010000
END:STANDARD
BEGIN:DAYLIGHT
TZOFFSETFROM:+0100
TZOFFSETTO:+0200
TZNAME:CEST
DTSTART:20200329T010000
END:DAYLIGHT
BEGIN:STANDARD
TZOFFSETFROM:+0200
TZOFFSETTO:+0100
TZNAME:CET
DTSTART:20201025T010000
END:STANDARD
END:VTIMEZONE
BEGIN:VEVENT
DTSTART;TZID=Europe/Madrid:20190407T193000
DTEND;TZID=Europe/Madrid:20190407T210000
DTSTAMP:20260423T055815
CREATED:20190405T162756Z
LAST-MODIFIED:20190405T162756Z
UID:4918-1554665400-1554670800@visitpuentegenil.es
SUMMARY:Charo Reina canta en el Teatro Circo
DESCRIPTION:El Teatro Circo acogerá el domingo 7 de abril\, a partir de las 19:30 horas\, una actuación a cargo de la conocida cantante y actriz Charo Reina\, con la colaboración especial de Daniel Matas al piano\, para interpretar canciones de coplas y boleros\, concierto que contará con la participación de la pontana Carmen Cabezas como artista invitada\, evento organizado por la Delegación Municipal de Festejos del Ayuntamiento de Puente Genil. \nVenta anticipada de entradas en Casa Ciudadana\, y en taquilla el mismo día del espectáculo.\n12 euros anticipada y 15 euros en taquilla
URL:https://visitpuentegenil.es/evento/charo-reina-canta-en-el-teatro-circo/
LOCATION:Teatro Circo de Puente Genil\, Calle Jesús\, 0\, Puente Genil\, Córdoba\, 14500\, Spain
CATEGORIES:Teatro
ATTACH;FMTTYPE=image/jpeg:https://visitpuentegenil.es/wp-content/uploads/2019/04/7-cartel_del_espectaculo_de_charo_reina.jpg
ORGANIZER;CN="Delegaci%C3%B3n Municipal de Festejos del Ayuntamiento de Puente Genil":MAILTO:festejos@aytopuentegenil.es
END:VEVENT
END:VCALENDAR