BEGIN:VCALENDAR
VERSION:2.0
PRODID:-//Visit Puente Genil - ECPv6.15.20//NONSGML v1.0//EN
CALSCALE:GREGORIAN
METHOD:PUBLISH
X-WR-CALNAME:Visit Puente Genil
X-ORIGINAL-URL:https://visitpuentegenil.es
X-WR-CALDESC:Eventos para Visit Puente Genil
REFRESH-INTERVAL;VALUE=DURATION:PT1H
X-Robots-Tag:noindex
X-PUBLISHED-TTL:PT1H
BEGIN:VTIMEZONE
TZID:Europe/Madrid
BEGIN:DAYLIGHT
TZOFFSETFROM:+0100
TZOFFSETTO:+0200
TZNAME:CEST
DTSTART:20180325T010000
END:DAYLIGHT
BEGIN:STANDARD
TZOFFSETFROM:+0200
TZOFFSETTO:+0100
TZNAME:CET
DTSTART:20181028T010000
END:STANDARD
BEGIN:DAYLIGHT
TZOFFSETFROM:+0100
TZOFFSETTO:+0200
TZNAME:CEST
DTSTART:20190331T010000
END:DAYLIGHT
BEGIN:STANDARD
TZOFFSETFROM:+0200
TZOFFSETTO:+0100
TZNAME:CET
DTSTART:20191027T010000
END:STANDARD
BEGIN:DAYLIGHT
TZOFFSETFROM:+0100
TZOFFSETTO:+0200
TZNAME:CEST
DTSTART:20200329T010000
END:DAYLIGHT
BEGIN:STANDARD
TZOFFSETFROM:+0200
TZOFFSETTO:+0100
TZNAME:CET
DTSTART:20201025T010000
END:STANDARD
END:VTIMEZONE
BEGIN:VEVENT
DTSTART;TZID=Europe/Madrid:20191004T120000
DTEND;TZID=Europe/Madrid:20191013T235900
DTSTAMP:20260422T190915
CREATED:20190923T080047Z
LAST-MODIFIED:20190923T175422Z
UID:6918-1570190400-1571011140@visitpuentegenil.es
SUMMARY:Tres comedias\, un drama y un musical en la XIII Muestra de Teatro Amateur “La Puente.”
DESCRIPTION:La Asociación de Teatro Pontan@s\, en colaboración con la concejalía de Cultura\, organiza la XIII Muestra de Teatro Amateur “La Puente.” \nDurante los días 4\, 5\, 6\, 11\, 12 y 13 de octubre de 2019\, a partir de las 20:00 horas\, en el Teatro Circo cinco compañías procedentes Córdoba y Sevilla pondrán en escena tres comedias\, un drama y un musical. \nPrograma \n* Día 4: El Zapato de Cristal\, de La Barbarie Teatro (Sevilla)\n* Día 5: Milagro en el convento de Santa María Juana\, del grupo Amistades (Córdoba)\n* Día 6: Morena Clara\, de Scaparteatro (Sevilla)\n* Día 11: Las Heridas del Viento\, de Aquí y AhoraTeatro. (Córdoba)\n* Día 12: El Tonto es un Sabio\, de MM Teatro (Sevilla)\n* Día 13: GALA DE CLAUSURA Y ENTREGA DE PREMIOS \nDonativo: 5 euros
URL:https://visitpuentegenil.es/evento/tres-comedias-un-drama-y-un-musical-en-la-xiii-muestra-de-teatro-amateur-la-puente/
LOCATION:Teatro Circo\, C/ Jesús\, s/n\, Puente Genil\, Córdoba\, 14500\, España
CATEGORIES:Teatro
ATTACH;FMTTYPE=image/jpeg:https://visitpuentegenil.es/wp-content/uploads/2019/09/4-13-XIII-Muestra-de-Teatro-Amateur-LA-Puente.jpg
ORGANIZER;CN="Asociaci%C3%B3n de Teatro Pontanas":MAILTO:pontanasdeteatro@gmail.com
END:VEVENT
END:VCALENDAR